{"text_format":"1","workbook":"xlsx","n_sheets":7,"sheets":["Dashboard1","Dashboard2","Calculation2","Calculation1","Data1","Data2","Valuation"],"not_rendered":{"charts":18,"images":0,"macros":0,"external_links":14,"defined_names":2,"comments":0,"pivot_tables":0},"unopened":[],"bounds":{"document_bytes":16777216,"sheet_cells":100000,"rows_first":2000,"rows_last":500,"rows_between":2000,"halvings":0,"cell_chars":16384,"cell_head_chars":4096},"cells_cut":0,"cells_raw":0,"read":"whole","date_system":"1900"}

{"sheet":"Dashboard1","index":0,"n_rows":31,"n_cols":28,"rows_kept":31,"cut":false,"hidden":false,"merged":[[4,3,5,3],[30,2,30,9],[1,2,1,27],[3,2,3,3],[3,4,3,6],[3,7,3,9],[3,10,3,12],[3,13,3,15],[3,16,3,18],[3,19,3,21],[3,22,3,24],[3,25,3,27]]}
[]
[null,null,"Price-Value Dashboard - Relationships"]
[]
[null,null,null,null,{"$f":"Data1!E11","v":"Financial Score"},null,null,{"$f":"Data1!F11","v":"ROE "},null,null,{"$f":"Data1!G11","v":"ROA"},null,null,{"$f":"Data1!H11","v":"EPS growth 5 Yr."},null,null,{"$f":"Data1!I11","v":"EPS growth 10 Yr."},null,null,{"$f":"Data1!J11","v":"NP margin "},null,null,{"$f":"Data1!K11","v":"Sales growth 5 Yr."},null,null,{"$f":"Data1!L11","v":"Debt/Net Profit"}]
[null,null,null,"Sort order →     ",1,null,5,2,null,5,3,null,5,4,null,5,5,null,5,6,null,5,7,null,5,8,null,5]
[null,null,null,null,{"$f":"IF(mySortCriteria =E5,CHOOSE(Calculation1!$E$8,\"È\",\"Ç\"),\"\")","v":"È"},null,null,{"$f":"IF(mySortCriteria =H5,CHOOSE(Calculation1!$E$8,\"È\",\"Ç\"),\"\")","v":""},null,null,{"$f":"IF(mySortCriteria =K5,CHOOSE(Calculation1!$E$8,\"È\",\"Ç\"),\"\")","v":""},null,null,{"$f":"IF(mySortCriteria =N5,CHOOSE(Calculation1!$E$8,\"È\",\"Ç\"),\"\")","v":""},null,null,{"$f":"IF(mySortCriteria =Q5,CHOOSE(Calculation1!$E$8,\"È\",\"Ç\"),\"\")","v":""},null,null,{"$f":"IF(mySortCriteria =T5,CHOOSE(Calculation1!$E$8,\"È\",\"Ç\"),\"\")","v":""},null,null,{"$f":"IF(mySortCriteria =W5,CHOOSE(Calculation1!$E$8,\"È\",\"Ç\"),\"\")","v":""},null,null,{"$f":"IF(mySortCriteria =Z5,CHOOSE(Calculation1!$E$8,\"È\",\"Ç\"),\"\")","v":""}]
[null,null,{"$f":"OFFSET(Calculation1!C26,Calculation1!$E$5,0,1,1)","v":1},{"$f":"OFFSET(Calculation1!J26,Calculation1!$E$5,0,1,1)","v":"Amara Raja Batt"},{"$f":"OFFSET(Calculation1!K26,Calculation1!$E$5,0,1,1)","v":49},null,null,{"$f":"OFFSET(Calculation1!L26,Calculation1!$E$5,0,1,1)","v":0.23288479473173324},null,null,{"$f":"OFFSET(Calculation1!M26,Calculation1!$E$5,0,1,1)","v":0.16794773251345113},null,null,{"$f":"OFFSET(Calculation1!N26,Calculation1!$E$5,0,1,1)","v":0.27007876481499915},null,null,{"$f":"OFFSET(Calculation1!O26,Calculation1!$E$5,0,1,1)","v":0.2719228627734831},null,null,{"$f":"OFFSET(Calculation1!P26,Calculation1!$E$5,0,1,1)","v":0.10434330276911397},null,null,{"$f":"OFFSET(Calculation1!Q26,Calculation1!$E$5,0,1,1)","v":0.21644545120282732},null,null,{"$f":"OFFSET(Calculation1!R26,Calculation1!$E$5,0,1,1)","v":0.15147924158221646}]
[null,null,{"$f":"OFFSET(Calculation1!C27,Calculation1!$E$5,0,1,1)","v":2},{"$f":"OFFSET(Calculation1!J27,Calculation1!$E$5,0,1,1)","v":"Tasty Bite"},{"$f":"OFFSET(Calculation1!K27,Calculation1!$E$5,0,1,1)","v":48},null,null,{"$f":"OFFSET(Calculation1!L27,Calculation1!$E$5,0,1,1)","v":0.26755186721991697},null,null,{"$f":"OFFSET(Calculation1!M27,Calculation1!$E$5,0,1,1)","v":0.12201029367241899},null,null,{"$f":"OFFSET(Calculation1!N27,Calculation1!$E$5,0,1,1)","v":0.53525544611561582},null,null,{"$f":"OFFSET(Calculation1!O27,Calculation1!$E$5,0,1,1)","v":0.38315787542830626},null,null,{"$f":"OFFSET(Calculation1!P27,Calculation1!$E$5,0,1,1)","v":8.2286881061766196E-2},null,null,{"$f":"OFFSET(Calculation1!Q27,Calculation1!$E$5,0,1,1)","v":0.20543164917373802},null,null,{"$f":"OFFSET(Calculation1!R27,Calculation1!$E$5,0,1,1)","v":2.5062034739454098}]
[null,null,{"$f":"OFFSET(Calculation1!C28,Calculation1!$E$5,0,1,1)","v":3},{"$f":"OFFSET(Calculation1!J28,Calculation1!$E$5,0,1,1)","v":"Britannia"},{"$f":"OFFSET(Calculation1!K28,Calculation1!$E$5,0,1,1)","v":46.5},null,null,{"$f":"OFFSET(Calculation1!L28,Calculation1!$E$5,0,1,1)","v":0.43985977851111535},null,null,{"$f":"OFFSET(Calculation1!M28,Calculation1!$E$5,0,1,1)","v":0.24194475666317833},null,null,{"$f":"OFFSET(Calculation1!N28,Calculation1!$E$5,0,1,1)","v":0.38700726807916963},null,null,{"$f":"OFFSET(Calculation1!O28,Calculation1!$E$5,0,1,1)","v":0.23994296296972806},null,null,{"$f":"OFFSET(Calculation1!P28,Calculation1!$E$5,0,1,1)","v":9.4250053473244472E-2},null,null,{"$f":"OFFSET(Calculation1!Q28,Calculation1!$E$5,0,1,1)","v":0.13479017709633467},null,null,{"$f":"OFFSET(Calculation1!R28,Calculation1!$E$5,0,1,1)","v":9.0776809195156831E-4}]
[null,null,{"$f":"OFFSET(Calculation1!C29,Calculation1!$E$5,0,1,1)","v":4},{"$f":"OFFSET(Calculation1!J29,Calculation1!$E$5,0,1,1)","v":"Marico"},{"$f":"OFFSET(Calculation1!K29,Calculation1!$E$5,0,1,1)","v":46},null,null,{"$f":"OFFSET(Calculation1!L29,Calculation1!$E$5,0,1,1)","v":0.35130005150607591},null,null,{"$f":"OFFSET(Calculation1!M29,Calculation1!$E$5,0,1,1)","v":0.21263170048783309},null,null,{"$f":"OFFSET(Calculation1!N29,Calculation1!$E$5,0,1,1)","v":0.19823954638325181},null,null,{"$f":"OFFSET(Calculation1!O29,Calculation1!$E$5,0,1,1)","v":0.2256287837812001},null,null,{"$f":"OFFSET(Calculation1!P29,Calculation1!$E$5,0,1,1)","v":0.12012641796204855},null,null,{"$f":"OFFSET(Calculation1!Q29,Calculation1!$E$5,0,1,1)","v":0.14359899192350989},null,null,{"$f":"OFFSET(Calculation1!R29,Calculation1!$E$5,0,1,1)","v":0.45080231326871373}]
[null,null,{"$f":"OFFSET(Calculation1!C30,Calculation1!$E$5,0,1,1)","v":5},{"$f":"OFFSET(Calculation1!J30,Calculation1!$E$5,0,1,1)","v":"Heritage Foods"},{"$f":"OFFSET(Calculation1!K30,Calculation1!$E$5,0,1,1)","v":44.5},null,null,{"$f":"OFFSET(Calculation1!L30,Calculation1!$E$5,0,1,1)","v":0.23096795699820777},null,null,{"$f":"OFFSET(Calculation1!M30,Calculation1!$E$5,0,1,1)","v":9.5575556934960823E-2},null,null,{"$f":"OFFSET(Calculation1!N30,Calculation1!$E$5,0,1,1)","v":0.89746429720271936},null,null,{"$f":"OFFSET(Calculation1!O30,Calculation1!$E$5,0,1,1)","v":0.61464403131224143},null,null,{"$f":"OFFSET(Calculation1!P30,Calculation1!$E$5,0,1,1)","v":2.3284241655394854E-2},null,null,{"$f":"OFFSET(Calculation1!Q30,Calculation1!$E$5,0,1,1)","v":0.16779688646103597},null,null,{"$f":"OFFSET(Calculation1!R30,Calculation1!$E$5,0,1,1)","v":2.2736785134403803}]
[null,null,{"$f":"OFFSET(Calculation1!C31,Calculation1!$E$5,0,1,1)","v":6},{"$f":"OFFSET(Calculation1!J31,Calculation1!$E$5,0,1,1)","v":"Page Industries"},{"$f":"OFFSET(Calculation1!K31,Calculation1!$E$5,0,1,1)","v":44},null,null,{"$f":"OFFSET(Calculation1!L31,Calculation1!$E$5,0,1,1)","v":0.4605122520881994},null,null,{"$f":"OFFSET(Calculation1!M31,Calculation1!$E$5,0,1,1)","v":0.24491815358703098},null,null,{"$f":"OFFSET(Calculation1!N31,Calculation1!$E$5,0,1,1)","v":0.3177680234061504},null,null,{"$f":"OFFSET(Calculation1!O31,Calculation1!$E$5,0,1,1)","v":0.33711097302565673},null,null,{"$f":"OFFSET(Calculation1!P31,Calculation1!$E$5,0,1,1)","v":0.13045647992912537},null,null,{"$f":"OFFSET(Calculation1!Q31,Calculation1!$E$5,0,1,1)","v":0.29400485705116108},null,null,{"$f":"OFFSET(Calculation1!R31,Calculation1!$E$5,0,1,1)","v":0.40784836241726108}]
[null,null,{"$f":"OFFSET(Calculation1!C32,Calculation1!$E$5,0,1,1)","v":7},{"$f":"OFFSET(Calculation1!J32,Calculation1!$E$5,0,1,1)","v":"Pidilite Ind"},{"$f":"OFFSET(Calculation1!K32,Calculation1!$E$5,0,1,1)","v":44},null,null,{"$f":"OFFSET(Calculation1!L32,Calculation1!$E$5,0,1,1)","v":0.27179463223747813},null,null,{"$f":"OFFSET(Calculation1!M32,Calculation1!$E$5,0,1,1)","v":0.19252237966396785},null,null,{"$f":"OFFSET(Calculation1!N32,Calculation1!$E$5,0,1,1)","v":0.19193073454726317},null,null,{"$f":"OFFSET(Calculation1!O32,Calculation1!$E$5,0,1,1)","v":0.14348747260527728},null,null,{"$f":"OFFSET(Calculation1!P32,Calculation1!$E$5,0,1,1)","v":0.14086731415694351},null,null,{"$f":"OFFSET(Calculation1!Q32,Calculation1!$E$5,0,1,1)","v":0.15107008045976267},null,null,{"$f":"OFFSET(Calculation1!R32,Calculation1!$E$5,0,1,1)","v":0.11208651735899941}]
[null,null,{"$f":"OFFSET(Calculation1!C33,Calculation1!$E$5,0,1,1)","v":8},{"$f":"OFFSET(Calculation1!J33,Calculation1!$E$5,0,1,1)","v":"Dabur India"},{"$f":"OFFSET(Calculation1!K33,Calculation1!$E$5,0,1,1)","v":43.5},null,null,{"$f":"OFFSET(Calculation1!L33,Calculation1!$E$5,0,1,1)","v":0.30178578725838773},null,null,{"$f":"OFFSET(Calculation1!M33,Calculation1!$E$5,0,1,1)","v":0.17551180750110457},null,null,{"$f":"OFFSET(Calculation1!N33,Calculation1!$E$5,0,1,1)","v":0.16868953582627055},null,null,{"$f":"OFFSET(Calculation1!O33,Calculation1!$E$5,0,1,1)","v":0.17777535715289483},null,null,{"$f":"OFFSET(Calculation1!P33,Calculation1!$E$5,0,1,1)","v":0.14850331558240942},null,null,{"$f":"OFFSET(Calculation1!Q33,Calculation1!$E$5,0,1,1)","v":0.15697069263424912},null,null,{"$f":"OFFSET(Calculation1!R33,Calculation1!$E$5,0,1,1)","v":0.63020430921183601}]
[null,null,{"$f":"OFFSET(Calculation1!C34,Calculation1!$E$5,0,1,1)","v":9},{"$f":"OFFSET(Calculation1!J34,Calculation1!$E$5,0,1,1)","v":"Titan Company"},{"$f":"OFFSET(Calculation1!K34,Calculation1!$E$5,0,1,1)","v":42},null,null,{"$f":"OFFSET(Calculation1!L34,Calculation1!$E$5,0,1,1)","v":0.20080521254196804},null,null,{"$f":"OFFSET(Calculation1!M34,Calculation1!$E$5,0,1,1)","v":0.110070838363138},null,null,{"$f":"OFFSET(Calculation1!N34,Calculation1!$E$5,0,1,1)","v":0.10399222086303128},null,null,{"$f":"OFFSET(Calculation1!O34,Calculation1!$E$5,0,1,1)","v":0.25090869466418542},null,null,{"$f":"OFFSET(Calculation1!P34,Calculation1!$E$5,0,1,1)","v":6.265241425962742E-2},null,null,{"$f":"OFFSET(Calculation1!Q34,Calculation1!$E$5,0,1,1)","v":0.11552962209224438},null,null,{"$f":"OFFSET(Calculation1!R34,Calculation1!$E$5,0,1,1)","v":0.16018420120439228}]
[null,null,{"$f":"OFFSET(Calculation1!C35,Calculation1!$E$5,0,1,1)","v":10},{"$f":"OFFSET(Calculation1!J35,Calculation1!$E$5,0,1,1)","v":"Colgate"},{"$f":"OFFSET(Calculation1!K35,Calculation1!$E$5,0,1,1)","v":41},null,null,{"$f":"OFFSET(Calculation1!L35,Calculation1!$E$5,0,1,1)","v":0.56550952946138644},null,null,{"$f":"OFFSET(Calculation1!M35,Calculation1!$E$5,0,1,1)","v":0.29214109443963032},null,null,{"$f":"OFFSET(Calculation1!N35,Calculation1!$E$5,0,1,1)","v":7.4461676542965982E-2},null,null,{"$f":"OFFSET(Calculation1!O35,Calculation1!$E$5,0,1,1)","v":0.3933665269312463},null,null,{"$f":"OFFSET(Calculation1!P35,Calculation1!$E$5,0,1,1)","v":0.13851029120988678},null,null,{"$f":"OFFSET(Calculation1!Q35,Calculation1!$E$5,0,1,1)","v":0.12731857373009481},null,null,{"$f":"OFFSET(Calculation1!R35,Calculation1!$E$5,0,1,1)","v":0}]
[null,null,{"$f":"OFFSET(Calculation1!C36,Calculation1!$E$5,0,1,1)","v":11},{"$f":"OFFSET(Calculation1!J36,Calculation1!$E$5,0,1,1)","v":"Mayur Uniquoter"},{"$f":"OFFSET(Calculation1!K36,Calculation1!$E$5,0,1,1)","v":41},null,null,{"$f":"OFFSET(Calculation1!L36,Calculation1!$E$5,0,1,1)","v":0.24117973751132674},null,null,{"$f":"OFFSET(Calculation1!M36,Calculation1!$E$5,0,1,1)","v":0.18658555889735645},null,null,{"$f":"OFFSET(Calculation1!N36,Calculation1!$E$5,0,1,1)","v":0.18039447526983055},null,null,{"$f":"OFFSET(Calculation1!O36,Calculation1!$E$5,0,1,1)","v":0.40471788912301765},null,null,{"$f":"OFFSET(Calculation1!P36,Calculation1!$E$5,0,1,1)","v":0.16146139094360298},null,null,{"$f":"OFFSET(Calculation1!Q36,Calculation1!$E$5,0,1,1)","v":0.15505145487786032},null,null,{"$f":"OFFSET(Calculation1!R36,Calculation1!$E$5,0,1,1)","v":0.31353775299963643}]
[null,null,{"$f":"OFFSET(Calculation1!C37,Calculation1!$E$5,0,1,1)","v":12},{"$f":"OFFSET(Calculation1!J37,Calculation1!$E$5,0,1,1)","v":"Godrej Consumer"},{"$f":"OFFSET(Calculation1!K37,Calculation1!$E$5,0,1,1)","v":38},null,null,{"$f":"OFFSET(Calculation1!L37,Calculation1!$E$5,0,1,1)","v":0.22733674926633296},null,null,{"$f":"OFFSET(Calculation1!M37,Calculation1!$E$5,0,1,1)","v":0.11379338109377704},null,null,{"$f":"OFFSET(Calculation1!N37,Calculation1!$E$5,0,1,1)","v":0.15625263947643142},null,null,{"$f":"OFFSET(Calculation1!O37,Calculation1!$E$5,0,1,1)","v":0.19985072953639094},null,null,{"$f":"OFFSET(Calculation1!P37,Calculation1!$E$5,0,1,1)","v":0.1292277601777915},null,null,{"$f":"OFFSET(Calculation1!Q37,Calculation1!$E$5,0,1,1)","v":0.19411817173906165},null,null,{"$f":"OFFSET(Calculation1!R37,Calculation1!$E$5,0,1,1)","v":2.4947320280613337}]
[null,null,{"$f":"OFFSET(Calculation1!C38,Calculation1!$E$5,0,1,1)","v":13},{"$f":"OFFSET(Calculation1!J38,Calculation1!$E$5,0,1,1)","v":"Nestle"},{"$f":"OFFSET(Calculation1!K38,Calculation1!$E$5,0,1,1)","v":33},null,null,{"$f":"OFFSET(Calculation1!L38,Calculation1!$E$5,0,1,1)","v":0.19989424523748731},null,null,{"$f":"OFFSET(Calculation1!M38,Calculation1!$E$5,0,1,1)","v":9.0901461956688578E-2},null,null,{"$f":"OFFSET(Calculation1!N38,Calculation1!$E$5,0,1,1)","v":-7.2056467894657805E-2},null,null,{"$f":"OFFSET(Calculation1!O38,Calculation1!$E$5,0,1,1)","v":6.6669315308989896E-2},null,null,{"$f":"OFFSET(Calculation1!P38,Calculation1!$E$5,0,1,1)","v":6.8898916371367108E-2},null,null,{"$f":"OFFSET(Calculation1!Q38,Calculation1!$E$5,0,1,1)","v":5.5015872722089965E-2},null,null,{"$f":"OFFSET(Calculation1!R38,Calculation1!$E$5,0,1,1)","v":3.1476911605446696E-2}]
[null,null,{"$f":"OFFSET(Calculation1!C39,Calculation1!$E$5,0,1,1)","v":14},{"$f":"OFFSET(Calculation1!J39,Calculation1!$E$5,0,1,1)","v":"Emami"},{"$f":"OFFSET(Calculation1!K39,Calculation1!$E$5,0,1,1)","v":32.5},null,null,{"$f":"OFFSET(Calculation1!L39,Calculation1!$E$5,0,1,1)","v":0.2555839046709521},null,null,{"$f":"OFFSET(Calculation1!M39,Calculation1!$E$5,0,1,1)","v":0.13457367366390721},null,null,{"$f":"OFFSET(Calculation1!N39,Calculation1!$E$5,0,1,1)","v":9.1467480194671325E-3},null,null,{"$f":"OFFSET(Calculation1!O39,Calculation1!$E$5,0,1,1)","v":0.12655499925700942},null,null,{"$f":"OFFSET(Calculation1!P39,Calculation1!$E$5,0,1,1)","v":0.13668014589582236},null,null,{"$f":"OFFSET(Calculation1!Q39,Calculation1!$E$5,0,1,1)","v":0.16039980765678297},null,null,{"$f":"OFFSET(Calculation1!R39,Calculation1!$E$5,0,1,1)","v":1.8722882159388781}]
[null,null,null,{"$f":"OFFSET(Calculation1!J40,Calculation1!$E$5,0,1,1)","v":0},{"$f":"OFFSET(Calculation1!K40,Calculation1!$E$5,0,1,1)","v":0},null,null,{"$f":"OFFSET(Calculation1!L40,Calculation1!$E$5,0,1,1)","v":0},null,null,{"$f":"OFFSET(Calculation1!M40,Calculation1!$E$5,0,1,1)","v":0},null,null,{"$f":"OFFSET(Calculation1!N40,Calculation1!$E$5,0,1,1)","v":0},null,null,{"$f":"OFFSET(Calculation1!O40,Calculation1!$E$5,0,1,1)","v":0},null,null,{"$f":"OFFSET(Calculation1!P40,Calculation1!$E$5,0,1,1)","v":0},null,null,{"$f":"OFFSET(Calculation1!Q40,Calculation1!$E$5,0,1,1)","v":0},null,null,{"$f":"OFFSET(Calculation1!R40,Calculation1!$E$5,0,1,1)","v":0}]
[null,null,null,{"$f":"OFFSET(Calculation1!J41,Calculation1!$E$5,0,1,1)","v":0},{"$f":"OFFSET(Calculation1!K41,Calculation1!$E$5,0,1,1)","v":0},null,null,{"$f":"OFFSET(Calculation1!L41,Calculation1!$E$5,0,1,1)","v":0},null,null,{"$f":"OFFSET(Calculation1!M41,Calculation1!$E$5,0,1,1)","v":0},null,null,{"$f":"OFFSET(Calculation1!N41,Calculation1!$E$5,0,1,1)","v":0},null,null,{"$f":"OFFSET(Calculation1!O41,Calculation1!$E$5,0,1,1)","v":0},null,null,{"$f":"OFFSET(Calculation1!P41,Calculation1!$E$5,0,1,1)","v":0},null,null,{"$f":"OFFSET(Calculation1!Q41,Calculation1!$E$5,0,1,1)","v":0},null,null,{"$f":"OFFSET(Calculation1!R41,Calculation1!$E$5,0,1,1)","v":0}]
[null,null,null,{"$f":"OFFSET(Calculation1!J42,Calculation1!$E$5,0,1,1)","v":0},{"$f":"OFFSET(Calculation1!K42,Calculation1!$E$5,0,1,1)","v":0},null,null,{"$f":"OFFSET(Calculation1!L42,Calculation1!$E$5,0,1,1)","v":0},null,null,{"$f":"OFFSET(Calculation1!M42,Calculation1!$E$5,0,1,1)","v":0},null,null,{"$f":"OFFSET(Calculation1!N42,Calculation1!$E$5,0,1,1)","v":0},null,null,{"$f":"OFFSET(Calculation1!O42,Calculation1!$E$5,0,1,1)","v":0},null,null,{"$f":"OFFSET(Calculation1!P42,Calculation1!$E$5,0,1,1)","v":0},null,null,{"$f":"OFFSET(Calculation1!Q42,Calculation1!$E$5,0,1,1)","v":0},null,null,{"$f":"OFFSET(Calculation1!R42,Calculation1!$E$5,0,1,1)","v":0}]
[null,null,null,{"$f":"OFFSET(Calculation1!J43,Calculation1!$E$5,0,1,1)","v":0},{"$f":"OFFSET(Calculation1!K43,Calculation1!$E$5,0,1,1)","v":0},null,null,{"$f":"OFFSET(Calculation1!L43,Calculation1!$E$5,0,1,1)","v":0},null,null,{"$f":"OFFSET(Calculation1!M43,Calculation1!$E$5,0,1,1)","v":0},null,null,{"$f":"OFFSET(Calculation1!N43,Calculation1!$E$5,0,1,1)","v":0},null,null,{"$f":"OFFSET(Calculation1!O43,Calculation1!$E$5,0,1,1)","v":0},null,null,{"$f":"OFFSET(Calculation1!P43,Calculation1!$E$5,0,1,1)","v":0},null,null,{"$f":"OFFSET(Calculation1!Q43,Calculation1!$E$5,0,1,1)","v":0},null,null,{"$f":"OFFSET(Calculation1!R43,Calculation1!$E$5,0,1,1)","v":0}]
[null,null,null,{"$f":"OFFSET(Calculation1!J44,Calculation1!$E$5,0,1,1)","v":0},{"$f":"OFFSET(Calculation1!K44,Calculation1!$E$5,0,1,1)","v":0},null,null,{"$f":"OFFSET(Calculation1!L44,Calculation1!$E$5,0,1,1)","v":0},null,null,{"$f":"OFFSET(Calculation1!M44,Calculation1!$E$5,0,1,1)","v":0},null,null,{"$f":"OFFSET(Calculation1!N44,Calculation1!$E$5,0,1,1)","v":0},null,null,{"$f":"OFFSET(Calculation1!O44,Calculation1!$E$5,0,1,1)","v":0},null,null,{"$f":"OFFSET(Calculation1!P44,Calculation1!$E$5,0,1,1)","v":0},null,null,{"$f":"OFFSET(Calculation1!Q44,Calculation1!$E$5,0,1,1)","v":0},null,null,{"$f":"OFFSET(Calculation1!R44,Calculation1!$E$5,0,1,1)","v":0}]
[null,null,null,{"$f":"OFFSET(Calculation1!J45,Calculation1!$E$5,0,1,1)","v":0},{"$f":"OFFSET(Calculation1!K45,Calculation1!$E$5,0,1,1)","v":0},null,null,{"$f":"OFFSET(Calculation1!L45,Calculation1!$E$5,0,1,1)","v":0},null,null,{"$f":"OFFSET(Calculation1!M45,Calculation1!$E$5,0,1,1)","v":0},null,null,{"$f":"OFFSET(Calculation1!N45,Calculation1!$E$5,0,1,1)","v":0},null,null,{"$f":"OFFSET(Calculation1!O45,Calculation1!$E$5,0,1,1)","v":0},null,null,{"$f":"OFFSET(Calculation1!P45,Calculation1!$E$5,0,1,1)","v":0},null,null,{"$f":"OFFSET(Calculation1!Q45,Calculation1!$E$5,0,1,1)","v":0},null,null,{"$f":"OFFSET(Calculation1!R45,Calculation1!$E$5,0,1,1)","v":0}]
[null,null,null,{"$f":"OFFSET(Calculation1!J46,Calculation1!$E$5,0,1,1)","v":0},{"$f":"OFFSET(Calculation1!K46,Calculation1!$E$5,0,1,1)","v":0},null,null,{"$f":"OFFSET(Calculation1!L46,Calculation1!$E$5,0,1,1)","v":0},null,null,{"$f":"OFFSET(Calculation1!M46,Calculation1!$E$5,0,1,1)","v":0},null,null,{"$f":"OFFSET(Calculation1!N46,Calculation1!$E$5,0,1,1)","v":0},null,null,{"$f":"OFFSET(Calculation1!O46,Calculation1!$E$5,0,1,1)","v":0},null,null,{"$f":"OFFSET(Calculation1!P46,Calculation1!$E$5,0,1,1)","v":0},null,null,{"$f":"OFFSET(Calculation1!Q46,Calculation1!$E$5,0,1,1)","v":0},null,null,{"$f":"OFFSET(Calculation1!R46,Calculation1!$E$5,0,1,1)","v":0}]
[null,null,"███","Above average",null,null,null,null,null,null,null,null,null,null,null,null,null,null,null,{"$f":"IF(Calculation1!$E$5<Calculation1!$E$6,\"▼\",\"\")","v":""},null,null,{"$f":"IF(Calculation1!$E$5<Calculation1!$E$6,\"▼\",\"\")","v":""},null,null,{"$f":"IF(Calculation1!$E$5<Calculation1!$E$6,\"▼\",\"\")","v":""}]
[null,null,"███","Below average"]
[]
[null,null,"Compare two selected KPIs"]

{"sheet":"Dashboard2","index":1,"n_rows":31,"n_cols":28,"rows_kept":31,"cut":false,"hidden":false,"merged":[[4,3,5,3],[30,2,30,9],[1,2,1,27],[3,2,3,3],[3,4,3,6],[3,7,3,9],[3,10,3,12],[3,13,3,15],[3,16,3,18],[3,19,3,21],[3,22,3,24],[3,25,3,27]]}
[]
[null,null,"Price-Value Dashboard - Relationships"]
[]
[null,null,null,null,{"$f":"Data2!E11","v":"Total Score"},null,null,{"$f":"Data2!F11","v":"Promoter Pledge%"},null,null,{"$f":"Data2!G11","v":"Promoter Holding 5 Yr."},null,null,{"$f":"Data2!H11","v":"CFO/PAT 5 Yr."},null,null,{"$f":"Data2!I11","v":"Current ratio"},null,null,{"$f":"Data2!J11","v":"Current Cash flow"},null,null,{"$f":"Data2!K11","v":"BVPS 5 Yr."},null,null,{"$f":"Data2!L11","v":"Receivables/\nSales"}]
[null,null,null,"Sort order →     ",1,null,5,2,null,5,3,null,5,4,null,5,5,null,5,6,null,5,7,null,5,8,null,5]
[null,null,null,null,{"$f":"IF(mySortCriteria1 =E5,CHOOSE(Calculation2!$E$8,\"È\",\"Ç\"),\"\")","v":"È"},null,null,{"$f":"IF(mySortCriteria1 =H5,CHOOSE(Calculation2!$E$8,\"È\",\"Ç\"),\"\")","v":""},null,null,{"$f":"IF(mySortCriteria1 =K5,CHOOSE(Calculation2!$E$8,\"È\",\"Ç\"),\"\")","v":""},null,null,{"$f":"IF(mySortCriteria1 =N5,CHOOSE(Calculation2!$E$8,\"È\",\"Ç\"),\"\")","v":""},null,null,{"$f":"IF(mySortCriteria1 =Q5,CHOOSE(Calculation2!$E$8,\"È\",\"Ç\"),\"\")","v":""},null,null,{"$f":"IF(mySortCriteria1 =T5,CHOOSE(Calculation2!$E$8,\"È\",\"Ç\"),\"\")","v":""},null,null,{"$f":"IF(mySortCriteria1 =W5,CHOOSE(Calculation2!$E$8,\"È\",\"Ç\"),\"\")","v":""},null,null,{"$f":"IF(mySortCriteria1 =Z5,CHOOSE(Calculation2!$E$8,\"È\",\"Ç\"),\"\")","v":""}]
[null,null,{"$f":"OFFSET(Calculation2!C26,Calculation2!$E$5,0,1,1)","v":1},{"$f":"OFFSET(Calculation2!J26,Calculation2!$E$5,0,1,1)","v":"Tasty Bite"},{"$f":"OFFSET(Calculation2!K26,Calculation2!$E$5,0,1,1)","v":87},null,null,{"$f":"OFFSET(Calculation2!L26,Calculation2!$E$5,0,1,1)","v":0},null,null,{"$f":"OFFSET(Calculation2!M26,Calculation2!$E$5,0,1,1)","v":1.7134568699457287E-3},null,null,{"$f":"OFFSET(Calculation2!N26,Calculation2!$E$5,0,1,1)","v":1.4574196838347786},null,null,{"$f":"OFFSET(Calculation2!O26,Calculation2!$E$5,0,1,1)","v":2.1852557991738162},null,null,{"$f":"OFFSET(Calculation2!P26,Calculation2!$E$5,0,1,1)","v":1},null,null,{"$f":"OFFSET(Calculation2!Q26,Calculation2!$E$5,0,1,1)","v":0.2177409386677529},null,null,{"$f":"OFFSET(Calculation2!R26,Calculation2!$E$5,0,1,1)","v":0.11904032669729453}]
[null,null,{"$f":"OFFSET(Calculation2!C27,Calculation2!$E$5,0,1,1)","v":2},{"$f":"OFFSET(Calculation2!J27,Calculation2!$E$5,0,1,1)","v":"Amara Raja Batt"},{"$f":"OFFSET(Calculation2!K27,Calculation2!$E$5,0,1,1)","v":87},null,null,{"$f":"OFFSET(Calculation2!L27,Calculation2!$E$5,0,1,1)","v":0},null,null,{"$f":"OFFSET(Calculation2!M27,Calculation2!$E$5,0,1,1)","v":0},null,null,{"$f":"OFFSET(Calculation2!N27,Calculation2!$E$5,0,1,1)","v":1.0719696097617133},null,null,{"$f":"OFFSET(Calculation2!O27,Calculation2!$E$5,0,1,1)","v":1.9796874576822034},null,null,{"$f":"OFFSET(Calculation2!P27,Calculation2!$E$5,0,1,1)","v":1},null,null,{"$f":"OFFSET(Calculation2!Q27,Calculation2!$E$5,0,1,1)","v":0.26611913973007151},null,null,{"$f":"OFFSET(Calculation2!R27,Calculation2!$E$5,0,1,1)","v":0.12623996145539976}]
[null,null,{"$f":"OFFSET(Calculation2!C28,Calculation2!$E$5,0,1,1)","v":3},{"$f":"OFFSET(Calculation2!J28,Calculation2!$E$5,0,1,1)","v":"Britannia"},{"$f":"OFFSET(Calculation2!K28,Calculation2!$E$5,0,1,1)","v":84.5},null,null,{"$f":"OFFSET(Calculation2!L28,Calculation2!$E$5,0,1,1)","v":0},null,null,{"$f":"OFFSET(Calculation2!M28,Calculation2!$E$5,0,1,1)","v":-1.0810295393128833E-3},null,null,{"$f":"OFFSET(Calculation2!N28,Calculation2!$E$5,0,1,1)","v":1.1518358511337043},null,null,{"$f":"OFFSET(Calculation2!O28,Calculation2!$E$5,0,1,1)","v":1.0681762686545726},null,null,{"$f":"OFFSET(Calculation2!P28,Calculation2!$E$5,0,1,1)","v":1},null,null,{"$f":"OFFSET(Calculation2!Q28,Calculation2!$E$5,0,1,1)","v":0.30307665589770849},null,null,{"$f":"OFFSET(Calculation2!R28,Calculation2!$E$5,0,1,1)","v":1.342492985568515E-2}]
[null,null,{"$f":"OFFSET(Calculation2!C29,Calculation2!$E$5,0,1,1)","v":4},{"$f":"OFFSET(Calculation2!J29,Calculation2!$E$5,0,1,1)","v":"Marico"},{"$f":"OFFSET(Calculation2!K29,Calculation2!$E$5,0,1,1)","v":84},null,null,{"$f":"OFFSET(Calculation2!L29,Calculation2!$E$5,0,1,1)","v":0},null,null,{"$f":"OFFSET(Calculation2!M29,Calculation2!$E$5,0,1,1)","v":-1.1062169169399838E-2},null,null,{"$f":"OFFSET(Calculation2!N29,Calculation2!$E$5,0,1,1)","v":1.1697808761039414},null,null,{"$f":"OFFSET(Calculation2!O29,Calculation2!$E$5,0,1,1)","v":1.9001439071267832},null,null,{"$f":"OFFSET(Calculation2!P29,Calculation2!$E$5,0,1,1)","v":1},null,null,{"$f":"OFFSET(Calculation2!Q29,Calculation2!$E$5,0,1,1)","v":0.17460657647505817},null,null,{"$f":"OFFSET(Calculation2!R29,Calculation2!$E$5,0,1,1)","v":4.1164115041650087E-2}]
[null,null,{"$f":"OFFSET(Calculation2!C30,Calculation2!$E$5,0,1,1)","v":5},{"$f":"OFFSET(Calculation2!J30,Calculation2!$E$5,0,1,1)","v":"Page Industries"},{"$f":"OFFSET(Calculation2!K30,Calculation2!$E$5,0,1,1)","v":82},null,null,{"$f":"OFFSET(Calculation2!L30,Calculation2!$E$5,0,1,1)","v":0},null,null,{"$f":"OFFSET(Calculation2!M30,Calculation2!$E$5,0,1,1)","v":-3.9118503946291128E-2},null,null,{"$f":"OFFSET(Calculation2!N30,Calculation2!$E$5,0,1,1)","v":0.85087898089171976},null,null,{"$f":"OFFSET(Calculation2!O30,Calculation2!$E$5,0,1,1)","v":2.1049622684655844},null,null,{"$f":"OFFSET(Calculation2!P30,Calculation2!$E$5,0,1,1)","v":1},null,null,{"$f":"OFFSET(Calculation2!Q30,Calculation2!$E$5,0,1,1)","v":0.32486927565046275},null,null,{"$f":"OFFSET(Calculation2!R30,Calculation2!$E$5,0,1,1)","v":5.8000594360305698E-2}]
[null,null,{"$f":"OFFSET(Calculation2!C31,Calculation2!$E$5,0,1,1)","v":6},{"$f":"OFFSET(Calculation2!J31,Calculation2!$E$5,0,1,1)","v":"Pidilite Ind"},{"$f":"OFFSET(Calculation2!K31,Calculation2!$E$5,0,1,1)","v":82},null,null,{"$f":"OFFSET(Calculation2!L31,Calculation2!$E$5,0,1,1)","v":0},null,null,{"$f":"OFFSET(Calculation2!M31,Calculation2!$E$5,0,1,1)","v":-4.1243856794186406E-3},null,null,{"$f":"OFFSET(Calculation2!N31,Calculation2!$E$5,0,1,1)","v":1.0784531646291069},null,null,{"$f":"OFFSET(Calculation2!O31,Calculation2!$E$5,0,1,1)","v":1.6477429083027049},null,null,{"$f":"OFFSET(Calculation2!P31,Calculation2!$E$5,0,1,1)","v":1},null,null,{"$f":"OFFSET(Calculation2!Q31,Calculation2!$E$5,0,1,1)","v":0.20426656212009742},null,null,{"$f":"OFFSET(Calculation2!R31,Calculation2!$E$5,0,1,1)","v":0.13584259095438081}]
[null,null,{"$f":"OFFSET(Calculation2!C32,Calculation2!$E$5,0,1,1)","v":7},{"$f":"OFFSET(Calculation2!J32,Calculation2!$E$5,0,1,1)","v":"Dabur India"},{"$f":"OFFSET(Calculation2!K32,Calculation2!$E$5,0,1,1)","v":81.5},null,null,{"$f":"OFFSET(Calculation2!L32,Calculation2!$E$5,0,1,1)","v":0},null,null,{"$f":"OFFSET(Calculation2!M32,Calculation2!$E$5,0,1,1)","v":-2.3021840587456044E-3},null,null,{"$f":"OFFSET(Calculation2!N32,Calculation2!$E$5,0,1,1)","v":1.0095241781659987},null,null,{"$f":"OFFSET(Calculation2!O32,Calculation2!$E$5,0,1,1)","v":1.1965328682635274},null,null,{"$f":"OFFSET(Calculation2!P32,Calculation2!$E$5,0,1,1)","v":1},null,null,{"$f":"OFFSET(Calculation2!Q32,Calculation2!$E$5,0,1,1)","v":0.24232054644192402},null,null,{"$f":"OFFSET(Calculation2!R32,Calculation2!$E$5,0,1,1)","v":9.5776920329026904E-2}]
[null,null,{"$f":"OFFSET(Calculation2!C33,Calculation2!$E$5,0,1,1)","v":8},{"$f":"OFFSET(Calculation2!J33,Calculation2!$E$5,0,1,1)","v":"Titan Company"},{"$f":"OFFSET(Calculation2!K33,Calculation2!$E$5,0,1,1)","v":80},null,null,{"$f":"OFFSET(Calculation2!L33,Calculation2!$E$5,0,1,1)","v":0},null,null,{"$f":"OFFSET(Calculation2!M33,Calculation2!$E$5,0,1,1)","v":0},null,null,{"$f":"OFFSET(Calculation2!N33,Calculation2!$E$5,0,1,1)","v":0.35296623856889858},null,null,{"$f":"OFFSET(Calculation2!O33,Calculation2!$E$5,0,1,1)","v":1.9622467341683036},null,null,{"$f":"OFFSET(Calculation2!P33,Calculation2!$E$5,0,1,1)","v":1},null,null,{"$f":"OFFSET(Calculation2!Q33,Calculation2!$E$5,0,1,1)","v":0.27937603834573999},null,null,{"$f":"OFFSET(Calculation2!R33,Calculation2!$E$5,0,1,1)","v":1.7322515897245601E-2}]
[null,null,{"$f":"OFFSET(Calculation2!C34,Calculation2!$E$5,0,1,1)","v":9},{"$f":"OFFSET(Calculation2!J34,Calculation2!$E$5,0,1,1)","v":"Heritage Foods"},{"$f":"OFFSET(Calculation2!K34,Calculation2!$E$5,0,1,1)","v":79.5},null,null,{"$f":"OFFSET(Calculation2!L34,Calculation2!$E$5,0,1,1)","v":0},null,null,{"$f":"OFFSET(Calculation2!M34,Calculation2!$E$5,0,1,1)","v":0},null,null,{"$f":"OFFSET(Calculation2!N34,Calculation2!$E$5,0,1,1)","v":2.1711113472163235},null,null,{"$f":"OFFSET(Calculation2!O34,Calculation2!$E$5,0,1,1)","v":1.2029540992801722},null,null,{"$f":"OFFSET(Calculation2!P34,Calculation2!$E$5,0,1,1)","v":1},null,null,{"$f":"OFFSET(Calculation2!Q34,Calculation2!$E$5,0,1,1)","v":6.626092182592247E-2},null,null,{"$f":"OFFSET(Calculation2!R34,Calculation2!$E$5,0,1,1)","v":1.2093691453343302E-2}]
[null,null,{"$f":"OFFSET(Calculation2!C35,Calculation2!$E$5,0,1,1)","v":10},{"$f":"OFFSET(Calculation2!J35,Calculation2!$E$5,0,1,1)","v":"Colgate"},{"$f":"OFFSET(Calculation2!K35,Calculation2!$E$5,0,1,1)","v":79},null,null,{"$f":"OFFSET(Calculation2!L35,Calculation2!$E$5,0,1,1)","v":0},null,null,{"$f":"OFFSET(Calculation2!M35,Calculation2!$E$5,0,1,1)","v":0},null,null,{"$f":"OFFSET(Calculation2!N35,Calculation2!$E$5,0,1,1)","v":1.0640036660811121},null,null,{"$f":"OFFSET(Calculation2!O35,Calculation2!$E$5,0,1,1)","v":0.89814038324458045},null,null,{"$f":"OFFSET(Calculation2!P35,Calculation2!$E$5,0,1,1)","v":1},null,null,{"$f":"OFFSET(Calculation2!Q35,Calculation2!$E$5,0,1,1)","v":0.21561859897910685},null,null,{"$f":"OFFSET(Calculation2!R35,Calculation2!$E$5,0,1,1)","v":2.4395224744071173E-2}]
[null,null,{"$f":"OFFSET(Calculation2!C36,Calculation2!$E$5,0,1,1)","v":11},{"$f":"OFFSET(Calculation2!J36,Calculation2!$E$5,0,1,1)","v":"Mayur Uniquoter"},{"$f":"OFFSET(Calculation2!K36,Calculation2!$E$5,0,1,1)","v":79},null,null,{"$f":"OFFSET(Calculation2!L36,Calculation2!$E$5,0,1,1)","v":0},null,null,{"$f":"OFFSET(Calculation2!M36,Calculation2!$E$5,0,1,1)","v":-4.9748766722175208E-2},null,null,{"$f":"OFFSET(Calculation2!N36,Calculation2!$E$5,0,1,1)","v":0.79361423154612121},null,null,{"$f":"OFFSET(Calculation2!O36,Calculation2!$E$5,0,1,1)","v":2.7301630068705371},null,null,{"$f":"OFFSET(Calculation2!P36,Calculation2!$E$5,0,1,1)","v":1},null,null,{"$f":"OFFSET(Calculation2!Q36,Calculation2!$E$5,0,1,1)","v":0.3152243716010148},null,null,{"$f":"OFFSET(Calculation2!R36,Calculation2!$E$5,0,1,1)","v":0.2422997142968964}]
[null,null,{"$f":"OFFSET(Calculation2!C37,Calculation2!$E$5,0,1,1)","v":12},{"$f":"OFFSET(Calculation2!J37,Calculation2!$E$5,0,1,1)","v":"Godrej Consumer"},{"$f":"OFFSET(Calculation2!K37,Calculation2!$E$5,0,1,1)","v":76},null,null,{"$f":"OFFSET(Calculation2!L37,Calculation2!$E$5,0,1,1)","v":2E-3},null,null,{"$f":"OFFSET(Calculation2!M37,Calculation2!$E$5,0,1,1)","v":-2.7075529494952066E-3},null,null,{"$f":"OFFSET(Calculation2!N37,Calculation2!$E$5,0,1,1)","v":1.0766881477559107},null,null,{"$f":"OFFSET(Calculation2!O37,Calculation2!$E$5,0,1,1)","v":1.6593087238539466},null,null,{"$f":"OFFSET(Calculation2!P37,Calculation2!$E$5,0,1,1)","v":1},null,null,{"$f":"OFFSET(Calculation2!Q37,Calculation2!$E$5,0,1,1)","v":0.22935145580333871},null,null,{"$f":"OFFSET(Calculation2!R37,Calculation2!$E$5,0,1,1)","v":0.12466923362560091}]
[null,null,{"$f":"OFFSET(Calculation2!C38,Calculation2!$E$5,0,1,1)","v":13},{"$f":"OFFSET(Calculation2!J38,Calculation2!$E$5,0,1,1)","v":"Emami"},{"$f":"OFFSET(Calculation2!K38,Calculation2!$E$5,0,1,1)","v":71.5},null,null,{"$f":"OFFSET(Calculation2!L38,Calculation2!$E$5,0,1,1)","v":0.21},null,null,{"$f":"OFFSET(Calculation2!M38,Calculation2!$E$5,0,1,1)","v":0},null,null,{"$f":"OFFSET(Calculation2!N38,Calculation2!$E$5,0,1,1)","v":1.1932780958451008},null,null,{"$f":"OFFSET(Calculation2!O38,Calculation2!$E$5,0,1,1)","v":1.0238022633326558},null,null,{"$f":"OFFSET(Calculation2!P38,Calculation2!$E$5,0,1,1)","v":1},null,null,{"$f":"OFFSET(Calculation2!Q38,Calculation2!$E$5,0,1,1)","v":6.279870253812847E-2},null,null,{"$f":"OFFSET(Calculation2!R38,Calculation2!$E$5,0,1,1)","v":4.9600006098049002E-2}]
[null,null,{"$f":"OFFSET(Calculation2!C39,Calculation2!$E$5,0,1,1)","v":14},{"$f":"OFFSET(Calculation2!J39,Calculation2!$E$5,0,1,1)","v":"Nestle"},{"$f":"OFFSET(Calculation2!K39,Calculation2!$E$5,0,1,1)","v":71},null,null,{"$f":"OFFSET(Calculation2!L39,Calculation2!$E$5,0,1,1)","v":0},null,null,{"$f":"OFFSET(Calculation2!M39,Calculation2!$E$5,0,1,1)","v":0},null,null,{"$f":"OFFSET(Calculation2!N39,Calculation2!$E$5,0,1,1)","v":1.5098507121156715},null,null,{"$f":"OFFSET(Calculation2!O39,Calculation2!$E$5,0,1,1)","v":0.51858717255989428},null,null,{"$f":"OFFSET(Calculation2!P39,Calculation2!$E$5,0,1,1)","v":1},null,null,{"$f":"OFFSET(Calculation2!Q39,Calculation2!$E$5,0,1,1)","v":0.26925062507260278},null,null,{"$f":"OFFSET(Calculation2!R39,Calculation2!$E$5,0,1,1)","v":9.5922968058703584E-3}]
[null,null,null,{"$f":"OFFSET(Calculation2!J40,Calculation2!$E$5,0,1,1)","v":0},{"$f":"OFFSET(Calculation2!K40,Calculation2!$E$5,0,1,1)","v":0},null,null,{"$f":"OFFSET(Calculation2!L40,Calculation2!$E$5,0,1,1)","v":0},null,null,{"$f":"OFFSET(Calculation2!M40,Calculation2!$E$5,0,1,1)","v":0},null,null,{"$f":"OFFSET(Calculation2!N40,Calculation2!$E$5,0,1,1)","v":0},null,null,{"$f":"OFFSET(Calculation2!O40,Calculation2!$E$5,0,1,1)","v":0},null,null,{"$f":"OFFSET(Calculation2!P40,Calculation2!$E$5,0,1,1)","v":0},null,null,{"$f":"OFFSET(Calculation2!Q40,Calculation2!$E$5,0,1,1)","v":0},null,null,{"$f":"OFFSET(Calculation2!R40,Calculation2!$E$5,0,1,1)","v":0}]
[null,null,null,{"$f":"OFFSET(Calculation2!J41,Calculation2!$E$5,0,1,1)","v":0},{"$f":"OFFSET(Calculation2!K41,Calculation2!$E$5,0,1,1)","v":0},null,null,{"$f":"OFFSET(Calculation2!L41,Calculation2!$E$5,0,1,1)","v":0},null,null,{"$f":"OFFSET(Calculation2!M41,Calculation2!$E$5,0,1,1)","v":0},null,null,{"$f":"OFFSET(Calculation2!N41,Calculation2!$E$5,0,1,1)","v":0},null,null,{"$f":"OFFSET(Calculation2!O41,Calculation2!$E$5,0,1,1)","v":0},null,null,{"$f":"OFFSET(Calculation2!P41,Calculation2!$E$5,0,1,1)","v":0},null,null,{"$f":"OFFSET(Calculation2!Q41,Calculation2!$E$5,0,1,1)","v":0},null,null,{"$f":"OFFSET(Calculation2!R41,Calculation2!$E$5,0,1,1)","v":0}]
[null,null,null,{"$f":"OFFSET(Calculation2!J42,Calculation2!$E$5,0,1,1)","v":0},{"$f":"OFFSET(Calculation2!K42,Calculation2!$E$5,0,1,1)","v":0},null,null,{"$f":"OFFSET(Calculation2!L42,Calculation2!$E$5,0,1,1)","v":0},null,null,{"$f":"OFFSET(Calculation2!M42,Calculation2!$E$5,0,1,1)","v":0},null,null,{"$f":"OFFSET(Calculation2!N42,Calculation2!$E$5,0,1,1)","v":0},null,null,{"$f":"OFFSET(Calculation2!O42,Calculation2!$E$5,0,1,1)","v":0},null,null,{"$f":"OFFSET(Calculation2!P42,Calculation2!$E$5,0,1,1)","v":0},null,null,{"$f":"OFFSET(Calculation2!Q42,Calculation2!$E$5,0,1,1)","v":0},null,null,{"$f":"OFFSET(Calculation2!R42,Calculation2!$E$5,0,1,1)","v":0}]
[null,null,null,{"$f":"OFFSET(Calculation2!J43,Calculation2!$E$5,0,1,1)","v":0},{"$f":"OFFSET(Calculation2!K43,Calculation2!$E$5,0,1,1)","v":0},null,null,{"$f":"OFFSET(Calculation2!L43,Calculation2!$E$5,0,1,1)","v":0},null,null,{"$f":"OFFSET(Calculation2!M43,Calculation2!$E$5,0,1,1)","v":0},null,null,{"$f":"OFFSET(Calculation2!N43,Calculation2!$E$5,0,1,1)","v":0},null,null,{"$f":"OFFSET(Calculation2!O43,Calculation2!$E$5,0,1,1)","v":0},null,null,{"$f":"OFFSET(Calculation2!P43,Calculation2!$E$5,0,1,1)","v":0},null,null,{"$f":"OFFSET(Calculation2!Q43,Calculation2!$E$5,0,1,1)","v":0},null,null,{"$f":"OFFSET(Calculation2!R43,Calculation2!$E$5,0,1,1)","v":0}]
[null,null,null,{"$f":"OFFSET(Calculation2!J44,Calculation2!$E$5,0,1,1)","v":0},{"$f":"OFFSET(Calculation2!K44,Calculation2!$E$5,0,1,1)","v":0},null,null,{"$f":"OFFSET(Calculation2!L44,Calculation2!$E$5,0,1,1)","v":0},null,null,{"$f":"OFFSET(Calculation2!M44,Calculation2!$E$5,0,1,1)","v":0},null,null,{"$f":"OFFSET(Calculation2!N44,Calculation2!$E$5,0,1,1)","v":0},null,null,{"$f":"OFFSET(Calculation2!O44,Calculation2!$E$5,0,1,1)","v":0},null,null,{"$f":"OFFSET(Calculation2!P44,Calculation2!$E$5,0,1,1)","v":0},null,null,{"$f":"OFFSET(Calculation2!Q44,Calculation2!$E$5,0,1,1)","v":0},null,null,{"$f":"OFFSET(Calculation2!R44,Calculation2!$E$5,0,1,1)","v":0}]
[null,null,null,{"$f":"OFFSET(Calculation2!J45,Calculation2!$E$5,0,1,1)","v":0},{"$f":"OFFSET(Calculation2!K45,Calculation2!$E$5,0,1,1)","v":0},null,null,{"$f":"OFFSET(Calculation2!L45,Calculation2!$E$5,0,1,1)","v":0},null,null,{"$f":"OFFSET(Calculation2!M45,Calculation2!$E$5,0,1,1)","v":0},null,null,{"$f":"OFFSET(Calculation2!N45,Calculation2!$E$5,0,1,1)","v":0},null,null,{"$f":"OFFSET(Calculation2!O45,Calculation2!$E$5,0,1,1)","v":0},null,null,{"$f":"OFFSET(Calculation2!P45,Calculation2!$E$5,0,1,1)","v":0},null,null,{"$f":"OFFSET(Calculation2!Q45,Calculation2!$E$5,0,1,1)","v":0},null,null,{"$f":"OFFSET(Calculation2!R45,Calculation2!$E$5,0,1,1)","v":0}]
[null,null,null,{"$f":"OFFSET(Calculation2!J46,Calculation2!$E$5,0,1,1)","v":0},{"$f":"OFFSET(Calculation2!K46,Calculation2!$E$5,0,1,1)","v":0},null,null,{"$f":"OFFSET(Calculation2!L46,Calculation2!$E$5,0,1,1)","v":0},null,null,{"$f":"OFFSET(Calculation2!M46,Calculation2!$E$5,0,1,1)","v":0},null,null,{"$f":"OFFSET(Calculation2!N46,Calculation2!$E$5,0,1,1)","v":0},null,null,{"$f":"OFFSET(Calculation2!O46,Calculation2!$E$5,0,1,1)","v":0},null,null,{"$f":"OFFSET(Calculation2!P46,Calculation2!$E$5,0,1,1)","v":0},null,null,{"$f":"OFFSET(Calculation2!Q46,Calculation2!$E$5,0,1,1)","v":0},null,null,{"$f":"OFFSET(Calculation2!R46,Calculation2!$E$5,0,1,1)","v":0}]
[null,null,"███","Above average",null,null,null,null,null,null,null,null,null,null,null,null,null,null,null,{"$f":"IF(Calculation2!$E$5<Calculation2!$E$6,\"▼\",\"\")","v":""},null,null,{"$f":"IF(Calculation2!$E$5<Calculation2!$E$6,\"▼\",\"\")","v":""},null,null,{"$f":"IF(Calculation2!$E$5<Calculation2!$E$6,\"▼\",\"\")","v":""}]
[null,null,"███","Below average"]
[]
[null,null,"Compare two selected KPIs"]

{"sheet":"Calculation2","index":2,"n_rows":126,"n_cols":68,"rows_kept":126,"cut":false,"hidden":false,"merged":[[24,44,24,48],[24,49,24,53],[24,54,24,58],[2,2,2,67],[22,2,22,7],[22,9,22,14],[22,19,22,45],[22,63,22,67],[24,19,24,23],[24,24,24,28],[24,29,24,33],[24,34,24,38],[24,39,24,43]]}
[]
[]
[null,null,"Calculation"]
[]
[null,null,null,"Actual Position",1]
[null,null,null,"Maximum Position",{"$f":"$C$38-COUNTA(Dashboard2!$D$7:$D$18)+1","v":1}]
[null,null,null,"Sort by",1]
[null,null,null,"Sort Order",1]
[]
[null,null,null,"Input List",{"$f":"TRANSPOSE(Data2!E11:L11)","v":"Total Score"}]
[null,null,null,null,"Promoter Pledge%"]
[null,null,null,null,"Promoter Holding 5 Yr."]
[null,null,null,null,"CFO/PAT 5 Yr."]
[null,null,null,null,"Current ratio"]
[null,null,null,null,"Current Cash flow"]
[null,null,null,null,"BVPS 5 Yr."]
[null,null,null,null,"Receivables/\nSales"]
[]
[]
[null,null,null,"Selected KPI X-Axis",3]
[null,null,null,"Selected KPI Y-Axis",2]
[]
[null,null,"Sort Algorithm",null,null,null,null,null,null,"Sorted List",null,null,null,null,null,null,null,null,null,"Combined Bar / Line Charts",null,null,null,null,null,null,null,null,null,null,null,null,null,null,null,null,null,null,null,null,null,null,null,null,null,null,null,null,null,null,null,null,null,null,null,null,null,null,null,null,null,null,null,"Direct Comparison (XY Scatter Chart)"]
[]
[null,null,null,null,null,null,null,null,null,null,null,null,null,null,null,null,null,null,null,{"$f":"Data2!E8","v":"Total Score"},null,null,null,null,{"$f":"Data2!F11","v":"Promoter Pledge%"},null,null,null,null,{"$f":"Data2!G8","v":"Promoter Holding 5 Yr."},null,null,null,null,{"$f":"Data2!H8","v":"CFO/PAT 5 Yr."},null,null,null,null,{"$f":"Data2!I8","v":"Current ratio"},null,null,null,null,{"$f":"Data2!J8","v":"Current Cash flow"},null,null,null,null,{"$f":"Data2!K8","v":"BVPS 5 Yr."},null,null,null,null,{"$f":"Data2!L8","v":"Receivables/\nSales"},null,null,null,null,null,null,null,null,"All",null,null,"Displayed 10"]
[null,null,null,null,"Sort KPI","Unique","Sorted","Position",null,null,{"$f":"Data2!E11","v":"Total Score"},{"$f":"Data2!F11","v":"Promoter Pledge%"},{"$f":"Data2!G11","v":"Promoter Holding 5 Yr."},{"$f":"Data2!H11","v":"CFO/PAT 5 Yr."},{"$f":"Data2!I11","v":"Current ratio"},{"$f":"Data2!J11","v":"Current Cash flow"},{"$f":"Data2!K11","v":"BVPS 5 Yr."},{"$f":"Data2!L11","v":"Receivables/\nSales"},null,"Black","Red","Average","Min","Max","Black","Red","Average","Min","Max","Black","Red","Average","Min","Max","Black","Red","Average","Min","Max","Black","Red","Average","Min","Max","Black","Red","Average","Min","Max","Black","Red","Average","Min","Max","Black","Red","Average","Min","Max",null,"Y Average",null,null,"All X","All Y",null,"Displayed X","Displayed Y"]
[null,null,1,{"$f":"Data2!D12","v":"Britannia"},{"$f":"OFFSET(Data2!$D12,0,mySortCriteria1)","v":84.5},{"$f":"E27+$C27/1000000000","v":84.500000001000004},{"$f":"CHOOSE($E$8,LARGE($F$27:$F$126,$C27),SMALL($F$27:$F$126,$C27))","v":87.000000013999994},{"$f":"MATCH(G27,$F$27:$F$126,0)","v":14},null,{"$f":"OFFSET(Data2!D$11,$H27,0)","v":"Tasty Bite"},{"$f":"OFFSET(Data2!E$11,$H27,0)","v":87},{"$f":"OFFSET(Data2!F$11,$H27,0)","v":0},{"$f":"OFFSET(Data2!G$11,$H27,0)","v":1.7134568699457287E-3},{"$f":"OFFSET(Data2!H$11,$H27,0)","v":1.4574196838347786},{"$f":"OFFSET(Data2!I$11,$H27,0)","v":2.1852557991738162},{"$f":"OFFSET(Data2!J$11,$H27,0)","v":1},{"$f":"OFFSET(Data2!K$11,$H27,0)","v":0.2177409386677529},{"$f":"OFFSET(Data2!L$11,$H27,0)","v":0.11904032669729453},null,{"$f":"IF(Dashboard2!$E7>=Data2!$E$9,Dashboard2!$E7,NA())","v":87},{"$f":"IF(Dashboard2!$E7<Data2!$E$9,Dashboard2!$E7,NA())","v":{"$error":"#N/A"}},{"$f":"AVERAGE(K27:K126)","v":53.523809523809526},{"$f":"MIN(K27:K126)","v":0},{"$f":"MAX(K27:K126)","v":87},{"$f":"IF(Dashboard2!$H7>=Data2!$F$9,Dashboard2!$H7,NA())","v":{"$error":"#N/A"}},{"$f":"IF(Dashboard2!$H7<Data2!$F$9,Dashboard2!$H7,NA())","v":0},{"$f":"AVERAGE(L27:L126)","v":1.0095238095238095E-2},{"$f":"MIN(L27:L126)","v":0},{"$f":"MAX(L27:L126)","v":0.21},{"$f":"IF(Dashboard2!$K7>=Data2!$G$9,Dashboard2!$K7,NA())","v":1.7134568699457287E-3},{"$f":"IF(Dashboard2!$K7<Data2!$G$9,Dashboard2!$K7,NA())","v":{"$error":"#N/A"}},{"$f":"AVERAGE(M27:M126)","v":-5.1633873902329893E-3},{"$f":"MIN(M27:M126)","v":-4.9748766722175208E-2},{"$f":"MAX(M27:M126)","v":1.7134568699457287E-3},{"$f":"IF(Dashboard2!$N7>=Data2!$H$9,Dashboard2!$N7,NA())","v":1.4574196838347786},{"$f":"IF(Dashboard2!$N7<Data2!$H$9,Dashboard2!$N7,NA())","v":{"$error":"#N/A"}},{"$f":"AVERAGE(N27:N126)","v":0.75958927541190946},{"$f":"MIN(N27:N126)","v":0},{"$f":"MAX(N27:N126)","v":2.1711113472163235},{"$f":"IF(Dashboard2!$Q7>=Data2!$I$9,Dashboard2!$Q7,NA())","v":2.1852557991738162},{"$f":"IF(Dashboard2!$Q7<Data2!$I$9,Dashboard2!$Q7,NA())","v":{"$error":"#N/A"}},{"$f":"AVERAGE(O27:O126)","v":1.0513192314752038},{"$f":"MIN(O27:O126)","v":0},{"$f":"MAX(O27:O126)","v":2.7301630068705371},{"$f":"IF(Dashboard2!$T7>=Data2!$J$9,Dashboard2!$T7,NA())","v":1},{"$f":"IF(Dashboard2!$T7<Data2!$J$9,Dashboard2!$T7,NA())","v":{"$error":"#N/A"}},{"$f":"AVERAGE(P27:P126)","v":0.66666666666666663},{"$f":"MIN(P27:P126)","v":0},{"$f":"MAX(P27:P126)","v":1},{"$f":"IF(Dashboard2!$W7>=Data2!$K$9,Dashboard2!$W7,NA())","v":{"$error":"#N/A"}},{"$f":"IF(Dashboard2!$W7<Data2!$K$9,Dashboard2!$W7,NA())","v":0.2177409386677529},{"$f":"AVERAGE(Q27:Q126)","v":0.15099430519756801},{"$f":"MIN(Q27:Q126)","v":0},{"$f":"MAX(Q27:Q126)","v":0.32486927565046275},{"$f":"IF(Dashboard2!$Z7>=Data2!$L$9,Dashboard2!$Z7,NA())","v":0.11904032669729453},{"$f":"IF(Dashboard2!$Z7<Data2!$L$9,Dashboard2!$Z7,NA())","v":{"$error":"#N/A"}},{"$f":"AVERAGE(R27:R126)","v":5.0926767695943793E-2},{"$f":"MIN(R27:R126)","v":0},{"$f":"MAX(R27:R126)","v":0.2422997142968964},null,1,null,null,{"$f":"OFFSET(Data2!$D12,0,$E$20)","v":-1.0810295393128833E-3},{"$f":"OFFSET(Data2!$D12,0,$E$21)","v":0},null,{"$f":"OFFSET($J26,$E$5,$E$20)","v":1.7134568699457287E-3},{"$f":"OFFSET($J26,$E$5,$E$21)","v":0}]
[null,null,{"$f":"C27+1","v":2},{"$f":"Data2!D13","v":"Marico"},{"$f":"OFFSET(Data2!$D13,0,mySortCriteria1)","v":84},84.000000001999993,87.000000005999993,6,null,{"$f":"OFFSET(Data2!D$11,$H28,0)","v":"Amara Raja Batt"},{"$f":"OFFSET(Data2!E$11,$H28,0)","v":87},{"$f":"OFFSET(Data2!F$11,$H28,0)","v":0},{"$f":"OFFSET(Data2!G$11,$H28,0)","v":0},{"$f":"OFFSET(Data2!H$11,$H28,0)","v":1.0719696097617133},{"$f":"OFFSET(Data2!I$11,$H28,0)","v":1.9796874576822034},{"$f":"OFFSET(Data2!J$11,$H28,0)","v":1},{"$f":"OFFSET(Data2!K$11,$H28,0)","v":0.26611913973007151},{"$f":"OFFSET(Data2!L$11,$H28,0)","v":0.12623996145539976},null,{"$f":"IF(Dashboard2!$E8>=Data2!$E$9,Dashboard2!$E8,NA())","v":87},{"$f":"IF(Dashboard2!$E8<Data2!$E$9,Dashboard2!$E8,NA())","v":{"$error":"#N/A"}},{"$f":"V27","v":53.523809523809526},{"$f":"W27","v":0},{"$f":"X27","v":87},{"$f":"IF(Dashboard2!$H8>=Data2!$F$9,Dashboard2!$H8,NA())","v":{"$error":"#N/A"}},{"$f":"IF(Dashboard2!$H8<Data2!$F$9,Dashboard2!$H8,NA())","v":0},{"$f":"AA27","v":1.0095238095238095E-2},{"$f":"AB27","v":0},{"$f":"AC27","v":0.21},{"$f":"IF(Dashboard2!$K8>=$AF28,Dashboard2!$K8,NA())","v":0},{"$f":"IF(Dashboard2!$K8<$AF28,Dashboard2!$K8,NA())","v":{"$error":"#N/A"}},{"$f":"AF27","v":-5.1633873902329893E-3},{"$f":"AG27","v":-4.9748766722175208E-2},{"$f":"AH27","v":1.7134568699457287E-3},{"$f":"IF(Dashboard2!$N8>=Data2!$H$9,Dashboard2!$N8,NA())","v":{"$error":"#N/A"}},{"$f":"IF(Dashboard2!$N8<Data2!$H$9,Dashboard2!$N8,NA())","v":1.0719696097617133},{"$f":"AK27","v":0.75958927541190946},{"$f":"AL27","v":0},{"$f":"AM27","v":2.1711113472163235},{"$f":"IF(Dashboard2!$Q8>=Data2!$I$9,Dashboard2!$Q8,NA())","v":1.9796874576822034},{"$f":"IF(Dashboard2!$Q8<Data2!$I$9,Dashboard2!$Q8,NA())","v":{"$error":"#N/A"}},{"$f":"AP27","v":1.0513192314752038},0,2.7301630068705371,{"$f":"IF(Dashboard2!$T8>=Data2!$J$9,Dashboard2!$T8,NA())","v":1},{"$f":"IF(Dashboard2!$T8<Data2!$J$9,Dashboard2!$T8,NA())","v":{"$error":"#N/A"}},{"$f":"AU27","v":0.66666666666666663},{"$f":"AV27","v":0},{"$f":"AW27","v":1},{"$f":"IF(Dashboard2!$W8>=Data2!$K$9,Dashboard2!$W8,NA())","v":0.26611913973007151},{"$f":"IF(Dashboard2!$W8<Data2!$K$9,Dashboard2!$W8,NA())","v":{"$error":"#N/A"}},{"$f":"AZ27","v":0.15099430519756801},{"$f":"BA27","v":0},{"$f":"BB27","v":0.32486927565046275},{"$f":"IF(Dashboard2!$Z8>=Data2!$L$9,Dashboard2!$Z8,NA())","v":0.12623996145539976},{"$f":"IF(Dashboard2!$Z8<Data2!$L$9,Dashboard2!$Z8,NA())","v":{"$error":"#N/A"}},{"$f":"BE27","v":5.0926767695943793E-2},{"$f":"BF27","v":0},{"$f":"BG27","v":0.2422997142968964},null,2,null,null,{"$f":"OFFSET(Data2!$D13,0,$E$20)","v":-1.1062169169399838E-2},{"$f":"OFFSET(Data2!$D13,0,$E$21)","v":0},null,0,0]
[null,null,{"$f":"C28+1","v":3},{"$f":"Data2!D14","v":"Dabur India"},{"$f":"OFFSET(Data2!$D14,0,mySortCriteria1)","v":81.5},81.500000002999997,84.500000001000004,1,null,{"$f":"OFFSET(Data2!D$11,$H29,0)","v":"Britannia"},{"$f":"OFFSET(Data2!E$11,$H29,0)","v":84.5},{"$f":"OFFSET(Data2!F$11,$H29,0)","v":0},{"$f":"OFFSET(Data2!G$11,$H29,0)","v":-1.0810295393128833E-3},{"$f":"OFFSET(Data2!H$11,$H29,0)","v":1.1518358511337043},{"$f":"OFFSET(Data2!I$11,$H29,0)","v":1.0681762686545726},{"$f":"OFFSET(Data2!J$11,$H29,0)","v":1},{"$f":"OFFSET(Data2!K$11,$H29,0)","v":0.30307665589770849},{"$f":"OFFSET(Data2!L$11,$H29,0)","v":1.342492985568515E-2},null,{"$f":"IF(Dashboard2!$E9>=Data2!$E$9,Dashboard2!$E9,NA())","v":84.5},{"$f":"IF(Dashboard2!$E9<Data2!$E$9,Dashboard2!$E9,NA())","v":{"$error":"#N/A"}},{"$f":"V28","v":53.523809523809526},0,87,{"$f":"IF(Dashboard2!$H9>=Data2!$F$9,Dashboard2!$H9,NA())","v":{"$error":"#N/A"}},{"$f":"IF(Dashboard2!$H9<Data2!$F$9,Dashboard2!$H9,NA())","v":0},{"$f":"AA28","v":1.0095238095238095E-2},0,0.21,{"$f":"IF(Dashboard2!$K9>=$AF29,Dashboard2!$K9,NA())","v":-1.0810295393128833E-3},{"$f":"IF(Dashboard2!$K9<$AF29,Dashboard2!$K9,NA())","v":{"$error":"#N/A"}},{"$f":"AF28","v":-5.1633873902329893E-3},-4.9748766722175208E-2,1.7134568699457287E-3,{"$f":"IF(Dashboard2!$N9>=Data2!$H$9,Dashboard2!$N9,NA())","v":1.1518358511337043},{"$f":"IF(Dashboard2!$N9<Data2!$H$9,Dashboard2!$N9,NA())","v":{"$error":"#N/A"}},{"$f":"AK28","v":0.75958927541190946},0,2.1711113472163235,{"$f":"IF(Dashboard2!$Q9>=Data2!$I$9,Dashboard2!$Q9,NA())","v":{"$error":"#N/A"}},{"$f":"IF(Dashboard2!$Q9<Data2!$I$9,Dashboard2!$Q9,NA())","v":1.0681762686545726},1.0513192314752038,0,2.7301630068705371,{"$f":"IF(Dashboard2!$T9>=Data2!$J$9,Dashboard2!$T9,NA())","v":1},{"$f":"IF(Dashboard2!$T9<Data2!$J$9,Dashboard2!$T9,NA())","v":{"$error":"#N/A"}},{"$f":"AU28","v":0.66666666666666663},0,1,{"$f":"IF(Dashboard2!$W9>=Data2!$K$9,Dashboard2!$W9,NA())","v":0.30307665589770849},{"$f":"IF(Dashboard2!$W9<Data2!$K$9,Dashboard2!$W9,NA())","v":{"$error":"#N/A"}},{"$f":"AZ28","v":0.15099430519756801},0,0.32486927565046275,{"$f":"IF(Dashboard2!$Z9>=Data2!$L$9,Dashboard2!$Z9,NA())","v":{"$error":"#N/A"}},{"$f":"IF(Dashboard2!$Z9<Data2!$L$9,Dashboard2!$Z9,NA())","v":1.342492985568515E-2},{"$f":"BE28","v":5.0926767695943793E-2},0,0.2422997142968964,null,3,null,null,{"$f":"OFFSET(Data2!$D14,0,$E$20)","v":-2.3021840587456044E-3},{"$f":"OFFSET(Data2!$D14,0,$E$21)","v":0},null,-1.0810295393128833E-3,0]
[null,null,4,{"$f":"Data2!D15","v":"Mayur Uniquoter"},{"$f":"OFFSET(Data2!$D15,0,mySortCriteria1)","v":79},79.000000004,84.000000001999993,2,null,{"$f":"OFFSET(Data2!D$11,$H30,0)","v":"Marico"},{"$f":"OFFSET(Data2!E$11,$H30,0)","v":84},{"$f":"OFFSET(Data2!F$11,$H30,0)","v":0},{"$f":"OFFSET(Data2!G$11,$H30,0)","v":-1.1062169169399838E-2},{"$f":"OFFSET(Data2!H$11,$H30,0)","v":1.1697808761039414},{"$f":"OFFSET(Data2!I$11,$H30,0)","v":1.9001439071267832},{"$f":"OFFSET(Data2!J$11,$H30,0)","v":1},{"$f":"OFFSET(Data2!K$11,$H30,0)","v":0.17460657647505817},{"$f":"OFFSET(Data2!L$11,$H30,0)","v":4.1164115041650087E-2},null,{"$f":"IF(Dashboard2!$E10>=Data2!$E$9,Dashboard2!$E10,NA())","v":84},{"$f":"IF(Dashboard2!$E10<Data2!$E$9,Dashboard2!$E10,NA())","v":{"$error":"#N/A"}},53.523809523809526,0,87,{"$f":"IF(Dashboard2!$H10>=Data2!$F$9,Dashboard2!$H10,NA())","v":{"$error":"#N/A"}},{"$f":"IF(Dashboard2!$H10<Data2!$F$9,Dashboard2!$H10,NA())","v":0},1.0095238095238095E-2,0,0.21,{"$f":"IF(Dashboard2!$K10>=$AF30,Dashboard2!$K10,NA())","v":{"$error":"#N/A"}},{"$f":"IF(Dashboard2!$K10<$AF30,Dashboard2!$K10,NA())","v":-1.1062169169399838E-2},-5.1633873902329893E-3,-4.9748766722175208E-2,1.7134568699457287E-3,{"$f":"IF(Dashboard2!$N10>=Data2!$H$9,Dashboard2!$N10,NA())","v":1.1697808761039414},{"$f":"IF(Dashboard2!$N10<Data2!$H$9,Dashboard2!$N10,NA())","v":{"$error":"#N/A"}},0.75958927541190946,0,2.1711113472163235,{"$f":"IF(Dashboard2!$Q10>=Data2!$I$9,Dashboard2!$Q10,NA())","v":1.9001439071267832},{"$f":"IF(Dashboard2!$Q10<Data2!$I$9,Dashboard2!$Q10,NA())","v":{"$error":"#N/A"}},1.0513192314752038,0,2.7301630068705371,{"$f":"IF(Dashboard2!$T10>=Data2!$J$9,Dashboard2!$T10,NA())","v":1},{"$f":"IF(Dashboard2!$T10<Data2!$J$9,Dashboard2!$T10,NA())","v":{"$error":"#N/A"}},0.66666666666666663,0,1,{"$f":"IF(Dashboard2!$W10>=Data2!$K$9,Dashboard2!$W10,NA())","v":{"$error":"#N/A"}},{"$f":"IF(Dashboard2!$W10<Data2!$K$9,Dashboard2!$W10,NA())","v":0.17460657647505817},0.15099430519756801,0,0.32486927565046275,{"$f":"IF(Dashboard2!$Z10>=Data2!$L$9,Dashboard2!$Z10,NA())","v":{"$error":"#N/A"}},{"$f":"IF(Dashboard2!$Z10<Data2!$L$9,Dashboard2!$Z10,NA())","v":4.1164115041650087E-2},5.0926767695943793E-2,0,0.2422997142968964,null,4,null,null,{"$f":"OFFSET(Data2!$D15,0,$E$20)","v":-4.9748766722175208E-2},{"$f":"OFFSET(Data2!$D15,0,$E$21)","v":0},null,-1.1062169169399838E-2,0]
[null,null,5,{"$f":"Data2!D16","v":"Titan Company"},{"$f":"OFFSET(Data2!$D16,0,mySortCriteria1)","v":80},80.000000005000004,82.000000012000001,12,null,{"$f":"OFFSET(Data2!D$11,$H31,0)","v":"Page Industries"},{"$f":"OFFSET(Data2!E$11,$H31,0)","v":82},{"$f":"OFFSET(Data2!F$11,$H31,0)","v":0},{"$f":"OFFSET(Data2!G$11,$H31,0)","v":-3.9118503946291128E-2},{"$f":"OFFSET(Data2!H$11,$H31,0)","v":0.85087898089171976},{"$f":"OFFSET(Data2!I$11,$H31,0)","v":2.1049622684655844},{"$f":"OFFSET(Data2!J$11,$H31,0)","v":1},{"$f":"OFFSET(Data2!K$11,$H31,0)","v":0.32486927565046275},{"$f":"OFFSET(Data2!L$11,$H31,0)","v":5.8000594360305698E-2},null,{"$f":"IF(Dashboard2!$E11>=Data2!$E$9,Dashboard2!$E11,NA())","v":82},{"$f":"IF(Dashboard2!$E11<Data2!$E$9,Dashboard2!$E11,NA())","v":{"$error":"#N/A"}},53.523809523809526,0,87,{"$f":"IF(Dashboard2!$H11>=Data2!$F$9,Dashboard2!$H11,NA())","v":{"$error":"#N/A"}},{"$f":"IF(Dashboard2!$H11<Data2!$F$9,Dashboard2!$H11,NA())","v":0},1.0095238095238095E-2,0,0.21,{"$f":"IF(Dashboard2!$K11>=$AF31,Dashboard2!$K11,NA())","v":{"$error":"#N/A"}},{"$f":"IF(Dashboard2!$K11<$AF31,Dashboard2!$K11,NA())","v":-3.9118503946291128E-2},-5.1633873902329893E-3,-4.9748766722175208E-2,1.7134568699457287E-3,{"$f":"IF(Dashboard2!$N11>=Data2!$H$9,Dashboard2!$N11,NA())","v":{"$error":"#N/A"}},{"$f":"IF(Dashboard2!$N11<Data2!$H$9,Dashboard2!$N11,NA())","v":0.85087898089171976},0.75958927541190946,0,2.1711113472163235,{"$f":"IF(Dashboard2!$Q11>=Data2!$I$9,Dashboard2!$Q11,NA())","v":2.1049622684655844},{"$f":"IF(Dashboard2!$Q11<Data2!$I$9,Dashboard2!$Q11,NA())","v":{"$error":"#N/A"}},1.0513192314752038,0,2.7301630068705371,{"$f":"IF(Dashboard2!$T11>=Data2!$J$9,Dashboard2!$T11,NA())","v":1},{"$f":"IF(Dashboard2!$T11<Data2!$J$9,Dashboard2!$T11,NA())","v":{"$error":"#N/A"}},0.66666666666666663,0,1,{"$f":"IF(Dashboard2!$W11>=Data2!$K$9,Dashboard2!$W11,NA())","v":0.32486927565046275},{"$f":"IF(Dashboard2!$W11<Data2!$K$9,Dashboard2!$W11,NA())","v":{"$error":"#N/A"}},0.15099430519756801,0,0.32486927565046275,{"$f":"IF(Dashboard2!$Z11>=Data2!$L$9,Dashboard2!$Z11,NA())","v":{"$error":"#N/A"}},{"$f":"IF(Dashboard2!$Z11<Data2!$L$9,Dashboard2!$Z11,NA())","v":5.8000594360305698E-2},5.0926767695943793E-2,0,0.2422997142968964,null,5,null,null,{"$f":"OFFSET(Data2!$D16,0,$E$20)","v":0},{"$f":"OFFSET(Data2!$D16,0,$E$21)","v":0},null,-3.9118503946291128E-2,0]
[null,null,6,{"$f":"Data2!D17","v":"Amara Raja Batt"},{"$f":"OFFSET(Data2!$D17,0,mySortCriteria1)","v":87},87.000000005999993,82.000000006999997,7,null,{"$f":"OFFSET(Data2!D$11,$H32,0)","v":"Pidilite Ind"},{"$f":"OFFSET(Data2!E$11,$H32,0)","v":82},{"$f":"OFFSET(Data2!F$11,$H32,0)","v":0},{"$f":"OFFSET(Data2!G$11,$H32,0)","v":-4.1243856794186406E-3},{"$f":"OFFSET(Data2!H$11,$H32,0)","v":1.0784531646291069},{"$f":"OFFSET(Data2!I$11,$H32,0)","v":1.6477429083027049},{"$f":"OFFSET(Data2!J$11,$H32,0)","v":1},{"$f":"OFFSET(Data2!K$11,$H32,0)","v":0.20426656212009742},{"$f":"OFFSET(Data2!L$11,$H32,0)","v":0.13584259095438081},null,{"$f":"IF(Dashboard2!$E12>=Data2!$E$9,Dashboard2!$E12,NA())","v":82},{"$f":"IF(Dashboard2!$E12<Data2!$E$9,Dashboard2!$E12,NA())","v":{"$error":"#N/A"}},53.523809523809526,0,87,{"$f":"IF(Dashboard2!$H12>=Data2!$F$9,Dashboard2!$H12,NA())","v":{"$error":"#N/A"}},{"$f":"IF(Dashboard2!$H12<Data2!$F$9,Dashboard2!$H12,NA())","v":0},1.0095238095238095E-2,0,0.21,{"$f":"IF(Dashboard2!$K12>=$AF32,Dashboard2!$K12,NA())","v":-4.1243856794186406E-3},{"$f":"IF(Dashboard2!$K12<$AF32,Dashboard2!$K12,NA())","v":{"$error":"#N/A"}},-5.1633873902329893E-3,-4.9748766722175208E-2,1.7134568699457287E-3,{"$f":"IF(Dashboard2!$N12>=Data2!$H$9,Dashboard2!$N12,NA())","v":{"$error":"#N/A"}},{"$f":"IF(Dashboard2!$N12<Data2!$H$9,Dashboard2!$N12,NA())","v":1.0784531646291069},0.75958927541190946,0,2.1711113472163235,{"$f":"IF(Dashboard2!$Q12>=Data2!$I$9,Dashboard2!$Q12,NA())","v":1.6477429083027049},{"$f":"IF(Dashboard2!$Q12<Data2!$I$9,Dashboard2!$Q12,NA())","v":{"$error":"#N/A"}},1.0513192314752038,0,2.7301630068705371,{"$f":"IF(Dashboard2!$T12>=Data2!$J$9,Dashboard2!$T12,NA())","v":1},{"$f":"IF(Dashboard2!$T12<Data2!$J$9,Dashboard2!$T12,NA())","v":{"$error":"#N/A"}},0.66666666666666663,0,1,{"$f":"IF(Dashboard2!$W12>=Data2!$K$9,Dashboard2!$W12,NA())","v":{"$error":"#N/A"}},{"$f":"IF(Dashboard2!$W12<Data2!$K$9,Dashboard2!$W12,NA())","v":0.20426656212009742},0.15099430519756801,0,0.32486927565046275,{"$f":"IF(Dashboard2!$Z12>=Data2!$L$9,Dashboard2!$Z12,NA())","v":0.13584259095438081},{"$f":"IF(Dashboard2!$Z12<Data2!$L$9,Dashboard2!$Z12,NA())","v":{"$error":"#N/A"}},5.0926767695943793E-2,0,0.2422997142968964,null,6,null,null,{"$f":"OFFSET(Data2!$D17,0,$E$20)","v":0},{"$f":"OFFSET(Data2!$D17,0,$E$21)","v":0},null,-4.1243856794186406E-3,0]
[null,null,7,{"$f":"Data2!D18","v":"Pidilite Ind"},{"$f":"OFFSET(Data2!$D18,0,mySortCriteria1)","v":82},82.000000006999997,81.500000002999997,3,null,{"$f":"OFFSET(Data2!D$11,$H33,0)","v":"Dabur India"},{"$f":"OFFSET(Data2!E$11,$H33,0)","v":81.5},{"$f":"OFFSET(Data2!F$11,$H33,0)","v":0},{"$f":"OFFSET(Data2!G$11,$H33,0)","v":-2.3021840587456044E-3},{"$f":"OFFSET(Data2!H$11,$H33,0)","v":1.0095241781659987},{"$f":"OFFSET(Data2!I$11,$H33,0)","v":1.1965328682635274},{"$f":"OFFSET(Data2!J$11,$H33,0)","v":1},{"$f":"OFFSET(Data2!K$11,$H33,0)","v":0.24232054644192402},{"$f":"OFFSET(Data2!L$11,$H33,0)","v":9.5776920329026904E-2},null,{"$f":"IF(Dashboard2!$E13>=Data2!$E$9,Dashboard2!$E13,NA())","v":81.5},{"$f":"IF(Dashboard2!$E13<Data2!$E$9,Dashboard2!$E13,NA())","v":{"$error":"#N/A"}},53.523809523809526,0,87,{"$f":"IF(Dashboard2!$H13>=Data2!$F$9,Dashboard2!$H13,NA())","v":{"$error":"#N/A"}},{"$f":"IF(Dashboard2!$H13<Data2!$F$9,Dashboard2!$H13,NA())","v":0},1.0095238095238095E-2,0,0.21,{"$f":"IF(Dashboard2!$K13>=$AF33,Dashboard2!$K13,NA())","v":-2.3021840587456044E-3},{"$f":"IF(Dashboard2!$K13<$AF33,Dashboard2!$K13,NA())","v":{"$error":"#N/A"}},-5.1633873902329893E-3,-4.9748766722175208E-2,1.7134568699457287E-3,{"$f":"IF(Dashboard2!$N13>=Data2!$H$9,Dashboard2!$N13,NA())","v":{"$error":"#N/A"}},{"$f":"IF(Dashboard2!$N13<Data2!$H$9,Dashboard2!$N13,NA())","v":1.0095241781659987},0.75958927541190946,0,2.1711113472163235,{"$f":"IF(Dashboard2!$Q13>=Data2!$I$9,Dashboard2!$Q13,NA())","v":{"$error":"#N/A"}},{"$f":"IF(Dashboard2!$Q13<Data2!$I$9,Dashboard2!$Q13,NA())","v":1.1965328682635274},1.0513192314752038,0,2.7301630068705371,{"$f":"IF(Dashboard2!$T13>=Data2!$J$9,Dashboard2!$T13,NA())","v":1},{"$f":"IF(Dashboard2!$T13<Data2!$J$9,Dashboard2!$T13,NA())","v":{"$error":"#N/A"}},0.66666666666666663,0,1,{"$f":"IF(Dashboard2!$W13>=Data2!$K$9,Dashboard2!$W13,NA())","v":0.24232054644192402},{"$f":"IF(Dashboard2!$W13<Data2!$K$9,Dashboard2!$W13,NA())","v":{"$error":"#N/A"}},0.15099430519756801,0,0.32486927565046275,{"$f":"IF(Dashboard2!$Z13>=Data2!$L$9,Dashboard2!$Z13,NA())","v":9.5776920329026904E-2},{"$f":"IF(Dashboard2!$Z13<Data2!$L$9,Dashboard2!$Z13,NA())","v":{"$error":"#N/A"}},5.0926767695943793E-2,0,0.2422997142968964,null,7,null,null,{"$f":"OFFSET(Data2!$D18,0,$E$20)","v":-4.1243856794186406E-3},{"$f":"OFFSET(Data2!$D18,0,$E$21)","v":0},null,-2.3021840587456044E-3,0]
[null,null,8,{"$f":"Data2!D19","v":"Colgate"},{"$f":"OFFSET(Data2!$D19,0,mySortCriteria1)","v":79},79.000000008000001,80.000000005000004,5,null,{"$f":"OFFSET(Data2!D$11,$H34,0)","v":"Titan Company"},{"$f":"OFFSET(Data2!E$11,$H34,0)","v":80},{"$f":"OFFSET(Data2!F$11,$H34,0)","v":0},{"$f":"OFFSET(Data2!G$11,$H34,0)","v":0},{"$f":"OFFSET(Data2!H$11,$H34,0)","v":0.35296623856889858},{"$f":"OFFSET(Data2!I$11,$H34,0)","v":1.9622467341683036},{"$f":"OFFSET(Data2!J$11,$H34,0)","v":1},{"$f":"OFFSET(Data2!K$11,$H34,0)","v":0.27937603834573999},{"$f":"OFFSET(Data2!L$11,$H34,0)","v":1.7322515897245601E-2},null,{"$f":"IF(Dashboard2!$E14>=Data2!$E$9,Dashboard2!$E14,NA())","v":{"$error":"#N/A"}},{"$f":"IF(Dashboard2!$E14<Data2!$E$9,Dashboard2!$E14,NA())","v":80},53.523809523809526,0,87,{"$f":"IF(Dashboard2!$H14>=Data2!$F$9,Dashboard2!$H14,NA())","v":{"$error":"#N/A"}},{"$f":"IF(Dashboard2!$H14<Data2!$F$9,Dashboard2!$H14,NA())","v":0},1.0095238095238095E-2,0,0.21,{"$f":"IF(Dashboard2!$K14>=$AF34,Dashboard2!$K14,NA())","v":0},{"$f":"IF(Dashboard2!$K14<$AF34,Dashboard2!$K14,NA())","v":{"$error":"#N/A"}},-5.1633873902329893E-3,-4.9748766722175208E-2,1.7134568699457287E-3,{"$f":"IF(Dashboard2!$N14>=Data2!$H$9,Dashboard2!$N14,NA())","v":{"$error":"#N/A"}},{"$f":"IF(Dashboard2!$N14<Data2!$H$9,Dashboard2!$N14,NA())","v":0.35296623856889858},0.75958927541190946,0,2.1711113472163235,{"$f":"IF(Dashboard2!$Q14>=Data2!$I$9,Dashboard2!$Q14,NA())","v":1.9622467341683036},{"$f":"IF(Dashboard2!$Q14<Data2!$I$9,Dashboard2!$Q14,NA())","v":{"$error":"#N/A"}},1.0513192314752038,0,2.7301630068705371,{"$f":"IF(Dashboard2!$T14>=Data2!$J$9,Dashboard2!$T14,NA())","v":1},{"$f":"IF(Dashboard2!$T14<Data2!$J$9,Dashboard2!$T14,NA())","v":{"$error":"#N/A"}},0.66666666666666663,0,1,{"$f":"IF(Dashboard2!$W14>=Data2!$K$9,Dashboard2!$W14,NA())","v":0.27937603834573999},{"$f":"IF(Dashboard2!$W14<Data2!$K$9,Dashboard2!$W14,NA())","v":{"$error":"#N/A"}},0.15099430519756801,0,0.32486927565046275,{"$f":"IF(Dashboard2!$Z14>=Data2!$L$9,Dashboard2!$Z14,NA())","v":{"$error":"#N/A"}},{"$f":"IF(Dashboard2!$Z14<Data2!$L$9,Dashboard2!$Z14,NA())","v":1.7322515897245601E-2},5.0926767695943793E-2,0,0.2422997142968964,null,8,null,null,{"$f":"OFFSET(Data2!$D19,0,$E$20)","v":0},{"$f":"OFFSET(Data2!$D19,0,$E$21)","v":0},null,0,0]
[null,null,9,{"$f":"Data2!D20","v":"Emami"},{"$f":"OFFSET(Data2!$D20,0,mySortCriteria1)","v":71.5},71.500000009000004,79.500000010999997,11,null,{"$f":"OFFSET(Data2!D$11,$H35,0)","v":"Heritage Foods"},{"$f":"OFFSET(Data2!E$11,$H35,0)","v":79.5},{"$f":"OFFSET(Data2!F$11,$H35,0)","v":0},{"$f":"OFFSET(Data2!G$11,$H35,0)","v":0},{"$f":"OFFSET(Data2!H$11,$H35,0)","v":2.1711113472163235},{"$f":"OFFSET(Data2!I$11,$H35,0)","v":1.2029540992801722},{"$f":"OFFSET(Data2!J$11,$H35,0)","v":1},{"$f":"OFFSET(Data2!K$11,$H35,0)","v":6.626092182592247E-2},{"$f":"OFFSET(Data2!L$11,$H35,0)","v":1.2093691453343302E-2},null,{"$f":"IF(Dashboard2!$E15>=Data2!$E$9,Dashboard2!$E15,NA())","v":{"$error":"#N/A"}},{"$f":"IF(Dashboard2!$E15<Data2!$E$9,Dashboard2!$E15,NA())","v":79.5},53.523809523809526,0,87,{"$f":"IF(Dashboard2!$H15>=Data2!$F$9,Dashboard2!$H15,NA())","v":{"$error":"#N/A"}},{"$f":"IF(Dashboard2!$H15<Data2!$F$9,Dashboard2!$H15,NA())","v":0},1.0095238095238095E-2,0,0.21,{"$f":"IF(Dashboard2!$K15>=$AF35,Dashboard2!$K15,NA())","v":0},{"$f":"IF(Dashboard2!$K15<$AF35,Dashboard2!$K15,NA())","v":{"$error":"#N/A"}},-5.1633873902329893E-3,-4.9748766722175208E-2,1.7134568699457287E-3,{"$f":"IF(Dashboard2!$N15>=Data2!$H$9,Dashboard2!$N15,NA())","v":2.1711113472163235},{"$f":"IF(Dashboard2!$N15<Data2!$H$9,Dashboard2!$N15,NA())","v":{"$error":"#N/A"}},0.75958927541190946,0,2.1711113472163235,{"$f":"IF(Dashboard2!$Q15>=Data2!$I$9,Dashboard2!$Q15,NA())","v":{"$error":"#N/A"}},{"$f":"IF(Dashboard2!$Q15<Data2!$I$9,Dashboard2!$Q15,NA())","v":1.2029540992801722},1.0513192314752038,0,2.7301630068705371,{"$f":"IF(Dashboard2!$T15>=Data2!$J$9,Dashboard2!$T15,NA())","v":1},{"$f":"IF(Dashboard2!$T15<Data2!$J$9,Dashboard2!$T15,NA())","v":{"$error":"#N/A"}},0.66666666666666663,0,1,{"$f":"IF(Dashboard2!$W15>=Data2!$K$9,Dashboard2!$W15,NA())","v":{"$error":"#N/A"}},{"$f":"IF(Dashboard2!$W15<Data2!$K$9,Dashboard2!$W15,NA())","v":6.626092182592247E-2},0.15099430519756801,0,0.32486927565046275,{"$f":"IF(Dashboard2!$Z15>=Data2!$L$9,Dashboard2!$Z15,NA())","v":{"$error":"#N/A"}},{"$f":"IF(Dashboard2!$Z15<Data2!$L$9,Dashboard2!$Z15,NA())","v":1.2093691453343302E-2},5.0926767695943793E-2,0,0.2422997142968964,null,9,null,null,{"$f":"OFFSET(Data2!$D20,0,$E$20)","v":0},{"$f":"OFFSET(Data2!$D20,0,$E$21)","v":0.21},null,0,0]
[null,null,10,{"$f":"Data2!D21","v":"Godrej Consumer"},{"$f":"OFFSET(Data2!$D21,0,mySortCriteria1)","v":76},76.000000009999994,79.000000008000001,8,null,{"$f":"OFFSET(Data2!D$11,$H36,0)","v":"Colgate"},{"$f":"OFFSET(Data2!E$11,$H36,0)","v":79},{"$f":"OFFSET(Data2!F$11,$H36,0)","v":0},{"$f":"OFFSET(Data2!G$11,$H36,0)","v":0},{"$f":"OFFSET(Data2!H$11,$H36,0)","v":1.0640036660811121},{"$f":"OFFSET(Data2!I$11,$H36,0)","v":0.89814038324458045},{"$f":"OFFSET(Data2!J$11,$H36,0)","v":1},{"$f":"OFFSET(Data2!K$11,$H36,0)","v":0.21561859897910685},{"$f":"OFFSET(Data2!L$11,$H36,0)","v":2.4395224744071173E-2},null,{"$f":"IF(Dashboard2!$E16>=Data2!$E$9,Dashboard2!$E16,NA())","v":{"$error":"#N/A"}},{"$f":"IF(Dashboard2!$E16<Data2!$E$9,Dashboard2!$E16,NA())","v":79},53.523809523809526,0,87,{"$f":"IF(Dashboard2!$H16>=Data2!$F$9,Dashboard2!$H16,NA())","v":{"$error":"#N/A"}},{"$f":"IF(Dashboard2!$H16<Data2!$F$9,Dashboard2!$H16,NA())","v":0},1.0095238095238095E-2,0,0.21,{"$f":"IF(Dashboard2!$K16>=$AF36,Dashboard2!$K16,NA())","v":0},{"$f":"IF(Dashboard2!$K16<$AF36,Dashboard2!$K16,NA())","v":{"$error":"#N/A"}},-5.1633873902329893E-3,-4.9748766722175208E-2,1.7134568699457287E-3,{"$f":"IF(Dashboard2!$N16>=Data2!$H$9,Dashboard2!$N16,NA())","v":{"$error":"#N/A"}},{"$f":"IF(Dashboard2!$N16<Data2!$H$9,Dashboard2!$N16,NA())","v":1.0640036660811121},0.75958927541190946,0,2.1711113472163235,{"$f":"IF(Dashboard2!$Q16>=Data2!$I$9,Dashboard2!$Q16,NA())","v":{"$error":"#N/A"}},{"$f":"IF(Dashboard2!$Q16<Data2!$I$9,Dashboard2!$Q16,NA())","v":0.89814038324458045},1.0513192314752038,0,2.7301630068705371,{"$f":"IF(Dashboard2!$T16>=Data2!$J$9,Dashboard2!$T16,NA())","v":1},{"$f":"IF(Dashboard2!$T16<Data2!$J$9,Dashboard2!$T16,NA())","v":{"$error":"#N/A"}},0.66666666666666663,0,1,{"$f":"IF(Dashboard2!$W16>=Data2!$K$9,Dashboard2!$W16,NA())","v":{"$error":"#N/A"}},{"$f":"IF(Dashboard2!$W16<Data2!$K$9,Dashboard2!$W16,NA())","v":0.21561859897910685},0.15099430519756801,0,0.32486927565046275,{"$f":"IF(Dashboard2!$Z16>=Data2!$L$9,Dashboard2!$Z16,NA())","v":{"$error":"#N/A"}},{"$f":"IF(Dashboard2!$Z16<Data2!$L$9,Dashboard2!$Z16,NA())","v":2.4395224744071173E-2},5.0926767695943793E-2,0,0.2422997142968964,null,10,null,null,{"$f":"OFFSET(Data2!$D21,0,$E$20)","v":-2.7075529494952066E-3},{"$f":"OFFSET(Data2!$D21,0,$E$21)","v":2E-3},null,0,0]
[null,null,11,{"$f":"Data2!D22","v":"Heritage Foods"},{"$f":"OFFSET(Data2!$D22,0,mySortCriteria1)","v":79.5},79.500000010999997,79.000000004,4,null,{"$f":"OFFSET(Data2!D$11,$H37,0)","v":"Mayur Uniquoter"},{"$f":"OFFSET(Data2!E$11,$H37,0)","v":79},{"$f":"OFFSET(Data2!F$11,$H37,0)","v":0},{"$f":"OFFSET(Data2!G$11,$H37,0)","v":-4.9748766722175208E-2},{"$f":"OFFSET(Data2!H$11,$H37,0)","v":0.79361423154612121},{"$f":"OFFSET(Data2!I$11,$H37,0)","v":2.7301630068705371},{"$f":"OFFSET(Data2!J$11,$H37,0)","v":1},{"$f":"OFFSET(Data2!K$11,$H37,0)","v":0.3152243716010148},{"$f":"OFFSET(Data2!L$11,$H37,0)","v":0.2422997142968964},null,{"$f":"IF(Dashboard2!$E17>=Data2!$E$9,Dashboard2!$E17,NA())","v":{"$error":"#N/A"}},{"$f":"IF(Dashboard2!$E17<Data2!$E$9,Dashboard2!$E17,NA())","v":79},53.523809523809526,0,87,{"$f":"IF(Dashboard2!$H17>=Data2!$F$9,Dashboard2!$H17,NA())","v":{"$error":"#N/A"}},{"$f":"IF(Dashboard2!$H17<Data2!$F$9,Dashboard2!$H17,NA())","v":0},1.0095238095238095E-2,0,0.21,{"$f":"IF(Dashboard2!$K17>=$AF37,Dashboard2!$K17,NA())","v":{"$error":"#N/A"}},{"$f":"IF(Dashboard2!$K17<$AF37,Dashboard2!$K17,NA())","v":-4.9748766722175208E-2},-5.1633873902329893E-3,-4.9748766722175208E-2,1.7134568699457287E-3,{"$f":"IF(Dashboard2!$N17>=Data2!$H$9,Dashboard2!$N17,NA())","v":{"$error":"#N/A"}},{"$f":"IF(Dashboard2!$N17<Data2!$H$9,Dashboard2!$N17,NA())","v":0.79361423154612121},0.75958927541190946,0,2.1711113472163235,{"$f":"IF(Dashboard2!$Q17>=Data2!$I$9,Dashboard2!$Q17,NA())","v":2.7301630068705371},{"$f":"IF(Dashboard2!$Q17<Data2!$I$9,Dashboard2!$Q17,NA())","v":{"$error":"#N/A"}},1.0513192314752038,0,2.7301630068705371,{"$f":"IF(Dashboard2!$T17>=Data2!$J$9,Dashboard2!$T17,NA())","v":1},{"$f":"IF(Dashboard2!$T17<Data2!$J$9,Dashboard2!$T17,NA())","v":{"$error":"#N/A"}},0.66666666666666663,0,1,{"$f":"IF(Dashboard2!$W17>=Data2!$K$9,Dashboard2!$W17,NA())","v":0.3152243716010148},{"$f":"IF(Dashboard2!$W17<Data2!$K$9,Dashboard2!$W17,NA())","v":{"$error":"#N/A"}},0.15099430519756801,0,0.32486927565046275,{"$f":"IF(Dashboard2!$Z17>=Data2!$L$9,Dashboard2!$Z17,NA())","v":0.2422997142968964},{"$f":"IF(Dashboard2!$Z17<Data2!$L$9,Dashboard2!$Z17,NA())","v":{"$error":"#N/A"}},5.0926767695943793E-2,0,0.2422997142968964,null,11,null,null,{"$f":"OFFSET(Data2!$D22,0,$E$20)","v":0},{"$f":"OFFSET(Data2!$D22,0,$E$21)","v":0}]
[null,null,12,{"$f":"Data2!D23","v":"Page Industries"},{"$f":"OFFSET(Data2!$D23,0,mySortCriteria1)","v":82},82.000000012000001,76.000000009999994,10,null,{"$f":"OFFSET(Data2!D$11,$H38,0)","v":"Godrej Consumer"},{"$f":"OFFSET(Data2!E$11,$H38,0)","v":76},{"$f":"OFFSET(Data2!F$11,$H38,0)","v":2E-3},{"$f":"OFFSET(Data2!G$11,$H38,0)","v":-2.7075529494952066E-3},{"$f":"OFFSET(Data2!H$11,$H38,0)","v":1.0766881477559107},{"$f":"OFFSET(Data2!I$11,$H38,0)","v":1.6593087238539466},{"$f":"OFFSET(Data2!J$11,$H38,0)","v":1},{"$f":"OFFSET(Data2!K$11,$H38,0)","v":0.22935145580333871},{"$f":"OFFSET(Data2!L$11,$H38,0)","v":0.12466923362560091},null,{"$f":"IF(Dashboard2!$E18>=Data2!$E$9,Dashboard2!$E18,NA())","v":{"$error":"#N/A"}},{"$f":"IF(Dashboard2!$E18<Data2!$E$9,Dashboard2!$E18,NA())","v":76},53.523809523809526,0,87,{"$f":"IF(Dashboard2!$H18>=Data2!$F$9,Dashboard2!$H18,NA())","v":{"$error":"#N/A"}},{"$f":"IF(Dashboard2!$H18<Data2!$F$9,Dashboard2!$H18,NA())","v":2E-3},1.0095238095238095E-2,0,0.21,{"$f":"IF(Dashboard2!$K18>=$AF38,Dashboard2!$K18,NA())","v":-2.7075529494952066E-3},{"$f":"IF(Dashboard2!$K18<$AF38,Dashboard2!$K18,NA())","v":{"$error":"#N/A"}},-5.1633873902329893E-3,-4.9748766722175208E-2,1.7134568699457287E-3,{"$f":"IF(Dashboard2!$N18>=Data2!$H$9,Dashboard2!$N18,NA())","v":{"$error":"#N/A"}},{"$f":"IF(Dashboard2!$N18<Data2!$H$9,Dashboard2!$N18,NA())","v":1.0766881477559107},0.75958927541190946,0,2.1711113472163235,{"$f":"IF(Dashboard2!$Q18>=Data2!$I$9,Dashboard2!$Q18,NA())","v":1.6593087238539466},{"$f":"IF(Dashboard2!$Q18<Data2!$I$9,Dashboard2!$Q18,NA())","v":{"$error":"#N/A"}},1.0513192314752038,0,2.7301630068705371,{"$f":"IF(Dashboard2!$T18>=Data2!$J$9,Dashboard2!$T18,NA())","v":1},{"$f":"IF(Dashboard2!$T18<Data2!$J$9,Dashboard2!$T18,NA())","v":{"$error":"#N/A"}},0.66666666666666663,0,1,{"$f":"IF(Dashboard2!$W18>=Data2!$K$9,Dashboard2!$W18,NA())","v":0.22935145580333871},{"$f":"IF(Dashboard2!$W18<Data2!$K$9,Dashboard2!$W18,NA())","v":{"$error":"#N/A"}},0.15099430519756801,0,0.32486927565046275,{"$f":"IF(Dashboard2!$Z18>=Data2!$L$9,Dashboard2!$Z18,NA())","v":0.12466923362560091},{"$f":"IF(Dashboard2!$Z18<Data2!$L$9,Dashboard2!$Z18,NA())","v":{"$error":"#N/A"}},5.0926767695943793E-2,0,0.2422997142968964,null,12,null,null,{"$f":"OFFSET(Data2!$D23,0,$E$20)","v":-3.9118503946291128E-2},{"$f":"OFFSET(Data2!$D23,0,$E$21)","v":0}]
[null,null,13,{"$f":"Data2!D24","v":"Nestle"},{"$f":"OFFSET(Data2!$D24,0,mySortCriteria1)","v":71},{"$f":"E39+$C39/1000000000","v":71.000000013000005},71.500000009000004,{"$f":"MATCH(G39,$F$27:$F$126,0)","v":9},null,{"$f":"OFFSET(Data2!D$11,$H39,0)","v":"Emami"},{"$f":"OFFSET(Data2!E$11,$H39,0)","v":71.5},{"$f":"OFFSET(Data2!F$11,$H39,0)","v":0.21},{"$f":"OFFSET(Data2!G$11,$H39,0)","v":0},{"$f":"OFFSET(Data2!H$11,$H39,0)","v":1.1932780958451008},{"$f":"OFFSET(Data2!I$11,$H39,0)","v":1.0238022633326558},{"$f":"OFFSET(Data2!J$11,$H39,0)","v":1},{"$f":"OFFSET(Data2!K$11,$H39,0)","v":6.279870253812847E-2},{"$f":"OFFSET(Data2!L$11,$H39,0)","v":4.9600006098049002E-2},null,{"$f":"IF(Dashboard2!$E19>=Data2!$E$9,Dashboard2!$E19,NA())","v":{"$error":"#N/A"}},{"$f":"IF(Dashboard2!$E19<Data2!$E$9,Dashboard2!$E19,NA())","v":71.5},53.523809523809526,0,87,{"$f":"IF(Dashboard2!$H19>=Data2!$F$9,Dashboard2!$H19,NA())","v":0.21},{"$f":"IF(Dashboard2!$H19<Data2!$F$9,Dashboard2!$H19,NA())","v":{"$error":"#N/A"}},1.0095238095238095E-2,0,0.21,{"$f":"IF(Dashboard2!$K19>=$AF39,Dashboard2!$K19,NA())","v":0},{"$f":"IF(Dashboard2!$K19<$AF39,Dashboard2!$K19,NA())","v":{"$error":"#N/A"}},-5.1633873902329893E-3,-4.9748766722175208E-2,1.7134568699457287E-3,{"$f":"IF(Dashboard2!$N19>=Data2!$H$9,Dashboard2!$N19,NA())","v":1.1932780958451008},{"$f":"IF(Dashboard2!$N19<Data2!$H$9,Dashboard2!$N19,NA())","v":{"$error":"#N/A"}},0.75958927541190946,0,2.1711113472163235,{"$f":"IF(Dashboard2!$Q19>=Data2!$I$9,Dashboard2!$Q19,NA())","v":{"$error":"#N/A"}},{"$f":"IF(Dashboard2!$Q19<Data2!$I$9,Dashboard2!$Q19,NA())","v":1.0238022633326558},1.0513192314752038,0,2.7301630068705371,{"$f":"IF(Dashboard2!$T19>=Data2!$J$9,Dashboard2!$T19,NA())","v":1},{"$f":"IF(Dashboard2!$T19<Data2!$J$9,Dashboard2!$T19,NA())","v":{"$error":"#N/A"}},0.66666666666666663,0,1,{"$f":"IF(Dashboard2!$W19>=Data2!$K$9,Dashboard2!$W19,NA())","v":{"$error":"#N/A"}},{"$f":"IF(Dashboard2!$W19<Data2!$K$9,Dashboard2!$W19,NA())","v":6.279870253812847E-2},0.15099430519756801,0,0.32486927565046275,{"$f":"IF(Dashboard2!$Z19>=Data2!$L$9,Dashboard2!$Z19,NA())","v":{"$error":"#N/A"}},{"$f":"IF(Dashboard2!$Z19<Data2!$L$9,Dashboard2!$Z19,NA())","v":4.9600006098049002E-2},5.0926767695943793E-2,0,0.2422997142968964,null,13,null,null,{"$f":"OFFSET(Data2!$D24,0,$E$20)","v":0},{"$f":"OFFSET(Data2!$D24,0,$E$21)","v":0}]
[null,null,14,{"$f":"Data2!D25","v":"Tasty Bite"},{"$f":"OFFSET(Data2!$D25,0,mySortCriteria1)","v":87},{"$f":"E40+$C40/1000000000","v":87.000000013999994},71.000000013000005,{"$f":"MATCH(G40,$F$27:$F$126,0)","v":13},null,{"$f":"OFFSET(Data2!D$11,$H40,0)","v":"Nestle"},{"$f":"OFFSET(Data2!E$11,$H40,0)","v":71},{"$f":"OFFSET(Data2!F$11,$H40,0)","v":0},{"$f":"OFFSET(Data2!G$11,$H40,0)","v":0},{"$f":"OFFSET(Data2!H$11,$H40,0)","v":1.5098507121156715},{"$f":"OFFSET(Data2!I$11,$H40,0)","v":0.51858717255989428},{"$f":"OFFSET(Data2!J$11,$H40,0)","v":1},{"$f":"OFFSET(Data2!K$11,$H40,0)","v":0.26925062507260278},{"$f":"OFFSET(Data2!L$11,$H40,0)","v":9.5922968058703584E-3},null,{"$f":"IF(Dashboard2!$E20>=Data2!$E$9,Dashboard2!$E20,NA())","v":{"$error":"#N/A"}},{"$f":"IF(Dashboard2!$E20<Data2!$E$9,Dashboard2!$E20,NA())","v":71},53.523809523809526,0,87,{"$f":"IF(Dashboard2!$H20>=Data2!$F$9,Dashboard2!$H20,NA())","v":{"$error":"#N/A"}},{"$f":"IF(Dashboard2!$H20<Data2!$F$9,Dashboard2!$H20,NA())","v":0},1.0095238095238095E-2,0,0.21,{"$f":"IF(Dashboard2!$K20>=$AF40,Dashboard2!$K20,NA())","v":0},{"$f":"IF(Dashboard2!$K20<$AF40,Dashboard2!$K20,NA())","v":{"$error":"#N/A"}},-5.1633873902329893E-3,-4.9748766722175208E-2,1.7134568699457287E-3,{"$f":"IF(Dashboard2!$N20>=Data2!$H$9,Dashboard2!$N20,NA())","v":1.5098507121156715},{"$f":"IF(Dashboard2!$N20<Data2!$H$9,Dashboard2!$N20,NA())","v":{"$error":"#N/A"}},0.75958927541190946,0,2.1711113472163235,{"$f":"IF(Dashboard2!$Q20>=Data2!$I$9,Dashboard2!$Q20,NA())","v":{"$error":"#N/A"}},{"$f":"IF(Dashboard2!$Q20<Data2!$I$9,Dashboard2!$Q20,NA())","v":0.51858717255989428},1.0513192314752038,0,2.7301630068705371,{"$f":"IF(Dashboard2!$T20>=Data2!$J$9,Dashboard2!$T20,NA())","v":1},{"$f":"IF(Dashboard2!$T20<Data2!$J$9,Dashboard2!$T20,NA())","v":{"$error":"#N/A"}},0.66666666666666663,0,1,{"$f":"IF(Dashboard2!$W20>=Data2!$K$9,Dashboard2!$W20,NA())","v":0.26925062507260278},{"$f":"IF(Dashboard2!$W20<Data2!$K$9,Dashboard2!$W20,NA())","v":{"$error":"#N/A"}},0.15099430519756801,0,0.32486927565046275,{"$f":"IF(Dashboard2!$Z20>=Data2!$L$9,Dashboard2!$Z20,NA())","v":{"$error":"#N/A"}},{"$f":"IF(Dashboard2!$Z20<Data2!$L$9,Dashboard2!$Z20,NA())","v":9.5922968058703584E-3},5.0926767695943793E-2,0,0.2422997142968964,null,14,null,null,{"$f":"OFFSET(Data2!$D25,0,$E$20)","v":1.7134568699457287E-3},{"$f":"OFFSET(Data2!$D25,0,$E$21)","v":0}]
[null,null,15,{"$f":"Data2!D26","v":0},{"$f":"OFFSET(Data2!$D26,0,mySortCriteria1)","v":0},{"$f":"E41+$C41/1000000000","v":1.4999999999999999E-8},2.0999999999999999E-8,{"$f":"MATCH(G41,$F$27:$F$126,0)","v":21},null,{"$f":"OFFSET(Data2!D$11,$H41,0)","v":0},{"$f":"OFFSET(Data2!E$11,$H41,0)","v":0},{"$f":"OFFSET(Data2!F$11,$H41,0)","v":0},{"$f":"OFFSET(Data2!G$11,$H41,0)","v":0},{"$f":"OFFSET(Data2!H$11,$H41,0)","v":0},{"$f":"OFFSET(Data2!I$11,$H41,0)","v":0},{"$f":"OFFSET(Data2!J$11,$H41,0)","v":0},{"$f":"OFFSET(Data2!K$11,$H41,0)","v":0},{"$f":"OFFSET(Data2!L$11,$H41,0)","v":0},null,{"$f":"IF(Dashboard2!$E21>=Data2!$E$9,Dashboard2!$E21,NA())","v":{"$error":"#N/A"}},{"$f":"IF(Dashboard2!$E21<Data2!$E$9,Dashboard2!$E21,NA())","v":0},53.523809523809526,0,87,{"$f":"IF(Dashboard2!$H21>=Data2!$F$9,Dashboard2!$H21,NA())","v":{"$error":"#N/A"}},{"$f":"IF(Dashboard2!$H21<Data2!$F$9,Dashboard2!$H21,NA())","v":0},1.0095238095238095E-2,0,0.21,{"$f":"IF(Dashboard2!$K21>=$AF41,Dashboard2!$K21,NA())","v":0},{"$f":"IF(Dashboard2!$K21<$AF41,Dashboard2!$K21,NA())","v":{"$error":"#N/A"}},-5.1633873902329893E-3,-4.9748766722175208E-2,1.7134568699457287E-3,{"$f":"IF(Dashboard2!$N21>=Data2!$H$9,Dashboard2!$N21,NA())","v":{"$error":"#N/A"}},{"$f":"IF(Dashboard2!$N21<Data2!$H$9,Dashboard2!$N21,NA())","v":0},0.75958927541190946,0,2.1711113472163235,{"$f":"IF(Dashboard2!$Q21>=Data2!$I$9,Dashboard2!$Q21,NA())","v":{"$error":"#N/A"}},{"$f":"IF(Dashboard2!$Q21<Data2!$I$9,Dashboard2!$Q21,NA())","v":0},1.0513192314752038,0,2.7301630068705371,{"$f":"IF(Dashboard2!$T21>=Data2!$J$9,Dashboard2!$T21,NA())","v":{"$error":"#N/A"}},{"$f":"IF(Dashboard2!$T21<Data2!$J$9,Dashboard2!$T21,NA())","v":0},0.66666666666666663,0,1,{"$f":"IF(Dashboard2!$W21>=Data2!$K$9,Dashboard2!$W21,NA())","v":{"$error":"#N/A"}},{"$f":"IF(Dashboard2!$W21<Data2!$K$9,Dashboard2!$W21,NA())","v":0},0.15099430519756801,0,0.32486927565046275,{"$f":"IF(Dashboard2!$Z21>=Data2!$L$9,Dashboard2!$Z21,NA())","v":{"$error":"#N/A"}},{"$f":"IF(Dashboard2!$Z21<Data2!$L$9,Dashboard2!$Z21,NA())","v":0},5.0926767695943793E-2,0,0.2422997142968964,null,15,null,null,{"$f":"OFFSET(Data2!$D26,0,$E$20)","v":0},{"$f":"OFFSET(Data2!$D26,0,$E$21)","v":0}]
[null,null,16,{"$f":"Data2!D27","v":0},{"$f":"OFFSET(Data2!$D27,0,mySortCriteria1)","v":0},1.6000000000000001E-8,2E-8,20,null,{"$f":"OFFSET(Data2!D$11,$H42,0)","v":0},{"$f":"OFFSET(Data2!E$11,$H42,0)","v":0},{"$f":"OFFSET(Data2!F$11,$H42,0)","v":0},{"$f":"OFFSET(Data2!G$11,$H42,0)","v":0},{"$f":"OFFSET(Data2!H$11,$H42,0)","v":0},{"$f":"OFFSET(Data2!I$11,$H42,0)","v":0},{"$f":"OFFSET(Data2!J$11,$H42,0)","v":0},{"$f":"OFFSET(Data2!K$11,$H42,0)","v":0},{"$f":"OFFSET(Data2!L$11,$H42,0)","v":0},null,{"$f":"IF(Dashboard2!$E22>=Data2!$E$9,Dashboard2!$E22,NA())","v":{"$error":"#N/A"}},{"$f":"IF(Dashboard2!$E22<Data2!$E$9,Dashboard2!$E22,NA())","v":0},53.523809523809526,0,87,{"$f":"IF(Dashboard2!$H22>=Data2!$F$9,Dashboard2!$H22,NA())","v":{"$error":"#N/A"}},{"$f":"IF(Dashboard2!$H22<Data2!$F$9,Dashboard2!$H22,NA())","v":0},1.0095238095238095E-2,0,0.21,{"$f":"IF(Dashboard2!$K22>=$AF42,Dashboard2!$K22,NA())","v":0},{"$f":"IF(Dashboard2!$K22<$AF42,Dashboard2!$K22,NA())","v":{"$error":"#N/A"}},-5.1633873902329893E-3,-4.9748766722175208E-2,1.7134568699457287E-3,{"$f":"IF(Dashboard2!$N22>=Data2!$H$9,Dashboard2!$N22,NA())","v":{"$error":"#N/A"}},{"$f":"IF(Dashboard2!$N22<Data2!$H$9,Dashboard2!$N22,NA())","v":0},0.75958927541190946,0,2.1711113472163235,{"$f":"IF(Dashboard2!$Q22>=Data2!$I$9,Dashboard2!$Q22,NA())","v":{"$error":"#N/A"}},{"$f":"IF(Dashboard2!$Q22<Data2!$I$9,Dashboard2!$Q22,NA())","v":0},1.0513192314752038,0,2.7301630068705371,{"$f":"IF(Dashboard2!$T22>=Data2!$J$9,Dashboard2!$T22,NA())","v":{"$error":"#N/A"}},{"$f":"IF(Dashboard2!$T22<Data2!$J$9,Dashboard2!$T22,NA())","v":0},0.66666666666666663,0,1,{"$f":"IF(Dashboard2!$W22>=Data2!$K$9,Dashboard2!$W22,NA())","v":{"$error":"#N/A"}},{"$f":"IF(Dashboard2!$W22<Data2!$K$9,Dashboard2!$W22,NA())","v":0},0.15099430519756801,0,0.32486927565046275,{"$f":"IF(Dashboard2!$Z22>=Data2!$L$9,Dashboard2!$Z22,NA())","v":{"$error":"#N/A"}},{"$f":"IF(Dashboard2!$Z22<Data2!$L$9,Dashboard2!$Z22,NA())","v":0},5.0926767695943793E-2,0,0.2422997142968964,null,16,null,null,{"$f":"OFFSET(Data2!$D27,0,$E$20)","v":0},{"$f":"OFFSET(Data2!$D27,0,$E$21)","v":0}]
[null,null,17,{"$f":"Data2!D28","v":0},{"$f":"OFFSET(Data2!$D28,0,mySortCriteria1)","v":0},1.7E-8,1.9000000000000001E-8,19,null,{"$f":"OFFSET(Data2!D$11,$H43,0)","v":0},{"$f":"OFFSET(Data2!E$11,$H43,0)","v":0},{"$f":"OFFSET(Data2!F$11,$H43,0)","v":0},{"$f":"OFFSET(Data2!G$11,$H43,0)","v":0},{"$f":"OFFSET(Data2!H$11,$H43,0)","v":0},{"$f":"OFFSET(Data2!I$11,$H43,0)","v":0},{"$f":"OFFSET(Data2!J$11,$H43,0)","v":0},{"$f":"OFFSET(Data2!K$11,$H43,0)","v":0},{"$f":"OFFSET(Data2!L$11,$H43,0)","v":0},null,{"$f":"IF(Dashboard2!$E23>=Data2!$E$9,Dashboard2!$E23,NA())","v":{"$error":"#N/A"}},{"$f":"IF(Dashboard2!$E23<Data2!$E$9,Dashboard2!$E23,NA())","v":0},53.523809523809526,0,87,{"$f":"IF(Dashboard2!$H23>=Data2!$F$9,Dashboard2!$H23,NA())","v":{"$error":"#N/A"}},{"$f":"IF(Dashboard2!$H23<Data2!$F$9,Dashboard2!$H23,NA())","v":0},1.0095238095238095E-2,0,0.21,{"$f":"IF(Dashboard2!$K23>=$AF43,Dashboard2!$K23,NA())","v":0},{"$f":"IF(Dashboard2!$K23<$AF43,Dashboard2!$K23,NA())","v":{"$error":"#N/A"}},-5.1633873902329893E-3,-4.9748766722175208E-2,1.7134568699457287E-3,{"$f":"IF(Dashboard2!$N23>=Data2!$H$9,Dashboard2!$N23,NA())","v":{"$error":"#N/A"}},{"$f":"IF(Dashboard2!$N23<Data2!$H$9,Dashboard2!$N23,NA())","v":0},0.75958927541190946,0,2.1711113472163235,{"$f":"IF(Dashboard2!$Q23>=Data2!$I$9,Dashboard2!$Q23,NA())","v":{"$error":"#N/A"}},{"$f":"IF(Dashboard2!$Q23<Data2!$I$9,Dashboard2!$Q23,NA())","v":0},1.0513192314752038,0,2.7301630068705371,{"$f":"IF(Dashboard2!$T23>=Data2!$J$9,Dashboard2!$T23,NA())","v":{"$error":"#N/A"}},{"$f":"IF(Dashboard2!$T23<Data2!$J$9,Dashboard2!$T23,NA())","v":0},0.66666666666666663,0,1,{"$f":"IF(Dashboard2!$W23>=Data2!$K$9,Dashboard2!$W23,NA())","v":{"$error":"#N/A"}},{"$f":"IF(Dashboard2!$W23<Data2!$K$9,Dashboard2!$W23,NA())","v":0},0.15099430519756801,0,0.32486927565046275,{"$f":"IF(Dashboard2!$Z23>=Data2!$L$9,Dashboard2!$Z23,NA())","v":{"$error":"#N/A"}},{"$f":"IF(Dashboard2!$Z23<Data2!$L$9,Dashboard2!$Z23,NA())","v":0},5.0926767695943793E-2,0,0.2422997142968964,null,17,null,null,{"$f":"OFFSET(Data2!$D28,0,$E$20)","v":0},{"$f":"OFFSET(Data2!$D28,0,$E$21)","v":0}]
[null,null,18,{"$f":"Data2!D29","v":0},{"$f":"OFFSET(Data2!$D29,0,mySortCriteria1)","v":0},1.7999999999999999E-8,1.7999999999999999E-8,18,null,{"$f":"OFFSET(Data2!D$11,$H44,0)","v":0},{"$f":"OFFSET(Data2!E$11,$H44,0)","v":0},{"$f":"OFFSET(Data2!F$11,$H44,0)","v":0},{"$f":"OFFSET(Data2!G$11,$H44,0)","v":0},{"$f":"OFFSET(Data2!H$11,$H44,0)","v":0},{"$f":"OFFSET(Data2!I$11,$H44,0)","v":0},{"$f":"OFFSET(Data2!J$11,$H44,0)","v":0},{"$f":"OFFSET(Data2!K$11,$H44,0)","v":0},{"$f":"OFFSET(Data2!L$11,$H44,0)","v":0},null,{"$f":"IF(Dashboard2!$E24>=Data2!$E$9,Dashboard2!$E24,NA())","v":{"$error":"#N/A"}},{"$f":"IF(Dashboard2!$E24<Data2!$E$9,Dashboard2!$E24,NA())","v":0},53.523809523809526,0,87,{"$f":"IF(Dashboard2!$H24>=Data2!$F$9,Dashboard2!$H24,NA())","v":{"$error":"#N/A"}},{"$f":"IF(Dashboard2!$H24<Data2!$F$9,Dashboard2!$H24,NA())","v":0},1.0095238095238095E-2,0,0.21,{"$f":"IF(Dashboard2!$K24>=$AF44,Dashboard2!$K24,NA())","v":0},{"$f":"IF(Dashboard2!$K24<$AF44,Dashboard2!$K24,NA())","v":{"$error":"#N/A"}},-5.1633873902329893E-3,-4.9748766722175208E-2,1.7134568699457287E-3,{"$f":"IF(Dashboard2!$N24>=Data2!$H$9,Dashboard2!$N24,NA())","v":{"$error":"#N/A"}},{"$f":"IF(Dashboard2!$N24<Data2!$H$9,Dashboard2!$N24,NA())","v":0},0.75958927541190946,0,2.1711113472163235,{"$f":"IF(Dashboard2!$Q24>=Data2!$I$9,Dashboard2!$Q24,NA())","v":{"$error":"#N/A"}},{"$f":"IF(Dashboard2!$Q24<Data2!$I$9,Dashboard2!$Q24,NA())","v":0},{"$f":"AP43","v":1.0513192314752038},0,2.7301630068705371,{"$f":"IF(Dashboard2!$T24>=Data2!$J$9,Dashboard2!$T24,NA())","v":{"$error":"#N/A"}},{"$f":"IF(Dashboard2!$T24<Data2!$J$9,Dashboard2!$T24,NA())","v":0},0.66666666666666663,0,1,{"$f":"IF(Dashboard2!$W24>=Data2!$K$9,Dashboard2!$W24,NA())","v":{"$error":"#N/A"}},{"$f":"IF(Dashboard2!$W24<Data2!$K$9,Dashboard2!$W24,NA())","v":0},0.15099430519756801,0,0.32486927565046275,{"$f":"IF(Dashboard2!$Z24>=Data2!$L$9,Dashboard2!$Z24,NA())","v":{"$error":"#N/A"}},{"$f":"IF(Dashboard2!$Z24<Data2!$L$9,Dashboard2!$Z24,NA())","v":0},5.0926767695943793E-2,0,0.2422997142968964,null,18,null,null,{"$f":"OFFSET(Data2!$D29,0,$E$20)","v":0},{"$f":"OFFSET(Data2!$D29,0,$E$21)","v":0}]
[null,null,19,{"$f":"Data2!D30","v":0},{"$f":"OFFSET(Data2!$D30,0,mySortCriteria1)","v":0},1.9000000000000001E-8,1.7E-8,17,null,{"$f":"OFFSET(Data2!D$11,$H45,0)","v":0},{"$f":"OFFSET(Data2!E$11,$H45,0)","v":0},{"$f":"OFFSET(Data2!F$11,$H45,0)","v":0},{"$f":"OFFSET(Data2!G$11,$H45,0)","v":0},{"$f":"OFFSET(Data2!H$11,$H45,0)","v":0},{"$f":"OFFSET(Data2!I$11,$H45,0)","v":0},{"$f":"OFFSET(Data2!J$11,$H45,0)","v":0},{"$f":"OFFSET(Data2!K$11,$H45,0)","v":0},{"$f":"OFFSET(Data2!L$11,$H45,0)","v":0},null,{"$f":"IF(Dashboard2!$E25>=Data2!$E$9,Dashboard2!$E25,NA())","v":{"$error":"#N/A"}},{"$f":"IF(Dashboard2!$E25<Data2!$E$9,Dashboard2!$E25,NA())","v":0},{"$f":"V44","v":53.523809523809526},0,87,{"$f":"IF(Dashboard2!$H25>=Data2!$F$9,Dashboard2!$H25,NA())","v":{"$error":"#N/A"}},{"$f":"IF(Dashboard2!$H25<Data2!$F$9,Dashboard2!$H25,NA())","v":0},{"$f":"AA44","v":1.0095238095238095E-2},0,0.21,{"$f":"IF(Dashboard2!$K25>=$AF45,Dashboard2!$K25,NA())","v":0},{"$f":"IF(Dashboard2!$K25<$AF45,Dashboard2!$K25,NA())","v":{"$error":"#N/A"}},{"$f":"AF44","v":-5.1633873902329893E-3},-4.9748766722175208E-2,1.7134568699457287E-3,{"$f":"IF(Dashboard2!$N25>=Data2!$H$9,Dashboard2!$N25,NA())","v":{"$error":"#N/A"}},{"$f":"IF(Dashboard2!$N25<Data2!$H$9,Dashboard2!$N25,NA())","v":0},{"$f":"AK44","v":0.75958927541190946},0,2.1711113472163235,{"$f":"IF(Dashboard2!$Q25>=Data2!$I$9,Dashboard2!$Q25,NA())","v":{"$error":"#N/A"}},{"$f":"IF(Dashboard2!$Q25<Data2!$I$9,Dashboard2!$Q25,NA())","v":0},1.0513192314752038,0,2.7301630068705371,{"$f":"IF(Dashboard2!$T25>=Data2!$J$9,Dashboard2!$T25,NA())","v":{"$error":"#N/A"}},{"$f":"IF(Dashboard2!$T25<Data2!$J$9,Dashboard2!$T25,NA())","v":0},{"$f":"AU44","v":0.66666666666666663},0,1,{"$f":"IF(Dashboard2!$W25>=Data2!$K$9,Dashboard2!$W25,NA())","v":{"$error":"#N/A"}},{"$f":"IF(Dashboard2!$W25<Data2!$K$9,Dashboard2!$W25,NA())","v":0},{"$f":"AZ44","v":0.15099430519756801},0,0.32486927565046275,{"$f":"IF(Dashboard2!$Z25>=Data2!$L$9,Dashboard2!$Z25,NA())","v":{"$error":"#N/A"}},{"$f":"IF(Dashboard2!$Z25<Data2!$L$9,Dashboard2!$Z25,NA())","v":0},{"$f":"BE44","v":5.0926767695943793E-2},0,0.2422997142968964,null,19,null,null,{"$f":"OFFSET(Data2!$D30,0,$E$20)","v":0},{"$f":"OFFSET(Data2!$D30,0,$E$21)","v":0}]
[null,null,20,{"$f":"Data2!D31","v":0},{"$f":"OFFSET(Data2!$D31,0,mySortCriteria1)","v":0},2E-8,1.6000000000000001E-8,16,null,{"$f":"OFFSET(Data2!D$11,$H46,0)","v":0},{"$f":"OFFSET(Data2!E$11,$H46,0)","v":0},{"$f":"OFFSET(Data2!F$11,$H46,0)","v":0},{"$f":"OFFSET(Data2!G$11,$H46,0)","v":0},{"$f":"OFFSET(Data2!H$11,$H46,0)","v":0},{"$f":"OFFSET(Data2!I$11,$H46,0)","v":0},{"$f":"OFFSET(Data2!J$11,$H46,0)","v":0},{"$f":"OFFSET(Data2!K$11,$H46,0)","v":0},{"$f":"OFFSET(Data2!L$11,$H46,0)","v":0},null,{"$f":"IF(Dashboard2!$E26>=Data2!$E$9,Dashboard2!$E26,NA())","v":{"$error":"#N/A"}},{"$f":"IF(Dashboard2!$E26<Data2!$E$9,Dashboard2!$E26,NA())","v":0},53.523809523809526,0,87,{"$f":"IF(Dashboard2!$H26>=Data2!$F$9,Dashboard2!$H26,NA())","v":{"$error":"#N/A"}},{"$f":"IF(Dashboard2!$H26<Data2!$F$9,Dashboard2!$H26,NA())","v":0},1.0095238095238095E-2,0,0.21,{"$f":"IF(Dashboard2!$K26>=$AF46,Dashboard2!$K26,NA())","v":0},{"$f":"IF(Dashboard2!$K26<$AF46,Dashboard2!$K26,NA())","v":{"$error":"#N/A"}},-5.1633873902329893E-3,-4.9748766722175208E-2,1.7134568699457287E-3,{"$f":"IF(Dashboard2!$N26>=Data2!$H$9,Dashboard2!$N26,NA())","v":{"$error":"#N/A"}},{"$f":"IF(Dashboard2!$N26<Data2!$H$9,Dashboard2!$N26,NA())","v":0},0.75958927541190946,0,2.1711113472163235,{"$f":"IF(Dashboard2!$Q26>=Data2!$I$9,Dashboard2!$Q26,NA())","v":{"$error":"#N/A"}},{"$f":"IF(Dashboard2!$Q26<Data2!$I$9,Dashboard2!$Q26,NA())","v":0},1.0513192314752038,0,2.7301630068705371,{"$f":"IF(Dashboard2!$T26>=Data2!$J$9,Dashboard2!$T26,NA())","v":{"$error":"#N/A"}},{"$f":"IF(Dashboard2!$T26<Data2!$J$9,Dashboard2!$T26,NA())","v":0},0.66666666666666663,0,1,{"$f":"IF(Dashboard2!$W26>=Data2!$K$9,Dashboard2!$W26,NA())","v":{"$error":"#N/A"}},{"$f":"IF(Dashboard2!$W26<Data2!$K$9,Dashboard2!$W26,NA())","v":0},0.15099430519756801,0,0.32486927565046275,{"$f":"IF(Dashboard2!$Z26>=Data2!$L$9,Dashboard2!$Z26,NA())","v":{"$error":"#N/A"}},{"$f":"IF(Dashboard2!$Z26<Data2!$L$9,Dashboard2!$Z26,NA())","v":0},5.0926767695943793E-2,0,0.2422997142968964,null,20,null,null,{"$f":"OFFSET(Data2!$D31,0,$E$20)","v":0},{"$f":"OFFSET(Data2!$D31,0,$E$21)","v":0}]
[null,null,21,{"$f":"Data2!D32","v":0},{"$f":"OFFSET(Data2!$D32,0,mySortCriteria1)","v":0},{"$f":"E47+$C47/1000000000","v":2.0999999999999999E-8},1.4999999999999999E-8,{"$f":"MATCH(G47,$F$27:$F$126,0)","v":15},null,{"$f":"OFFSET(Data2!D$11,$H47,0)","v":0},{"$f":"OFFSET(Data2!E$11,$H47,0)","v":0},{"$f":"OFFSET(Data2!F$11,$H47,0)","v":0},{"$f":"OFFSET(Data2!G$11,$H47,0)","v":0},{"$f":"OFFSET(Data2!H$11,$H47,0)","v":0},{"$f":"OFFSET(Data2!I$11,$H47,0)","v":0},{"$f":"OFFSET(Data2!J$11,$H47,0)","v":0},{"$f":"OFFSET(Data2!K$11,$H47,0)","v":0},{"$f":"OFFSET(Data2!L$11,$H47,0)","v":0},null,{"$f":"IF(Dashboard2!$E27>=Data2!$E$9,Dashboard2!$E27,NA())","v":{"$error":"#N/A"}},{"$f":"IF(Dashboard2!$E27<Data2!$E$9,Dashboard2!$E27,NA())","v":0},53.523809523809526,0,87,{"$f":"IF(Dashboard2!$H27>=Data2!$F$9,Dashboard2!$H27,NA())","v":{"$error":"#N/A"}},{"$f":"IF(Dashboard2!$H27<Data2!$F$9,Dashboard2!$H27,NA())","v":0},1.0095238095238095E-2,0,0.21,{"$f":"IF(Dashboard2!$K27>=$AF47,Dashboard2!$K27,NA())","v":0},{"$f":"IF(Dashboard2!$K27<$AF47,Dashboard2!$K27,NA())","v":{"$error":"#N/A"}},-5.1633873902329893E-3,-4.9748766722175208E-2,1.7134568699457287E-3,{"$f":"IF(Dashboard2!$N27>=Data2!$H$9,Dashboard2!$N27,NA())","v":{"$error":"#N/A"}},{"$f":"IF(Dashboard2!$N27<Data2!$H$9,Dashboard2!$N27,NA())","v":0},0.75958927541190946,0,2.1711113472163235,{"$f":"IF(Dashboard2!$Q27>=Data2!$I$9,Dashboard2!$Q27,NA())","v":{"$error":"#N/A"}},{"$f":"IF(Dashboard2!$Q27<Data2!$I$9,Dashboard2!$Q27,NA())","v":0},1.0513192314752038,0,2.7301630068705371,{"$f":"IF(Dashboard2!$T27>=Data2!$J$9,Dashboard2!$T27,NA())","v":{"$error":"#N/A"}},{"$f":"IF(Dashboard2!$T27<Data2!$J$9,Dashboard2!$T27,NA())","v":0},0.66666666666666663,0,1,{"$f":"IF(Dashboard2!$W27>=Data2!$K$9,Dashboard2!$W27,NA())","v":{"$error":"#N/A"}},{"$f":"IF(Dashboard2!$W27<Data2!$K$9,Dashboard2!$W27,NA())","v":0},0.15099430519756801,0,0.32486927565046275,{"$f":"IF(Dashboard2!$Z27>=Data2!$L$9,Dashboard2!$Z27,NA())","v":{"$error":"#N/A"}},{"$f":"IF(Dashboard2!$Z27<Data2!$L$9,Dashboard2!$Z27,NA())","v":0},5.0926767695943793E-2,0,0.2422997142968964,null,21,null,null,{"$f":"OFFSET(Data2!$D32,0,$E$20)","v":0},{"$f":"OFFSET(Data2!$D32,0,$E$21)","v":0}]
[null,null,null,null,null,null,null,null,null,null,null,null,null,null,null,null,null,null,null,null,null,null,null,null,null,null,null,null,null,null,null,null,null,null,null,null,null,null,null,null,null,null,null,null,null,null,null,null,null,null,null,null,null,null,null,null,null,null,null,null,null,null,null,{"$f":"OFFSET(Data2!$D33,0,$E$20)","v":0},{"$f":"OFFSET(Data2!$D33,0,$E$21)","v":0}]
[null,null,null,null,null,null,null,null,null,null,null,null,null,null,null,null,null,null,null,null,null,null,null,null,null,null,null,null,null,null,null,null,null,null,null,null,null,null,null,null,null,null,null,null,null,null,null,null,null,null,null,null,null,null,null,null,null,null,null,null,null,null,null,{"$f":"OFFSET(Data2!$D34,0,$E$20)","v":0},{"$f":"OFFSET(Data2!$D34,0,$E$21)","v":0}]
[null,null,null,null,null,null,null,null,null,null,null,null,null,null,null,null,null,null,null,null,null,null,null,null,null,null,null,null,null,null,null,null,null,null,null,null,null,null,null,null,null,null,null,null,null,null,null,null,null,null,null,null,null,null,null,null,null,null,null,null,null,null,null,{"$f":"OFFSET(Data2!$D35,0,$E$20)","v":0},{"$f":"OFFSET(Data2!$D35,0,$E$21)","v":0}]
[null,null,null,null,null,null,null,null,null,null,null,null,null,null,null,null,null,null,null,null,null,null,null,null,null,null,null,null,null,null,null,null,null,null,null,null,null,null,null,null,null,null,null,null,null,null,null,null,null,null,null,null,null,null,null,null,null,null,null,null,null,null,null,{"$f":"OFFSET(Data2!$D36,0,$E$20)","v":0},{"$f":"OFFSET(Data2!$D36,0,$E$21)","v":0}]
[null,null,null,null,null,null,null,null,null,null,null,null,null,null,null,null,null,null,null,null,null,null,null,null,null,null,null,null,null,null,null,null,null,null,null,null,null,null,null,null,null,null,null,null,null,null,null,null,null,null,null,null,null,null,null,null,null,null,null,null,null,null,null,{"$f":"OFFSET(Data2!$D37,0,$E$20)","v":0},{"$f":"OFFSET(Data2!$D37,0,$E$21)","v":0}]
[null,null,null,null,null,null,null,null,null,null,null,null,null,null,null,null,null,null,null,null,null,null,null,null,null,null,null,null,null,null,null,null,null,null,null,null,null,null,null,null,null,null,null,null,null,null,null,null,null,null,null,null,null,null,null,null,null,null,null,null,null,null,null,{"$f":"OFFSET(Data2!$D38,0,$E$20)","v":0},{"$f":"OFFSET(Data2!$D38,0,$E$21)","v":0}]
[null,null,null,null,null,null,null,null,null,null,null,null,null,null,null,null,null,null,null,null,null,null,null,null,null,null,null,null,null,null,null,null,null,null,null,null,null,null,null,null,null,null,null,null,null,null,null,null,null,null,null,null,null,null,null,null,null,null,null,null,null,null,null,{"$f":"OFFSET(Data2!$D39,0,$E$20)","v":0},{"$f":"OFFSET(Data2!$D39,0,$E$21)","v":0}]
[null,null,null,null,null,null,null,null,null,null,null,null,null,null,null,null,null,null,null,null,null,null,null,null,null,null,null,null,null,null,null,null,null,null,null,null,null,null,null,null,null,null,null,null,null,null,null,null,null,null,null,null,null,null,null,null,null,null,null,null,null,null,null,{"$f":"OFFSET(Data2!$D40,0,$E$20)","v":0},{"$f":"OFFSET(Data2!$D40,0,$E$21)","v":0}]
[null,null,null,null,null,null,null,null,null,null,null,null,null,null,null,null,null,null,null,null,null,null,null,null,null,null,null,null,null,null,null,null,null,null,null,null,null,null,null,null,null,null,null,null,null,null,null,null,null,null,null,null,null,null,null,null,null,null,null,null,null,null,null,{"$f":"OFFSET(Data2!$D41,0,$E$20)","v":0},{"$f":"OFFSET(Data2!$D41,0,$E$21)","v":0}]
[null,null,null,null,null,null,null,null,null,null,null,null,null,null,null,null,null,null,null,null,null,null,null,null,null,null,null,null,null,null,null,null,null,null,null,null,null,null,null,null,null,null,null,null,null,null,null,null,null,null,null,null,null,null,null,null,null,null,null,null,null,null,null,{"$f":"OFFSET(Data2!$D42,0,$E$20)","v":0},{"$f":"OFFSET(Data2!$D42,0,$E$21)","v":0}]
[null,null,null,null,null,null,null,null,null,null,null,null,null,null,null,null,null,null,null,null,null,null,null,null,null,null,null,null,null,null,null,null,null,null,null,null,null,null,null,null,null,null,null,null,null,null,null,null,null,null,null,null,null,null,null,null,null,null,null,null,null,null,null,{"$f":"OFFSET(Data2!$D43,0,$E$20)","v":0},{"$f":"OFFSET(Data2!$D43,0,$E$21)","v":0}]
[null,null,null,null,null,null,null,null,null,null,null,null,null,null,null,null,null,null,null,null,null,null,null,null,null,null,null,null,null,null,null,null,null,null,null,null,null,null,null,null,null,null,null,null,null,null,null,null,null,null,null,null,null,null,null,null,null,null,null,null,null,null,null,{"$f":"OFFSET(Data2!$D44,0,$E$20)","v":0},{"$f":"OFFSET(Data2!$D44,0,$E$21)","v":0}]
[null,null,null,null,null,null,null,null,null,null,null,null,null,null,null,null,null,null,null,null,null,null,null,null,null,null,null,null,null,null,null,null,null,null,null,null,null,null,null,null,null,null,null,null,null,null,null,null,null,null,null,null,null,null,null,null,null,null,null,null,null,null,null,{"$f":"OFFSET(Data2!$D45,0,$E$20)","v":0},{"$f":"OFFSET(Data2!$D45,0,$E$21)","v":0}]
[null,null,null,null,null,null,null,null,null,null,null,null,null,null,null,null,null,null,null,null,null,null,null,null,null,null,null,null,null,null,null,null,null,null,null,null,null,null,null,null,null,null,null,null,null,null,null,null,null,null,null,null,null,null,null,null,null,null,null,null,null,null,null,{"$f":"OFFSET(Data2!$D46,0,$E$20)","v":0},{"$f":"OFFSET(Data2!$D46,0,$E$21)","v":0}]
[null,null,null,null,null,null,null,null,null,null,null,null,null,null,null,null,null,null,null,null,null,null,null,null,null,null,null,null,null,null,null,null,null,null,null,null,null,null,null,null,null,null,null,null,null,null,null,null,null,null,null,null,null,null,null,null,null,null,null,null,null,null,null,{"$f":"OFFSET(Data2!$D47,0,$E$20)","v":0},{"$f":"OFFSET(Data2!$D47,0,$E$21)","v":0}]
[null,null,null,null,null,null,null,null,null,null,null,null,null,null,null,null,null,null,null,null,null,null,null,null,null,null,null,null,null,null,null,null,null,null,null,null,null,null,null,null,null,null,null,null,null,null,null,null,null,null,null,null,null,null,null,null,null,null,null,null,null,null,null,{"$f":"OFFSET(Data2!$D48,0,$E$20)","v":0},{"$f":"OFFSET(Data2!$D48,0,$E$21)","v":0}]
[null,null,null,null,null,null,null,null,null,null,null,null,null,null,null,null,null,null,null,null,null,null,null,null,null,null,null,null,null,null,null,null,null,null,null,null,null,null,null,null,null,null,null,null,null,null,null,null,null,null,null,null,null,null,null,null,null,null,null,null,null,null,null,{"$f":"OFFSET(Data2!$D49,0,$E$20)","v":0},{"$f":"OFFSET(Data2!$D49,0,$E$21)","v":0}]
[null,null,null,null,null,null,null,null,null,null,null,null,null,null,null,null,null,null,null,null,null,null,null,null,null,null,null,null,null,null,null,null,null,null,null,null,null,null,null,null,null,null,null,null,null,null,null,null,null,null,null,null,null,null,null,null,null,null,null,null,null,null,null,{"$f":"OFFSET(Data2!$D50,0,$E$20)","v":0},{"$f":"OFFSET(Data2!$D50,0,$E$21)","v":0}]
[null,null,null,null,null,null,null,null,null,null,null,null,null,null,null,null,null,null,null,null,null,null,null,null,null,null,null,null,null,null,null,null,null,null,null,null,null,null,null,null,null,null,null,null,null,null,null,null,null,null,null,null,null,null,null,null,null,null,null,null,null,null,null,{"$f":"OFFSET(Data2!$D51,0,$E$20)","v":0},{"$f":"OFFSET(Data2!$D51,0,$E$21)","v":0}]
[null,null,null,null,null,null,null,null,null,null,null,null,null,null,null,null,null,null,null,null,null,null,null,null,null,null,null,null,null,null,null,null,null,null,null,null,null,null,null,null,null,null,null,null,null,null,null,null,null,null,null,null,null,null,null,null,null,null,null,null,null,null,null,{"$f":"OFFSET(Data2!$D52,0,$E$20)","v":0},{"$f":"OFFSET(Data2!$D52,0,$E$21)","v":0}]
[null,null,null,null,null,null,null,null,null,null,null,null,null,null,null,null,null,null,null,null,null,null,null,null,null,null,null,null,null,null,null,null,null,null,null,null,null,null,null,null,null,null,null,null,null,null,null,null,null,null,null,null,null,null,null,null,null,null,null,null,null,null,null,{"$f":"OFFSET(Data2!$D53,0,$E$20)","v":0},{"$f":"OFFSET(Data2!$D53,0,$E$21)","v":0}]
[null,null,null,null,null,null,null,null,null,null,null,null,null,null,null,null,null,null,null,null,null,null,null,null,null,null,null,null,null,null,null,null,null,null,null,null,null,null,null,null,null,null,null,null,null,null,null,null,null,null,null,null,null,null,null,null,null,null,null,null,null,null,null,{"$f":"OFFSET(Data2!$D54,0,$E$20)","v":0},{"$f":"OFFSET(Data2!$D54,0,$E$21)","v":0}]
[null,null,null,null,null,null,null,null,null,null,null,null,null,null,null,null,null,null,null,null,null,null,null,null,null,null,null,null,null,null,null,null,null,null,null,null,null,null,null,null,null,null,null,null,null,null,null,null,null,null,null,null,null,null,null,null,null,null,null,null,null,null,null,{"$f":"OFFSET(Data2!$D55,0,$E$20)","v":0},{"$f":"OFFSET(Data2!$D55,0,$E$21)","v":0}]
[null,null,null,null,null,null,null,null,null,null,null,null,null,null,null,null,null,null,null,null,null,null,null,null,null,null,null,null,null,null,null,null,null,null,null,null,null,null,null,null,null,null,null,null,null,null,null,null,null,null,null,null,null,null,null,null,null,null,null,null,null,null,null,{"$f":"OFFSET(Data2!$D56,0,$E$20)","v":0},{"$f":"OFFSET(Data2!$D56,0,$E$21)","v":0}]
[null,null,null,null,null,null,null,null,null,null,null,null,null,null,null,null,null,null,null,null,null,null,null,null,null,null,null,null,null,null,null,null,null,null,null,null,null,null,null,null,null,null,null,null,null,null,null,null,null,null,null,null,null,null,null,null,null,null,null,null,null,null,null,{"$f":"OFFSET(Data2!$D57,0,$E$20)","v":0},{"$f":"OFFSET(Data2!$D57,0,$E$21)","v":0}]
[null,null,null,null,null,null,null,null,null,null,null,null,null,null,null,null,null,null,null,null,null,null,null,null,null,null,null,null,null,null,null,null,null,null,null,null,null,null,null,null,null,null,null,null,null,null,null,null,null,null,null,null,null,null,null,null,null,null,null,null,null,null,null,{"$f":"OFFSET(Data2!$D58,0,$E$20)","v":0},{"$f":"OFFSET(Data2!$D58,0,$E$21)","v":0}]
[null,null,null,null,null,null,null,null,null,null,null,null,null,null,null,null,null,null,null,null,null,null,null,null,null,null,null,null,null,null,null,null,null,null,null,null,null,null,null,null,null,null,null,null,null,null,null,null,null,null,null,null,null,null,null,null,null,null,null,null,null,null,null,{"$f":"OFFSET(Data2!$D59,0,$E$20)","v":0},{"$f":"OFFSET(Data2!$D59,0,$E$21)","v":0}]
[null,null,null,null,null,null,null,null,null,null,null,null,null,null,null,null,null,null,null,null,null,null,null,null,null,null,null,null,null,null,null,null,null,null,null,null,null,null,null,null,null,null,null,null,null,null,null,null,null,null,null,null,null,null,null,null,null,null,null,null,null,null,null,{"$f":"OFFSET(Data2!$D60,0,$E$20)","v":0},{"$f":"OFFSET(Data2!$D60,0,$E$21)","v":0}]
[null,null,null,null,null,null,null,null,null,null,null,null,null,null,null,null,null,null,null,null,null,null,null,null,null,null,null,null,null,null,null,null,null,null,null,null,null,null,null,null,null,null,null,null,null,null,null,null,null,null,null,null,null,null,null,null,null,null,null,null,null,null,null,{"$f":"OFFSET(Data2!$D61,0,$E$20)","v":0},{"$f":"OFFSET(Data2!$D61,0,$E$21)","v":0}]
[null,null,null,null,null,null,null,null,null,null,null,null,null,null,null,null,null,null,null,null,null,null,null,null,null,null,null,null,null,null,null,null,null,null,null,null,null,null,null,null,null,null,null,null,null,null,null,null,null,null,null,null,null,null,null,null,null,null,null,null,null,null,null,{"$f":"OFFSET(Data2!$D62,0,$E$20)","v":0},{"$f":"OFFSET(Data2!$D62,0,$E$21)","v":0}]
[null,null,null,null,null,null,null,null,null,null,null,null,null,null,null,null,null,null,null,null,null,null,null,null,null,null,null,null,null,null,null,null,null,null,null,null,null,null,null,null,null,null,null,null,null,null,null,null,null,null,null,null,null,null,null,null,null,null,null,null,null,null,null,{"$f":"OFFSET(Data2!$D63,0,$E$20)","v":0},{"$f":"OFFSET(Data2!$D63,0,$E$21)","v":0}]
[null,null,null,null,null,null,null,null,null,null,null,null,null,null,null,null,null,null,null,null,null,null,null,null,null,null,null,null,null,null,null,null,null,null,null,null,null,null,null,null,null,null,null,null,null,null,null,null,null,null,null,null,null,null,null,null,null,null,null,null,null,null,null,{"$f":"OFFSET(Data2!$D64,0,$E$20)","v":0},{"$f":"OFFSET(Data2!$D64,0,$E$21)","v":0}]
[null,null,null,null,null,null,null,null,null,null,null,null,null,null,null,null,null,null,null,null,null,null,null,null,null,null,null,null,null,null,null,null,null,null,null,null,null,null,null,null,null,null,null,null,null,null,null,null,null,null,null,null,null,null,null,null,null,null,null,null,null,null,null,{"$f":"OFFSET(Data2!$D65,0,$E$20)","v":0},{"$f":"OFFSET(Data2!$D65,0,$E$21)","v":0}]
[null,null,null,null,null,null,null,null,null,null,null,null,null,null,null,null,null,null,null,null,null,null,null,null,null,null,null,null,null,null,null,null,null,null,null,null,null,null,null,null,null,null,null,null,null,null,null,null,null,null,null,null,null,null,null,null,null,null,null,null,null,null,null,{"$f":"OFFSET(Data2!$D66,0,$E$20)","v":0},{"$f":"OFFSET(Data2!$D66,0,$E$21)","v":0}]
[null,null,null,null,null,null,null,null,null,null,null,null,null,null,null,null,null,null,null,null,null,null,null,null,null,null,null,null,null,null,null,null,null,null,null,null,null,null,null,null,null,null,null,null,null,null,null,null,null,null,null,null,null,null,null,null,null,null,null,null,null,null,null,{"$f":"OFFSET(Data2!$D67,0,$E$20)","v":0},{"$f":"OFFSET(Data2!$D67,0,$E$21)","v":0}]
[null,null,null,null,null,null,null,null,null,null,null,null,null,null,null,null,null,null,null,null,null,null,null,null,null,null,null,null,null,null,null,null,null,null,null,null,null,null,null,null,null,null,null,null,null,null,null,null,null,null,null,null,null,null,null,null,null,null,null,null,null,null,null,{"$f":"OFFSET(Data2!$D68,0,$E$20)","v":0},{"$f":"OFFSET(Data2!$D68,0,$E$21)","v":0}]
[null,null,null,null,null,null,null,null,null,null,null,null,null,null,null,null,null,null,null,null,null,null,null,null,null,null,null,null,null,null,null,null,null,null,null,null,null,null,null,null,null,null,null,null,null,null,null,null,null,null,null,null,null,null,null,null,null,null,null,null,null,null,null,{"$f":"OFFSET(Data2!$D69,0,$E$20)","v":0},{"$f":"OFFSET(Data2!$D69,0,$E$21)","v":0}]
[null,null,null,null,null,null,null,null,null,null,null,null,null,null,null,null,null,null,null,null,null,null,null,null,null,null,null,null,null,null,null,null,null,null,null,null,null,null,null,null,null,null,null,null,null,null,null,null,null,null,null,null,null,null,null,null,null,null,null,null,null,null,null,{"$f":"OFFSET(Data2!$D70,0,$E$20)","v":0},{"$f":"OFFSET(Data2!$D70,0,$E$21)","v":0}]
[null,null,null,null,null,null,null,null,null,null,null,null,null,null,null,null,null,null,null,null,null,null,null,null,null,null,null,null,null,null,null,null,null,null,null,null,null,null,null,null,null,null,null,null,null,null,null,null,null,null,null,null,null,null,null,null,null,null,null,null,null,null,null,{"$f":"OFFSET(Data2!$D71,0,$E$20)","v":0},{"$f":"OFFSET(Data2!$D71,0,$E$21)","v":0}]
[null,null,null,null,null,null,null,null,null,null,null,null,null,null,null,null,null,null,null,null,null,null,null,null,null,null,null,null,null,null,null,null,null,null,null,null,null,null,null,null,null,null,null,null,null,null,null,null,null,null,null,null,null,null,null,null,null,null,null,null,null,null,null,{"$f":"OFFSET(Data2!$D72,0,$E$20)","v":0},{"$f":"OFFSET(Data2!$D72,0,$E$21)","v":0}]
[null,null,null,null,null,null,null,null,null,null,null,null,null,null,null,null,null,null,null,null,null,null,null,null,null,null,null,null,null,null,null,null,null,null,null,null,null,null,null,null,null,null,null,null,null,null,null,null,null,null,null,null,null,null,null,null,null,null,null,null,null,null,null,{"$f":"OFFSET(Data2!$D73,0,$E$20)","v":0},{"$f":"OFFSET(Data2!$D73,0,$E$21)","v":0}]
[null,null,null,null,null,null,null,null,null,null,null,null,null,null,null,null,null,null,null,null,null,null,null,null,null,null,null,null,null,null,null,null,null,null,null,null,null,null,null,null,null,null,null,null,null,null,null,null,null,null,null,null,null,null,null,null,null,null,null,null,null,null,null,{"$f":"OFFSET(Data2!$D74,0,$E$20)","v":0},{"$f":"OFFSET(Data2!$D74,0,$E$21)","v":0}]
[null,null,null,null,null,null,null,null,null,null,null,null,null,null,null,null,null,null,null,null,null,null,null,null,null,null,null,null,null,null,null,null,null,null,null,null,null,null,null,null,null,null,null,null,null,null,null,null,null,null,null,null,null,null,null,null,null,null,null,null,null,null,null,{"$f":"OFFSET(Data2!$D75,0,$E$20)","v":0},{"$f":"OFFSET(Data2!$D75,0,$E$21)","v":0}]
[null,null,null,null,null,null,null,null,null,null,null,null,null,null,null,null,null,null,null,null,null,null,null,null,null,null,null,null,null,null,null,null,null,null,null,null,null,null,null,null,null,null,null,null,null,null,null,null,null,null,null,null,null,null,null,null,null,null,null,null,null,null,null,{"$f":"OFFSET(Data2!$D76,0,$E$20)","v":0},{"$f":"OFFSET(Data2!$D76,0,$E$21)","v":0}]
[null,null,null,null,null,null,null,null,null,null,null,null,null,null,null,null,null,null,null,null,null,null,null,null,null,null,null,null,null,null,null,null,null,null,null,null,null,null,null,null,null,null,null,null,null,null,null,null,null,null,null,null,null,null,null,null,null,null,null,null,null,null,null,{"$f":"OFFSET(Data2!$D77,0,$E$20)","v":0},{"$f":"OFFSET(Data2!$D77,0,$E$21)","v":0}]
[null,null,null,null,null,null,null,null,null,null,null,null,null,null,null,null,null,null,null,null,null,null,null,null,null,null,null,null,null,null,null,null,null,null,null,null,null,null,null,null,null,null,null,null,null,null,null,null,null,null,null,null,null,null,null,null,null,null,null,null,null,null,null,{"$f":"OFFSET(Data2!$D78,0,$E$20)","v":0},{"$f":"OFFSET(Data2!$D78,0,$E$21)","v":0}]
[null,null,null,null,null,null,null,null,null,null,null,null,null,null,null,null,null,null,null,null,null,null,null,null,null,null,null,null,null,null,null,null,null,null,null,null,null,null,null,null,null,null,null,null,null,null,null,null,null,null,null,null,null,null,null,null,null,null,null,null,null,null,null,{"$f":"OFFSET(Data2!$D79,0,$E$20)","v":0},{"$f":"OFFSET(Data2!$D79,0,$E$21)","v":0}]
[null,null,null,null,null,null,null,null,null,null,null,null,null,null,null,null,null,null,null,null,null,null,null,null,null,null,null,null,null,null,null,null,null,null,null,null,null,null,null,null,null,null,null,null,null,null,null,null,null,null,null,null,null,null,null,null,null,null,null,null,null,null,null,{"$f":"OFFSET(Data2!$D80,0,$E$20)","v":0},{"$f":"OFFSET(Data2!$D80,0,$E$21)","v":0}]
[null,null,null,null,null,null,null,null,null,null,null,null,null,null,null,null,null,null,null,null,null,null,null,null,null,null,null,null,null,null,null,null,null,null,null,null,null,null,null,null,null,null,null,null,null,null,null,null,null,null,null,null,null,null,null,null,null,null,null,null,null,null,null,{"$f":"OFFSET(Data2!$D81,0,$E$20)","v":0},{"$f":"OFFSET(Data2!$D81,0,$E$21)","v":0}]
[null,null,null,null,null,null,null,null,null,null,null,null,null,null,null,null,null,null,null,null,null,null,null,null,null,null,null,null,null,null,null,null,null,null,null,null,null,null,null,null,null,null,null,null,null,null,null,null,null,null,null,null,null,null,null,null,null,null,null,null,null,null,null,{"$f":"OFFSET(Data2!$D82,0,$E$20)","v":0},{"$f":"OFFSET(Data2!$D82,0,$E$21)","v":0}]
[null,null,null,null,null,null,null,null,null,null,null,null,null,null,null,null,null,null,null,null,null,null,null,null,null,null,null,null,null,null,null,null,null,null,null,null,null,null,null,null,null,null,null,null,null,null,null,null,null,null,null,null,null,null,null,null,null,null,null,null,null,null,null,{"$f":"OFFSET(Data2!$D83,0,$E$20)","v":0},{"$f":"OFFSET(Data2!$D83,0,$E$21)","v":0}]
[null,null,null,null,null,null,null,null,null,null,null,null,null,null,null,null,null,null,null,null,null,null,null,null,null,null,null,null,null,null,null,null,null,null,null,null,null,null,null,null,null,null,null,null,null,null,null,null,null,null,null,null,null,null,null,null,null,null,null,null,null,null,null,{"$f":"OFFSET(Data2!$D84,0,$E$20)","v":0},{"$f":"OFFSET(Data2!$D84,0,$E$21)","v":0}]
[null,null,null,null,null,null,null,null,null,null,null,null,null,null,null,null,null,null,null,null,null,null,null,null,null,null,null,null,null,null,null,null,null,null,null,null,null,null,null,null,null,null,null,null,null,null,null,null,null,null,null,null,null,null,null,null,null,null,null,null,null,null,null,{"$f":"OFFSET(Data2!$D85,0,$E$20)","v":0},{"$f":"OFFSET(Data2!$D85,0,$E$21)","v":0}]
[null,null,null,null,null,null,null,null,null,null,null,null,null,null,null,null,null,null,null,null,null,null,null,null,null,null,null,null,null,null,null,null,null,null,null,null,null,null,null,null,null,null,null,null,null,null,null,null,null,null,null,null,null,null,null,null,null,null,null,null,null,null,null,{"$f":"OFFSET(Data2!$D86,0,$E$20)","v":0},{"$f":"OFFSET(Data2!$D86,0,$E$21)","v":0}]
[null,null,null,null,null,null,null,null,null,null,null,null,null,null,null,null,null,null,null,null,null,null,null,null,null,null,null,null,null,null,null,null,null,null,null,null,null,null,null,null,null,null,null,null,null,null,null,null,null,null,null,null,null,null,null,null,null,null,null,null,null,null,null,{"$f":"OFFSET(Data2!$D87,0,$E$20)","v":0},{"$f":"OFFSET(Data2!$D87,0,$E$21)","v":0}]
[null,null,null,null,null,null,null,null,null,null,null,null,null,null,null,null,null,null,null,null,null,null,null,null,null,null,null,null,null,null,null,null,null,null,null,null,null,null,null,null,null,null,null,null,null,null,null,null,null,null,null,null,null,null,null,null,null,null,null,null,null,null,null,{"$f":"OFFSET(Data2!$D88,0,$E$20)","v":0},{"$f":"OFFSET(Data2!$D88,0,$E$21)","v":0}]
[null,null,null,null,null,null,null,null,null,null,null,null,null,null,null,null,null,null,null,null,null,null,null,null,null,null,null,null,null,null,null,null,null,null,null,null,null,null,null,null,null,null,null,null,null,null,null,null,null,null,null,null,null,null,null,null,null,null,null,null,null,null,null,{"$f":"OFFSET(Data2!$D89,0,$E$20)","v":0},{"$f":"OFFSET(Data2!$D89,0,$E$21)","v":0}]
[null,null,null,null,null,null,null,null,null,null,null,null,null,null,null,null,null,null,null,null,null,null,null,null,null,null,null,null,null,null,null,null,null,null,null,null,null,null,null,null,null,null,null,null,null,null,null,null,null,null,null,null,null,null,null,null,null,null,null,null,null,null,null,{"$f":"OFFSET(Data2!$D90,0,$E$20)","v":0},{"$f":"OFFSET(Data2!$D90,0,$E$21)","v":0}]
[null,null,null,null,null,null,null,null,null,null,null,null,null,null,null,null,null,null,null,null,null,null,null,null,null,null,null,null,null,null,null,null,null,null,null,null,null,null,null,null,null,null,null,null,null,null,null,null,null,null,null,null,null,null,null,null,null,null,null,null,null,null,null,{"$f":"OFFSET(Data2!$D91,0,$E$20)","v":0},{"$f":"OFFSET(Data2!$D91,0,$E$21)","v":0}]
[null,null,null,null,null,null,null,null,null,null,null,null,null,null,null,null,null,null,null,null,null,null,null,null,null,null,null,null,null,null,null,null,null,null,null,null,null,null,null,null,null,null,null,null,null,null,null,null,null,null,null,null,null,null,null,null,null,null,null,null,null,null,null,{"$f":"OFFSET(Data2!$D92,0,$E$20)","v":0},{"$f":"OFFSET(Data2!$D92,0,$E$21)","v":0}]
[null,null,null,null,null,null,null,null,null,null,null,null,null,null,null,null,null,null,null,null,null,null,null,null,null,null,null,null,null,null,null,null,null,null,null,null,null,null,null,null,null,null,null,null,null,null,null,null,null,null,null,null,null,null,null,null,null,null,null,null,null,null,null,{"$f":"OFFSET(Data2!$D93,0,$E$20)","v":0},{"$f":"OFFSET(Data2!$D93,0,$E$21)","v":0}]
[null,null,null,null,null,null,null,null,null,null,null,null,null,null,null,null,null,null,null,null,null,null,null,null,null,null,null,null,null,null,null,null,null,null,null,null,null,null,null,null,null,null,null,null,null,null,null,null,null,null,null,null,null,null,null,null,null,null,null,null,null,null,null,{"$f":"OFFSET(Data2!$D94,0,$E$20)","v":0},{"$f":"OFFSET(Data2!$D94,0,$E$21)","v":0}]
[null,null,null,null,null,null,null,null,null,null,null,null,null,null,null,null,null,null,null,null,null,null,null,null,null,null,null,null,null,null,null,null,null,null,null,null,null,null,null,null,null,null,null,null,null,null,null,null,null,null,null,null,null,null,null,null,null,null,null,null,null,null,null,{"$f":"OFFSET(Data2!$D95,0,$E$20)","v":0},{"$f":"OFFSET(Data2!$D95,0,$E$21)","v":0}]
[null,null,null,null,null,null,null,null,null,null,null,null,null,null,null,null,null,null,null,null,null,null,null,null,null,null,null,null,null,null,null,null,null,null,null,null,null,null,null,null,null,null,null,null,null,null,null,null,null,null,null,null,null,null,null,null,null,null,null,null,null,null,null,{"$f":"OFFSET(Data2!$D96,0,$E$20)","v":0},{"$f":"OFFSET(Data2!$D96,0,$E$21)","v":0}]
[null,null,null,null,null,null,null,null,null,null,null,null,null,null,null,null,null,null,null,null,null,null,null,null,null,null,null,null,null,null,null,null,null,null,null,null,null,null,null,null,null,null,null,null,null,null,null,null,null,null,null,null,null,null,null,null,null,null,null,null,null,null,null,{"$f":"OFFSET(Data2!$D97,0,$E$20)","v":0},{"$f":"OFFSET(Data2!$D97,0,$E$21)","v":0}]
[null,null,null,null,null,null,null,null,null,null,null,null,null,null,null,null,null,null,null,null,null,null,null,null,null,null,null,null,null,null,null,null,null,null,null,null,null,null,null,null,null,null,null,null,null,null,null,null,null,null,null,null,null,null,null,null,null,null,null,null,null,null,null,{"$f":"OFFSET(Data2!$D98,0,$E$20)","v":0},{"$f":"OFFSET(Data2!$D98,0,$E$21)","v":0}]
[null,null,null,null,null,null,null,null,null,null,null,null,null,null,null,null,null,null,null,null,null,null,null,null,null,null,null,null,null,null,null,null,null,null,null,null,null,null,null,null,null,null,null,null,null,null,null,null,null,null,null,null,null,null,null,null,null,null,null,null,null,null,null,{"$f":"OFFSET(Data2!$D99,0,$E$20)","v":0},{"$f":"OFFSET(Data2!$D99,0,$E$21)","v":0}]
[null,null,null,null,null,null,null,null,null,null,null,null,null,null,null,null,null,null,null,null,null,null,null,null,null,null,null,null,null,null,null,null,null,null,null,null,null,null,null,null,null,null,null,null,null,null,null,null,null,null,null,null,null,null,null,null,null,null,null,null,null,null,null,{"$f":"OFFSET(Data2!$D100,0,$E$20)","v":0},{"$f":"OFFSET(Data2!$D100,0,$E$21)","v":0}]
[null,null,null,null,null,null,null,null,null,null,null,null,null,null,null,null,null,null,null,null,null,null,null,null,null,null,null,null,null,null,null,null,null,null,null,null,null,null,null,null,null,null,null,null,null,null,null,null,null,null,null,null,null,null,null,null,null,null,null,null,null,null,null,{"$f":"OFFSET(Data2!$D101,0,$E$20)","v":0},{"$f":"OFFSET(Data2!$D101,0,$E$21)","v":0}]
[null,null,null,null,null,null,null,null,null,null,null,null,null,null,null,null,null,null,null,null,null,null,null,null,null,null,null,null,null,null,null,null,null,null,null,null,null,null,null,null,null,null,null,null,null,null,null,null,null,null,null,null,null,null,null,null,null,null,null,null,null,null,null,{"$f":"OFFSET(Data2!$D102,0,$E$20)","v":0},{"$f":"OFFSET(Data2!$D102,0,$E$21)","v":0}]
[null,null,null,null,null,null,null,null,null,null,null,null,null,null,null,null,null,null,null,null,null,null,null,null,null,null,null,null,null,null,null,null,null,null,null,null,null,null,null,null,null,null,null,null,null,null,null,null,null,null,null,null,null,null,null,null,null,null,null,null,null,null,null,{"$f":"OFFSET(Data2!$D103,0,$E$20)","v":0},{"$f":"OFFSET(Data2!$D103,0,$E$21)","v":0}]
[null,null,null,null,null,null,null,null,null,null,null,null,null,null,null,null,null,null,null,null,null,null,null,null,null,null,null,null,null,null,null,null,null,null,null,null,null,null,null,null,null,null,null,null,null,null,null,null,null,null,null,null,null,null,null,null,null,null,null,null,null,null,null,{"$f":"OFFSET(Data2!$D104,0,$E$20)","v":0},{"$f":"OFFSET(Data2!$D104,0,$E$21)","v":0}]
[null,null,null,null,null,null,null,null,null,null,null,null,null,null,null,null,null,null,null,null,null,null,null,null,null,null,null,null,null,null,null,null,null,null,null,null,null,null,null,null,null,null,null,null,null,null,null,null,null,null,null,null,null,null,null,null,null,null,null,null,null,null,null,{"$f":"OFFSET(Data2!$D105,0,$E$20)","v":0},{"$f":"OFFSET(Data2!$D105,0,$E$21)","v":0}]
[null,null,null,null,null,null,null,null,null,null,null,null,null,null,null,null,null,null,null,null,null,null,null,null,null,null,null,null,null,null,null,null,null,null,null,null,null,null,null,null,null,null,null,null,null,null,null,null,null,null,null,null,null,null,null,null,null,null,null,null,null,null,null,{"$f":"OFFSET(Data2!$D106,0,$E$20)","v":0},{"$f":"OFFSET(Data2!$D106,0,$E$21)","v":0}]
[null,null,null,null,null,null,null,null,null,null,null,null,null,null,null,null,null,null,null,null,null,null,null,null,null,null,null,null,null,null,null,null,null,null,null,null,null,null,null,null,null,null,null,null,null,null,null,null,null,null,null,null,null,null,null,null,null,null,null,null,null,null,null,{"$f":"OFFSET(Data2!$D107,0,$E$20)","v":0},{"$f":"OFFSET(Data2!$D107,0,$E$21)","v":0}]
[null,null,null,null,null,null,null,null,null,null,null,null,null,null,null,null,null,null,null,null,null,null,null,null,null,null,null,null,null,null,null,null,null,null,null,null,null,null,null,null,null,null,null,null,null,null,null,null,null,null,null,null,null,null,null,null,null,null,null,null,null,null,null,{"$f":"OFFSET(Data2!$D108,0,$E$20)","v":0},{"$f":"OFFSET(Data2!$D108,0,$E$21)","v":0}]
[null,null,null,null,null,null,null,null,null,null,null,null,null,null,null,null,null,null,null,null,null,null,null,null,null,null,null,null,null,null,null,null,null,null,null,null,null,null,null,null,null,null,null,null,null,null,null,null,null,null,null,null,null,null,null,null,null,null,null,null,null,null,null,{"$f":"OFFSET(Data2!$D109,0,$E$20)","v":0},{"$f":"OFFSET(Data2!$D109,0,$E$21)","v":0}]
[null,null,null,null,null,null,null,null,null,null,null,null,null,null,null,null,null,null,null,null,null,null,null,null,null,null,null,null,null,null,null,null,null,null,null,null,null,null,null,null,null,null,null,null,null,null,null,null,null,null,null,null,null,null,null,null,null,null,null,null,null,null,null,{"$f":"OFFSET(Data2!$D110,0,$E$20)","v":0},{"$f":"OFFSET(Data2!$D110,0,$E$21)","v":0}]
[null,null,null,null,null,null,null,null,null,null,null,null,null,null,null,null,null,null,null,null,null,null,null,null,null,null,null,null,null,null,null,null,null,null,null,null,null,null,null,null,null,null,null,null,null,null,null,null,null,null,null,null,null,null,null,null,null,null,null,null,null,null,null,{"$f":"OFFSET(Data2!$D111,0,$E$20)","v":0},{"$f":"OFFSET(Data2!$D111,0,$E$21)","v":0}]

{"sheet":"Calculation1","index":3,"n_rows":126,"n_cols":68,"rows_kept":126,"cut":false,"hidden":false,"merged":[[24,44,24,48],[24,49,24,53],[24,54,24,58],[2,2,2,67],[22,2,22,7],[22,9,22,14],[22,19,22,45],[22,63,22,67],[24,19,24,23],[24,24,24,28],[24,29,24,33],[24,34,24,38],[24,39,24,43]]}
[]
[]
[null,null,"Calculation"]
[]
[null,null,null,"Actual Position",1]
[null,null,null,"Maximum Position",{"$f":"$C$38-COUNTA(Dashboard1!$D$7:$D$18)+1","v":1}]
[null,null,null,"Sort by",1]
[null,null,null,"Sort Order",1]
[]
[null,null,null,"Input List",{"$f":"TRANSPOSE(Data1!E11:L11)","v":"Financial Score"}]
[null,null,null,null,"ROE "]
[null,null,null,null,"ROA"]
[null,null,null,null,"EPS growth 5 Yr."]
[null,null,null,null,"EPS growth 10 Yr."]
[null,null,null,null,"NP margin "]
[null,null,null,null,"Sales growth 5 Yr."]
[null,null,null,null,"Debt/Net Profit"]
[]
[]
[null,null,null,"Selected KPI X-Axis",3]
[null,null,null,"Selected KPI Y-Axis",2]
[]
[null,null,"Sort Algorithm",null,null,null,null,null,null,"Sorted List",null,null,null,null,null,null,null,null,null,"Combined Bar / Line Charts",null,null,null,null,null,null,null,null,null,null,null,null,null,null,null,null,null,null,null,null,null,null,null,null,null,null,null,null,null,null,null,null,null,null,null,null,null,null,null,null,null,null,null,"Direct Comparison (XY Scatter Chart)"]
[]
[null,null,null,null,null,null,null,null,null,null,null,null,null,null,null,null,null,null,null,{"$f":"Data1!E8","v":"Financial Score"},null,null,null,null,{"$f":"Data1!F11","v":"ROE "},null,null,null,null,{"$f":"Data1!G8","v":"ROA"},null,null,null,null,{"$f":"Data1!H8","v":"EPS growth 5 Yr."},null,null,null,null,{"$f":"Data1!I8","v":"EPS growth 10 Yr."},null,null,null,null,{"$f":"Data1!J8","v":"NP margin "},null,null,null,null,{"$f":"Data1!K8","v":"Sales growth 5 Yr."},null,null,null,null,{"$f":"Data1!L8","v":"Debt/Net Profit"},null,null,null,null,null,null,null,null,"All",null,null,"Displayed 10"]
[null,null,null,null,"Sort KPI","Unique","Sorted","Position",null,null,{"$f":"Data1!E11","v":"Financial Score"},{"$f":"Data1!F11","v":"ROE "},{"$f":"Data1!G11","v":"ROA"},{"$f":"Data1!H11","v":"EPS growth 5 Yr."},{"$f":"Data1!I11","v":"EPS growth 10 Yr."},{"$f":"Data1!J11","v":"NP margin "},{"$f":"Data1!K11","v":"Sales growth 5 Yr."},{"$f":"Data1!L11","v":"Debt/Net Profit"},null,"Black","Red","Average","Min","Max","Black","Red","Average","Min","Max","Black","Red","Average","Min","Max","Black","Red","Average","Min","Max","Black","Red","Average","Min","Max","Black","Red","Average","Min","Max","Black","Red","Average","Min","Max","Black","Red","Average","Min","Max",null,"Y Average",null,null,"All X","All Y",null,"Displayed X","Displayed Y"]
[null,null,1,{"$f":"Data1!D12","v":"Britannia"},{"$f":"OFFSET(Data1!$D12,0,mySortCriteria)","v":46.5},{"$f":"E27+$C27/1000000000","v":46.500000000999997},{"$f":"CHOOSE($E$8,LARGE($F$27:$F$126,$C27),SMALL($F$27:$F$126,$C27))","v":49.000000006},{"$f":"MATCH(G27,$F$27:$F$126,0)","v":6},null,{"$f":"OFFSET(Data1!D$11,$H27,0)","v":"Amara Raja Batt"},{"$f":"OFFSET(Data1!E$11,$H27,0)","v":49},{"$f":"OFFSET(Data1!F$11,$H27,0)","v":0.23288479473173324},{"$f":"OFFSET(Data1!G$11,$H27,0)","v":0.16794773251345113},{"$f":"OFFSET(Data1!H$11,$H27,0)","v":0.27007876481499915},{"$f":"OFFSET(Data1!I$11,$H27,0)","v":0.2719228627734831},{"$f":"OFFSET(Data1!J$11,$H27,0)","v":0.10434330276911397},{"$f":"OFFSET(Data1!K$11,$H27,0)","v":0.21644545120282732},{"$f":"OFFSET(Data1!L$11,$H27,0)","v":0.15147924158221646},null,{"$f":"IF(Dashboard1!$E7>=Data1!$E$9,Dashboard1!$E7,NA())","v":49},{"$f":"IF(Dashboard1!$E7<Data1!$E$9,Dashboard1!$E7,NA())","v":{"$error":"#N/A"}},{"$f":"AVERAGE(K27:K126)","v":28.238095238095237},{"$f":"MIN(K27:K126)","v":0},{"$f":"MAX(K27:K126)","v":49},{"$f":"IF(Dashboard1!$H7>=Data1!$F$9,Dashboard1!$H7,NA())","v":{"$error":"#N/A"}},{"$f":"IF(Dashboard1!$H7<Data1!$F$9,Dashboard1!$H7,NA())","v":0.23288479473173324},{"$f":"AVERAGE(L27:L126)","v":0.20223649996383658},{"$f":"MIN(L27:L126)","v":0},{"$f":"MAX(L27:L126)","v":0.56550952946138644},{"$f":"IF(Dashboard1!$K7>=Data1!$G$9,Dashboard1!$K7,NA())","v":{"$error":"#N/A"}},{"$f":"IF(Dashboard1!$K7<Data1!$G$9,Dashboard1!$K7,NA())","v":0.16794773251345113},{"$f":"AVERAGE(M27:M126)","v":0.11338706616373541},{"$f":"MIN(M27:M126)","v":0},{"$f":"MAX(M27:M126)","v":0.29214109443963032},{"$f":"IF(Dashboard1!$N7>=Data1!$H$9,Dashboard1!$N7,NA())","v":0.27007876481499915},{"$f":"IF(Dashboard1!$N7<Data1!$H$9,Dashboard1!$N7,NA())","v":{"$error":"#N/A"}},{"$f":"AVERAGE(N27:N126)","v":0.1627916623167861},{"$f":"MIN(N27:N126)","v":-7.2056467894657805E-2},{"$f":"MAX(N27:N126)","v":0.89746429720271936},{"$f":"IF(Dashboard1!$Q7>=Data1!$I$9,Dashboard1!$Q7,NA())","v":{"$error":"#N/A"}},{"$f":"IF(Dashboard1!$Q7<Data1!$I$9,Dashboard1!$Q7,NA())","v":0.2719228627734831},{"$f":"AVERAGE(O27:O126)","v":0.18265421304141083},{"$f":"MIN(O27:O126)","v":0},{"$f":"MAX(O27:O126)","v":0.61464403131224143},{"$f":"IF(Dashboard1!$T7>=Data1!$J$9,Dashboard1!$T7,NA())","v":{"$error":"#N/A"}},{"$f":"IF(Dashboard1!$T7<Data1!$J$9,Dashboard1!$T7,NA())","v":0.10434330276911397},{"$f":"AVERAGE(P27:P126)","v":7.3407091688006881E-2},{"$f":"MIN(P27:P126)","v":0},{"$f":"MAX(P27:P126)","v":0.16146139094360298},{"$f":"IF(Dashboard1!$W7>=Data1!$K$9,Dashboard1!$W7,NA())","v":0.21644545120282732},{"$f":"IF(Dashboard1!$W7<Data1!$K$9,Dashboard1!$W7,NA())","v":{"$error":"#N/A"}},{"$f":"AVERAGE(Q27:Q126)","v":0.10845439470575016},{"$f":"MIN(Q27:Q126)","v":0},{"$f":"MAX(Q27:Q126)","v":0.29400485705116108},{"$f":"IF(Dashboard1!$Z7>=Data1!$L$9,Dashboard1!$Z7,NA())","v":{"$error":"#N/A"}},{"$f":"IF(Dashboard1!$Z7<Data1!$L$9,Dashboard1!$Z7,NA())","v":0.15147924158221646},{"$f":"AVERAGE(R27:R126)","v":0.54311569567268836},{"$f":"MIN(R27:R126)","v":0},{"$f":"MAX(R27:R126)","v":2.5062034739454098},null,1,null,null,{"$f":"OFFSET(Data1!$D12,0,$E$20)","v":0.24194475666317833},{"$f":"OFFSET(Data1!$D12,0,$E$21)","v":0.43985977851111535},null,{"$f":"OFFSET($J26,$E$5,$E$20)","v":0.16794773251345113},{"$f":"OFFSET($J26,$E$5,$E$21)","v":0.23288479473173324}]
[null,null,{"$f":"C27+1","v":2},{"$f":"Data1!D13","v":"Marico"},{"$f":"OFFSET(Data1!$D13,0,mySortCriteria)","v":46},46.000000002,48.000000014000001,14,null,{"$f":"OFFSET(Data1!D$11,$H28,0)","v":"Tasty Bite"},{"$f":"OFFSET(Data1!E$11,$H28,0)","v":48},{"$f":"OFFSET(Data1!F$11,$H28,0)","v":0.26755186721991697},{"$f":"OFFSET(Data1!G$11,$H28,0)","v":0.12201029367241899},{"$f":"OFFSET(Data1!H$11,$H28,0)","v":0.53525544611561582},{"$f":"OFFSET(Data1!I$11,$H28,0)","v":0.38315787542830626},{"$f":"OFFSET(Data1!J$11,$H28,0)","v":8.2286881061766196E-2},{"$f":"OFFSET(Data1!K$11,$H28,0)","v":0.20543164917373802},{"$f":"OFFSET(Data1!L$11,$H28,0)","v":2.5062034739454098},null,{"$f":"IF(Dashboard1!$E8>=Data1!$E$9,Dashboard1!$E8,NA())","v":48},{"$f":"IF(Dashboard1!$E8<Data1!$E$9,Dashboard1!$E8,NA())","v":{"$error":"#N/A"}},{"$f":"V27","v":28.238095238095237},{"$f":"W27","v":0},{"$f":"X27","v":49},{"$f":"IF(Dashboard1!$H8>=Data1!$F$9,Dashboard1!$H8,NA())","v":{"$error":"#N/A"}},{"$f":"IF(Dashboard1!$H8<Data1!$F$9,Dashboard1!$H8,NA())","v":0.26755186721991697},{"$f":"AA27","v":0.20223649996383658},{"$f":"AB27","v":0},{"$f":"AC27","v":0.56550952946138644},{"$f":"IF(Dashboard1!$K8>=$AF28,Dashboard1!$K8,NA())","v":0.12201029367241899},{"$f":"IF(Dashboard1!$K8<$AF28,Dashboard1!$K8,NA())","v":{"$error":"#N/A"}},{"$f":"AF27","v":0.11338706616373541},{"$f":"AG27","v":0},{"$f":"AH27","v":0.29214109443963032},{"$f":"IF(Dashboard1!$N8>=Data1!$H$9,Dashboard1!$N8,NA())","v":0.53525544611561582},{"$f":"IF(Dashboard1!$N8<Data1!$H$9,Dashboard1!$N8,NA())","v":{"$error":"#N/A"}},{"$f":"AK27","v":0.1627916623167861},{"$f":"AL27","v":-7.2056467894657805E-2},{"$f":"AM27","v":0.89746429720271936},{"$f":"IF(Dashboard1!$Q8>=Data1!$I$9,Dashboard1!$Q8,NA())","v":0.38315787542830626},{"$f":"IF(Dashboard1!$Q8<Data1!$I$9,Dashboard1!$Q8,NA())","v":{"$error":"#N/A"}},{"$f":"AP27","v":0.18265421304141083},0,0.61464403131224143,{"$f":"IF(Dashboard1!$T8>=Data1!$J$9,Dashboard1!$T8,NA())","v":{"$error":"#N/A"}},{"$f":"IF(Dashboard1!$T8<Data1!$J$9,Dashboard1!$T8,NA())","v":8.2286881061766196E-2},{"$f":"AU27","v":7.3407091688006881E-2},{"$f":"AV27","v":0},{"$f":"AW27","v":0.16146139094360298},{"$f":"IF(Dashboard1!$W8>=Data1!$K$9,Dashboard1!$W8,NA())","v":0.20543164917373802},{"$f":"IF(Dashboard1!$W8<Data1!$K$9,Dashboard1!$W8,NA())","v":{"$error":"#N/A"}},{"$f":"AZ27","v":0.10845439470575016},{"$f":"BA27","v":0},{"$f":"BB27","v":0.29400485705116108},{"$f":"IF(Dashboard1!$Z8>=Data1!$L$9,Dashboard1!$Z8,NA())","v":2.5062034739454098},{"$f":"IF(Dashboard1!$Z8<Data1!$L$9,Dashboard1!$Z8,NA())","v":{"$error":"#N/A"}},{"$f":"BE27","v":0.54311569567268836},{"$f":"BF27","v":0},{"$f":"BG27","v":2.5062034739454098},null,2,null,null,{"$f":"OFFSET(Data1!$D13,0,$E$20)","v":0.21263170048783309},{"$f":"OFFSET(Data1!$D13,0,$E$21)","v":0.35130005150607591},null,0.12201029367241899,0.26755186721991697]
[null,null,{"$f":"C28+1","v":3},{"$f":"Data1!D14","v":"Dabur India"},{"$f":"OFFSET(Data1!$D14,0,mySortCriteria)","v":43.5},43.500000002999997,46.500000000999997,1,null,{"$f":"OFFSET(Data1!D$11,$H29,0)","v":"Britannia"},{"$f":"OFFSET(Data1!E$11,$H29,0)","v":46.5},{"$f":"OFFSET(Data1!F$11,$H29,0)","v":0.43985977851111535},{"$f":"OFFSET(Data1!G$11,$H29,0)","v":0.24194475666317833},{"$f":"OFFSET(Data1!H$11,$H29,0)","v":0.38700726807916963},{"$f":"OFFSET(Data1!I$11,$H29,0)","v":0.23994296296972806},{"$f":"OFFSET(Data1!J$11,$H29,0)","v":9.4250053473244472E-2},{"$f":"OFFSET(Data1!K$11,$H29,0)","v":0.13479017709633467},{"$f":"OFFSET(Data1!L$11,$H29,0)","v":9.0776809195156831E-4},null,{"$f":"IF(Dashboard1!$E9>=Data1!$E$9,Dashboard1!$E9,NA())","v":46.5},{"$f":"IF(Dashboard1!$E9<Data1!$E$9,Dashboard1!$E9,NA())","v":{"$error":"#N/A"}},{"$f":"V28","v":28.238095238095237},0,49,{"$f":"IF(Dashboard1!$H9>=Data1!$F$9,Dashboard1!$H9,NA())","v":0.43985977851111535},{"$f":"IF(Dashboard1!$H9<Data1!$F$9,Dashboard1!$H9,NA())","v":{"$error":"#N/A"}},{"$f":"AA28","v":0.20223649996383658},0,0.56550952946138644,{"$f":"IF(Dashboard1!$K9>=$AF29,Dashboard1!$K9,NA())","v":0.24194475666317833},{"$f":"IF(Dashboard1!$K9<$AF29,Dashboard1!$K9,NA())","v":{"$error":"#N/A"}},{"$f":"AF28","v":0.11338706616373541},0,0.29214109443963032,{"$f":"IF(Dashboard1!$N9>=Data1!$H$9,Dashboard1!$N9,NA())","v":0.38700726807916963},{"$f":"IF(Dashboard1!$N9<Data1!$H$9,Dashboard1!$N9,NA())","v":{"$error":"#N/A"}},{"$f":"AK28","v":0.1627916623167861},-7.2056467894657805E-2,0.89746429720271936,{"$f":"IF(Dashboard1!$Q9>=Data1!$I$9,Dashboard1!$Q9,NA())","v":{"$error":"#N/A"}},{"$f":"IF(Dashboard1!$Q9<Data1!$I$9,Dashboard1!$Q9,NA())","v":0.23994296296972806},0.18265421304141083,0,0.61464403131224143,{"$f":"IF(Dashboard1!$T9>=Data1!$J$9,Dashboard1!$T9,NA())","v":{"$error":"#N/A"}},{"$f":"IF(Dashboard1!$T9<Data1!$J$9,Dashboard1!$T9,NA())","v":9.4250053473244472E-2},{"$f":"AU28","v":7.3407091688006881E-2},0,0.16146139094360298,{"$f":"IF(Dashboard1!$W9>=Data1!$K$9,Dashboard1!$W9,NA())","v":{"$error":"#N/A"}},{"$f":"IF(Dashboard1!$W9<Data1!$K$9,Dashboard1!$W9,NA())","v":0.13479017709633467},{"$f":"AZ28","v":0.10845439470575016},0,0.29400485705116108,{"$f":"IF(Dashboard1!$Z9>=Data1!$L$9,Dashboard1!$Z9,NA())","v":{"$error":"#N/A"}},{"$f":"IF(Dashboard1!$Z9<Data1!$L$9,Dashboard1!$Z9,NA())","v":9.0776809195156831E-4},{"$f":"BE28","v":0.54311569567268836},0,2.5062034739454098,null,3,null,null,{"$f":"OFFSET(Data1!$D14,0,$E$20)","v":0.17551180750110457},{"$f":"OFFSET(Data1!$D14,0,$E$21)","v":0.30178578725838773},null,0.24194475666317833,0.43985977851111535]
[null,null,4,{"$f":"Data1!D15","v":"Mayur Uniquoter"},{"$f":"OFFSET(Data1!$D15,0,mySortCriteria)","v":41},41.000000004,46.000000002,2,null,{"$f":"OFFSET(Data1!D$11,$H30,0)","v":"Marico"},{"$f":"OFFSET(Data1!E$11,$H30,0)","v":46},{"$f":"OFFSET(Data1!F$11,$H30,0)","v":0.35130005150607591},{"$f":"OFFSET(Data1!G$11,$H30,0)","v":0.21263170048783309},{"$f":"OFFSET(Data1!H$11,$H30,0)","v":0.19823954638325181},{"$f":"OFFSET(Data1!I$11,$H30,0)","v":0.2256287837812001},{"$f":"OFFSET(Data1!J$11,$H30,0)","v":0.12012641796204855},{"$f":"OFFSET(Data1!K$11,$H30,0)","v":0.14359899192350989},{"$f":"OFFSET(Data1!L$11,$H30,0)","v":0.45080231326871373},null,{"$f":"IF(Dashboard1!$E10>=Data1!$E$9,Dashboard1!$E10,NA())","v":46},{"$f":"IF(Dashboard1!$E10<Data1!$E$9,Dashboard1!$E10,NA())","v":{"$error":"#N/A"}},28.238095238095237,0,49,{"$f":"IF(Dashboard1!$H10>=Data1!$F$9,Dashboard1!$H10,NA())","v":0.35130005150607591},{"$f":"IF(Dashboard1!$H10<Data1!$F$9,Dashboard1!$H10,NA())","v":{"$error":"#N/A"}},0.20223649996383658,0,0.56550952946138644,{"$f":"IF(Dashboard1!$K10>=$AF30,Dashboard1!$K10,NA())","v":0.21263170048783309},{"$f":"IF(Dashboard1!$K10<$AF30,Dashboard1!$K10,NA())","v":{"$error":"#N/A"}},0.11338706616373541,0,0.29214109443963032,{"$f":"IF(Dashboard1!$N10>=Data1!$H$9,Dashboard1!$N10,NA())","v":{"$error":"#N/A"}},{"$f":"IF(Dashboard1!$N10<Data1!$H$9,Dashboard1!$N10,NA())","v":0.19823954638325181},0.1627916623167861,-7.2056467894657805E-2,0.89746429720271936,{"$f":"IF(Dashboard1!$Q10>=Data1!$I$9,Dashboard1!$Q10,NA())","v":{"$error":"#N/A"}},{"$f":"IF(Dashboard1!$Q10<Data1!$I$9,Dashboard1!$Q10,NA())","v":0.2256287837812001},0.18265421304141083,0,0.61464403131224143,{"$f":"IF(Dashboard1!$T10>=Data1!$J$9,Dashboard1!$T10,NA())","v":0.12012641796204855},{"$f":"IF(Dashboard1!$T10<Data1!$J$9,Dashboard1!$T10,NA())","v":{"$error":"#N/A"}},7.3407091688006881E-2,0,0.16146139094360298,{"$f":"IF(Dashboard1!$W10>=Data1!$K$9,Dashboard1!$W10,NA())","v":{"$error":"#N/A"}},{"$f":"IF(Dashboard1!$W10<Data1!$K$9,Dashboard1!$W10,NA())","v":0.14359899192350989},0.10845439470575016,0,0.29400485705116108,{"$f":"IF(Dashboard1!$Z10>=Data1!$L$9,Dashboard1!$Z10,NA())","v":{"$error":"#N/A"}},{"$f":"IF(Dashboard1!$Z10<Data1!$L$9,Dashboard1!$Z10,NA())","v":0.45080231326871373},0.54311569567268836,0,2.5062034739454098,null,4,null,null,{"$f":"OFFSET(Data1!$D15,0,$E$20)","v":0.18658555889735645},{"$f":"OFFSET(Data1!$D15,0,$E$21)","v":0.24117973751132674},null,0.21263170048783309,0.35130005150607591]
[null,null,5,{"$f":"Data1!D16","v":"Titan Company"},{"$f":"OFFSET(Data1!$D16,0,mySortCriteria)","v":42},42.000000004999997,44.500000010999997,11,null,{"$f":"OFFSET(Data1!D$11,$H31,0)","v":"Heritage Foods"},{"$f":"OFFSET(Data1!E$11,$H31,0)","v":44.5},{"$f":"OFFSET(Data1!F$11,$H31,0)","v":0.23096795699820777},{"$f":"OFFSET(Data1!G$11,$H31,0)","v":9.5575556934960823E-2},{"$f":"OFFSET(Data1!H$11,$H31,0)","v":0.89746429720271936},{"$f":"OFFSET(Data1!I$11,$H31,0)","v":0.61464403131224143},{"$f":"OFFSET(Data1!J$11,$H31,0)","v":2.3284241655394854E-2},{"$f":"OFFSET(Data1!K$11,$H31,0)","v":0.16779688646103597},{"$f":"OFFSET(Data1!L$11,$H31,0)","v":2.2736785134403803},null,{"$f":"IF(Dashboard1!$E11>=Data1!$E$9,Dashboard1!$E11,NA())","v":44.5},{"$f":"IF(Dashboard1!$E11<Data1!$E$9,Dashboard1!$E11,NA())","v":{"$error":"#N/A"}},28.238095238095237,0,49,{"$f":"IF(Dashboard1!$H11>=Data1!$F$9,Dashboard1!$H11,NA())","v":{"$error":"#N/A"}},{"$f":"IF(Dashboard1!$H11<Data1!$F$9,Dashboard1!$H11,NA())","v":0.23096795699820777},0.20223649996383658,0,0.56550952946138644,{"$f":"IF(Dashboard1!$K11>=$AF31,Dashboard1!$K11,NA())","v":{"$error":"#N/A"}},{"$f":"IF(Dashboard1!$K11<$AF31,Dashboard1!$K11,NA())","v":9.5575556934960823E-2},0.11338706616373541,0,0.29214109443963032,{"$f":"IF(Dashboard1!$N11>=Data1!$H$9,Dashboard1!$N11,NA())","v":0.89746429720271936},{"$f":"IF(Dashboard1!$N11<Data1!$H$9,Dashboard1!$N11,NA())","v":{"$error":"#N/A"}},0.1627916623167861,-7.2056467894657805E-2,0.89746429720271936,{"$f":"IF(Dashboard1!$Q11>=Data1!$I$9,Dashboard1!$Q11,NA())","v":0.61464403131224143},{"$f":"IF(Dashboard1!$Q11<Data1!$I$9,Dashboard1!$Q11,NA())","v":{"$error":"#N/A"}},0.18265421304141083,0,0.61464403131224143,{"$f":"IF(Dashboard1!$T11>=Data1!$J$9,Dashboard1!$T11,NA())","v":{"$error":"#N/A"}},{"$f":"IF(Dashboard1!$T11<Data1!$J$9,Dashboard1!$T11,NA())","v":2.3284241655394854E-2},7.3407091688006881E-2,0,0.16146139094360298,{"$f":"IF(Dashboard1!$W11>=Data1!$K$9,Dashboard1!$W11,NA())","v":0.16779688646103597},{"$f":"IF(Dashboard1!$W11<Data1!$K$9,Dashboard1!$W11,NA())","v":{"$error":"#N/A"}},0.10845439470575016,0,0.29400485705116108,{"$f":"IF(Dashboard1!$Z11>=Data1!$L$9,Dashboard1!$Z11,NA())","v":2.2736785134403803},{"$f":"IF(Dashboard1!$Z11<Data1!$L$9,Dashboard1!$Z11,NA())","v":{"$error":"#N/A"}},0.54311569567268836,0,2.5062034739454098,null,5,null,null,{"$f":"OFFSET(Data1!$D16,0,$E$20)","v":0.110070838363138},{"$f":"OFFSET(Data1!$D16,0,$E$21)","v":0.20080521254196804},null,9.5575556934960823E-2,0.23096795699820777]
[null,null,6,{"$f":"Data1!D17","v":"Amara Raja Batt"},{"$f":"OFFSET(Data1!$D17,0,mySortCriteria)","v":49},49.000000006,44.000000012000001,12,null,{"$f":"OFFSET(Data1!D$11,$H32,0)","v":"Page Industries"},{"$f":"OFFSET(Data1!E$11,$H32,0)","v":44},{"$f":"OFFSET(Data1!F$11,$H32,0)","v":0.4605122520881994},{"$f":"OFFSET(Data1!G$11,$H32,0)","v":0.24491815358703098},{"$f":"OFFSET(Data1!H$11,$H32,0)","v":0.3177680234061504},{"$f":"OFFSET(Data1!I$11,$H32,0)","v":0.33711097302565673},{"$f":"OFFSET(Data1!J$11,$H32,0)","v":0.13045647992912537},{"$f":"OFFSET(Data1!K$11,$H32,0)","v":0.29400485705116108},{"$f":"OFFSET(Data1!L$11,$H32,0)","v":0.40784836241726108},null,{"$f":"IF(Dashboard1!$E12>=Data1!$E$9,Dashboard1!$E12,NA())","v":44},{"$f":"IF(Dashboard1!$E12<Data1!$E$9,Dashboard1!$E12,NA())","v":{"$error":"#N/A"}},28.238095238095237,0,49,{"$f":"IF(Dashboard1!$H12>=Data1!$F$9,Dashboard1!$H12,NA())","v":0.4605122520881994},{"$f":"IF(Dashboard1!$H12<Data1!$F$9,Dashboard1!$H12,NA())","v":{"$error":"#N/A"}},0.20223649996383658,0,0.56550952946138644,{"$f":"IF(Dashboard1!$K12>=$AF32,Dashboard1!$K12,NA())","v":0.24491815358703098},{"$f":"IF(Dashboard1!$K12<$AF32,Dashboard1!$K12,NA())","v":{"$error":"#N/A"}},0.11338706616373541,0,0.29214109443963032,{"$f":"IF(Dashboard1!$N12>=Data1!$H$9,Dashboard1!$N12,NA())","v":0.3177680234061504},{"$f":"IF(Dashboard1!$N12<Data1!$H$9,Dashboard1!$N12,NA())","v":{"$error":"#N/A"}},0.1627916623167861,-7.2056467894657805E-2,0.89746429720271936,{"$f":"IF(Dashboard1!$Q12>=Data1!$I$9,Dashboard1!$Q12,NA())","v":0.33711097302565673},{"$f":"IF(Dashboard1!$Q12<Data1!$I$9,Dashboard1!$Q12,NA())","v":{"$error":"#N/A"}},0.18265421304141083,0,0.61464403131224143,{"$f":"IF(Dashboard1!$T12>=Data1!$J$9,Dashboard1!$T12,NA())","v":0.13045647992912537},{"$f":"IF(Dashboard1!$T12<Data1!$J$9,Dashboard1!$T12,NA())","v":{"$error":"#N/A"}},7.3407091688006881E-2,0,0.16146139094360298,{"$f":"IF(Dashboard1!$W12>=Data1!$K$9,Dashboard1!$W12,NA())","v":0.29400485705116108},{"$f":"IF(Dashboard1!$W12<Data1!$K$9,Dashboard1!$W12,NA())","v":{"$error":"#N/A"}},0.10845439470575016,0,0.29400485705116108,{"$f":"IF(Dashboard1!$Z12>=Data1!$L$9,Dashboard1!$Z12,NA())","v":{"$error":"#N/A"}},{"$f":"IF(Dashboard1!$Z12<Data1!$L$9,Dashboard1!$Z12,NA())","v":0.40784836241726108},0.54311569567268836,0,2.5062034739454098,null,6,null,null,{"$f":"OFFSET(Data1!$D17,0,$E$20)","v":0.16794773251345113},{"$f":"OFFSET(Data1!$D17,0,$E$21)","v":0.23288479473173324},null,0.24491815358703098,0.4605122520881994]
[null,null,7,{"$f":"Data1!D18","v":"Pidilite Ind"},{"$f":"OFFSET(Data1!$D18,0,mySortCriteria)","v":44},44.000000006999997,44.000000006999997,7,null,{"$f":"OFFSET(Data1!D$11,$H33,0)","v":"Pidilite Ind"},{"$f":"OFFSET(Data1!E$11,$H33,0)","v":44},{"$f":"OFFSET(Data1!F$11,$H33,0)","v":0.27179463223747813},{"$f":"OFFSET(Data1!G$11,$H33,0)","v":0.19252237966396785},{"$f":"OFFSET(Data1!H$11,$H33,0)","v":0.19193073454726317},{"$f":"OFFSET(Data1!I$11,$H33,0)","v":0.14348747260527728},{"$f":"OFFSET(Data1!J$11,$H33,0)","v":0.14086731415694351},{"$f":"OFFSET(Data1!K$11,$H33,0)","v":0.15107008045976267},{"$f":"OFFSET(Data1!L$11,$H33,0)","v":0.11208651735899941},null,{"$f":"IF(Dashboard1!$E13>=Data1!$E$9,Dashboard1!$E13,NA())","v":44},{"$f":"IF(Dashboard1!$E13<Data1!$E$9,Dashboard1!$E13,NA())","v":{"$error":"#N/A"}},28.238095238095237,0,49,{"$f":"IF(Dashboard1!$H13>=Data1!$F$9,Dashboard1!$H13,NA())","v":{"$error":"#N/A"}},{"$f":"IF(Dashboard1!$H13<Data1!$F$9,Dashboard1!$H13,NA())","v":0.27179463223747813},0.20223649996383658,0,0.56550952946138644,{"$f":"IF(Dashboard1!$K13>=$AF33,Dashboard1!$K13,NA())","v":0.19252237966396785},{"$f":"IF(Dashboard1!$K13<$AF33,Dashboard1!$K13,NA())","v":{"$error":"#N/A"}},0.11338706616373541,0,0.29214109443963032,{"$f":"IF(Dashboard1!$N13>=Data1!$H$9,Dashboard1!$N13,NA())","v":{"$error":"#N/A"}},{"$f":"IF(Dashboard1!$N13<Data1!$H$9,Dashboard1!$N13,NA())","v":0.19193073454726317},0.1627916623167861,-7.2056467894657805E-2,0.89746429720271936,{"$f":"IF(Dashboard1!$Q13>=Data1!$I$9,Dashboard1!$Q13,NA())","v":{"$error":"#N/A"}},{"$f":"IF(Dashboard1!$Q13<Data1!$I$9,Dashboard1!$Q13,NA())","v":0.14348747260527728},0.18265421304141083,0,0.61464403131224143,{"$f":"IF(Dashboard1!$T13>=Data1!$J$9,Dashboard1!$T13,NA())","v":0.14086731415694351},{"$f":"IF(Dashboard1!$T13<Data1!$J$9,Dashboard1!$T13,NA())","v":{"$error":"#N/A"}},7.3407091688006881E-2,0,0.16146139094360298,{"$f":"IF(Dashboard1!$W13>=Data1!$K$9,Dashboard1!$W13,NA())","v":{"$error":"#N/A"}},{"$f":"IF(Dashboard1!$W13<Data1!$K$9,Dashboard1!$W13,NA())","v":0.15107008045976267},0.10845439470575016,0,0.29400485705116108,{"$f":"IF(Dashboard1!$Z13>=Data1!$L$9,Dashboard1!$Z13,NA())","v":{"$error":"#N/A"}},{"$f":"IF(Dashboard1!$Z13<Data1!$L$9,Dashboard1!$Z13,NA())","v":0.11208651735899941},0.54311569567268836,0,2.5062034739454098,null,7,null,null,{"$f":"OFFSET(Data1!$D18,0,$E$20)","v":0.19252237966396785},{"$f":"OFFSET(Data1!$D18,0,$E$21)","v":0.27179463223747813},null,0.19252237966396785,0.27179463223747813]
[null,null,8,{"$f":"Data1!D19","v":"Colgate"},{"$f":"OFFSET(Data1!$D19,0,mySortCriteria)","v":41},41.000000008000001,43.500000002999997,3,null,{"$f":"OFFSET(Data1!D$11,$H34,0)","v":"Dabur India"},{"$f":"OFFSET(Data1!E$11,$H34,0)","v":43.5},{"$f":"OFFSET(Data1!F$11,$H34,0)","v":0.30178578725838773},{"$f":"OFFSET(Data1!G$11,$H34,0)","v":0.17551180750110457},{"$f":"OFFSET(Data1!H$11,$H34,0)","v":0.16868953582627055},{"$f":"OFFSET(Data1!I$11,$H34,0)","v":0.17777535715289483},{"$f":"OFFSET(Data1!J$11,$H34,0)","v":0.14850331558240942},{"$f":"OFFSET(Data1!K$11,$H34,0)","v":0.15697069263424912},{"$f":"OFFSET(Data1!L$11,$H34,0)","v":0.63020430921183601},null,{"$f":"IF(Dashboard1!$E14>=Data1!$E$9,Dashboard1!$E14,NA())","v":43.5},{"$f":"IF(Dashboard1!$E14<Data1!$E$9,Dashboard1!$E14,NA())","v":{"$error":"#N/A"}},28.238095238095237,0,49,{"$f":"IF(Dashboard1!$H14>=Data1!$F$9,Dashboard1!$H14,NA())","v":{"$error":"#N/A"}},{"$f":"IF(Dashboard1!$H14<Data1!$F$9,Dashboard1!$H14,NA())","v":0.30178578725838773},0.20223649996383658,0,0.56550952946138644,{"$f":"IF(Dashboard1!$K14>=$AF34,Dashboard1!$K14,NA())","v":0.17551180750110457},{"$f":"IF(Dashboard1!$K14<$AF34,Dashboard1!$K14,NA())","v":{"$error":"#N/A"}},0.11338706616373541,0,0.29214109443963032,{"$f":"IF(Dashboard1!$N14>=Data1!$H$9,Dashboard1!$N14,NA())","v":{"$error":"#N/A"}},{"$f":"IF(Dashboard1!$N14<Data1!$H$9,Dashboard1!$N14,NA())","v":0.16868953582627055},0.1627916623167861,-7.2056467894657805E-2,0.89746429720271936,{"$f":"IF(Dashboard1!$Q14>=Data1!$I$9,Dashboard1!$Q14,NA())","v":{"$error":"#N/A"}},{"$f":"IF(Dashboard1!$Q14<Data1!$I$9,Dashboard1!$Q14,NA())","v":0.17777535715289483},0.18265421304141083,0,0.61464403131224143,{"$f":"IF(Dashboard1!$T14>=Data1!$J$9,Dashboard1!$T14,NA())","v":0.14850331558240942},{"$f":"IF(Dashboard1!$T14<Data1!$J$9,Dashboard1!$T14,NA())","v":{"$error":"#N/A"}},7.3407091688006881E-2,0,0.16146139094360298,{"$f":"IF(Dashboard1!$W14>=Data1!$K$9,Dashboard1!$W14,NA())","v":{"$error":"#N/A"}},{"$f":"IF(Dashboard1!$W14<Data1!$K$9,Dashboard1!$W14,NA())","v":0.15697069263424912},0.10845439470575016,0,0.29400485705116108,{"$f":"IF(Dashboard1!$Z14>=Data1!$L$9,Dashboard1!$Z14,NA())","v":{"$error":"#N/A"}},{"$f":"IF(Dashboard1!$Z14<Data1!$L$9,Dashboard1!$Z14,NA())","v":0.63020430921183601},0.54311569567268836,0,2.5062034739454098,null,8,null,null,{"$f":"OFFSET(Data1!$D19,0,$E$20)","v":0.29214109443963032},{"$f":"OFFSET(Data1!$D19,0,$E$21)","v":0.56550952946138644},null,0.17551180750110457,0.30178578725838773]
[null,null,9,{"$f":"Data1!D20","v":"Emami"},{"$f":"OFFSET(Data1!$D20,0,mySortCriteria)","v":32.5},32.500000008999997,42.000000004999997,5,null,{"$f":"OFFSET(Data1!D$11,$H35,0)","v":"Titan Company"},{"$f":"OFFSET(Data1!E$11,$H35,0)","v":42},{"$f":"OFFSET(Data1!F$11,$H35,0)","v":0.20080521254196804},{"$f":"OFFSET(Data1!G$11,$H35,0)","v":0.110070838363138},{"$f":"OFFSET(Data1!H$11,$H35,0)","v":0.10399222086303128},{"$f":"OFFSET(Data1!I$11,$H35,0)","v":0.25090869466418542},{"$f":"OFFSET(Data1!J$11,$H35,0)","v":6.265241425962742E-2},{"$f":"OFFSET(Data1!K$11,$H35,0)","v":0.11552962209224438},{"$f":"OFFSET(Data1!L$11,$H35,0)","v":0.16018420120439228},null,{"$f":"IF(Dashboard1!$E15>=Data1!$E$9,Dashboard1!$E15,NA())","v":{"$error":"#N/A"}},{"$f":"IF(Dashboard1!$E15<Data1!$E$9,Dashboard1!$E15,NA())","v":42},28.238095238095237,0,49,{"$f":"IF(Dashboard1!$H15>=Data1!$F$9,Dashboard1!$H15,NA())","v":{"$error":"#N/A"}},{"$f":"IF(Dashboard1!$H15<Data1!$F$9,Dashboard1!$H15,NA())","v":0.20080521254196804},0.20223649996383658,0,0.56550952946138644,{"$f":"IF(Dashboard1!$K15>=$AF35,Dashboard1!$K15,NA())","v":{"$error":"#N/A"}},{"$f":"IF(Dashboard1!$K15<$AF35,Dashboard1!$K15,NA())","v":0.110070838363138},0.11338706616373541,0,0.29214109443963032,{"$f":"IF(Dashboard1!$N15>=Data1!$H$9,Dashboard1!$N15,NA())","v":{"$error":"#N/A"}},{"$f":"IF(Dashboard1!$N15<Data1!$H$9,Dashboard1!$N15,NA())","v":0.10399222086303128},0.1627916623167861,-7.2056467894657805E-2,0.89746429720271936,{"$f":"IF(Dashboard1!$Q15>=Data1!$I$9,Dashboard1!$Q15,NA())","v":{"$error":"#N/A"}},{"$f":"IF(Dashboard1!$Q15<Data1!$I$9,Dashboard1!$Q15,NA())","v":0.25090869466418542},0.18265421304141083,0,0.61464403131224143,{"$f":"IF(Dashboard1!$T15>=Data1!$J$9,Dashboard1!$T15,NA())","v":{"$error":"#N/A"}},{"$f":"IF(Dashboard1!$T15<Data1!$J$9,Dashboard1!$T15,NA())","v":6.265241425962742E-2},7.3407091688006881E-2,0,0.16146139094360298,{"$f":"IF(Dashboard1!$W15>=Data1!$K$9,Dashboard1!$W15,NA())","v":{"$error":"#N/A"}},{"$f":"IF(Dashboard1!$W15<Data1!$K$9,Dashboard1!$W15,NA())","v":0.11552962209224438},0.10845439470575016,0,0.29400485705116108,{"$f":"IF(Dashboard1!$Z15>=Data1!$L$9,Dashboard1!$Z15,NA())","v":{"$error":"#N/A"}},{"$f":"IF(Dashboard1!$Z15<Data1!$L$9,Dashboard1!$Z15,NA())","v":0.16018420120439228},0.54311569567268836,0,2.5062034739454098,null,9,null,null,{"$f":"OFFSET(Data1!$D20,0,$E$20)","v":0.13457367366390721},{"$f":"OFFSET(Data1!$D20,0,$E$21)","v":0.2555839046709521},null,0.110070838363138,0.20080521254196804]
[null,null,10,{"$f":"Data1!D21","v":"Godrej Consumer"},{"$f":"OFFSET(Data1!$D21,0,mySortCriteria)","v":38},38.000000010000001,41.000000008000001,8,null,{"$f":"OFFSET(Data1!D$11,$H36,0)","v":"Colgate"},{"$f":"OFFSET(Data1!E$11,$H36,0)","v":41},{"$f":"OFFSET(Data1!F$11,$H36,0)","v":0.56550952946138644},{"$f":"OFFSET(Data1!G$11,$H36,0)","v":0.29214109443963032},{"$f":"OFFSET(Data1!H$11,$H36,0)","v":7.4461676542965982E-2},{"$f":"OFFSET(Data1!I$11,$H36,0)","v":0.3933665269312463},{"$f":"OFFSET(Data1!J$11,$H36,0)","v":0.13851029120988678},{"$f":"OFFSET(Data1!K$11,$H36,0)","v":0.12731857373009481},{"$f":"OFFSET(Data1!L$11,$H36,0)","v":0},null,{"$f":"IF(Dashboard1!$E16>=Data1!$E$9,Dashboard1!$E16,NA())","v":{"$error":"#N/A"}},{"$f":"IF(Dashboard1!$E16<Data1!$E$9,Dashboard1!$E16,NA())","v":41},28.238095238095237,0,49,{"$f":"IF(Dashboard1!$H16>=Data1!$F$9,Dashboard1!$H16,NA())","v":0.56550952946138644},{"$f":"IF(Dashboard1!$H16<Data1!$F$9,Dashboard1!$H16,NA())","v":{"$error":"#N/A"}},0.20223649996383658,0,0.56550952946138644,{"$f":"IF(Dashboard1!$K16>=$AF36,Dashboard1!$K16,NA())","v":0.29214109443963032},{"$f":"IF(Dashboard1!$K16<$AF36,Dashboard1!$K16,NA())","v":{"$error":"#N/A"}},0.11338706616373541,0,0.29214109443963032,{"$f":"IF(Dashboard1!$N16>=Data1!$H$9,Dashboard1!$N16,NA())","v":{"$error":"#N/A"}},{"$f":"IF(Dashboard1!$N16<Data1!$H$9,Dashboard1!$N16,NA())","v":7.4461676542965982E-2},0.1627916623167861,-7.2056467894657805E-2,0.89746429720271936,{"$f":"IF(Dashboard1!$Q16>=Data1!$I$9,Dashboard1!$Q16,NA())","v":0.3933665269312463},{"$f":"IF(Dashboard1!$Q16<Data1!$I$9,Dashboard1!$Q16,NA())","v":{"$error":"#N/A"}},0.18265421304141083,0,0.61464403131224143,{"$f":"IF(Dashboard1!$T16>=Data1!$J$9,Dashboard1!$T16,NA())","v":0.13851029120988678},{"$f":"IF(Dashboard1!$T16<Data1!$J$9,Dashboard1!$T16,NA())","v":{"$error":"#N/A"}},7.3407091688006881E-2,0,0.16146139094360298,{"$f":"IF(Dashboard1!$W16>=Data1!$K$9,Dashboard1!$W16,NA())","v":{"$error":"#N/A"}},{"$f":"IF(Dashboard1!$W16<Data1!$K$9,Dashboard1!$W16,NA())","v":0.12731857373009481},0.10845439470575016,0,0.29400485705116108,{"$f":"IF(Dashboard1!$Z16>=Data1!$L$9,Dashboard1!$Z16,NA())","v":{"$error":"#N/A"}},{"$f":"IF(Dashboard1!$Z16<Data1!$L$9,Dashboard1!$Z16,NA())","v":0},0.54311569567268836,0,2.5062034739454098,null,10,null,null,{"$f":"OFFSET(Data1!$D21,0,$E$20)","v":0.11379338109377704},{"$f":"OFFSET(Data1!$D21,0,$E$21)","v":0.22733674926633296},null,0.29214109443963032,0.56550952946138644]
[null,null,11,{"$f":"Data1!D22","v":"Heritage Foods"},{"$f":"OFFSET(Data1!$D22,0,mySortCriteria)","v":44.5},44.500000010999997,41.000000004,4,null,{"$f":"OFFSET(Data1!D$11,$H37,0)","v":"Mayur Uniquoter"},{"$f":"OFFSET(Data1!E$11,$H37,0)","v":41},{"$f":"OFFSET(Data1!F$11,$H37,0)","v":0.24117973751132674},{"$f":"OFFSET(Data1!G$11,$H37,0)","v":0.18658555889735645},{"$f":"OFFSET(Data1!H$11,$H37,0)","v":0.18039447526983055},{"$f":"OFFSET(Data1!I$11,$H37,0)","v":0.40471788912301765},{"$f":"OFFSET(Data1!J$11,$H37,0)","v":0.16146139094360298},{"$f":"OFFSET(Data1!K$11,$H37,0)","v":0.15505145487786032},{"$f":"OFFSET(Data1!L$11,$H37,0)","v":0.31353775299963643},null,{"$f":"IF(Dashboard1!$E17>=Data1!$E$9,Dashboard1!$E17,NA())","v":{"$error":"#N/A"}},{"$f":"IF(Dashboard1!$E17<Data1!$E$9,Dashboard1!$E17,NA())","v":41},28.238095238095237,0,49,{"$f":"IF(Dashboard1!$H17>=Data1!$F$9,Dashboard1!$H17,NA())","v":{"$error":"#N/A"}},{"$f":"IF(Dashboard1!$H17<Data1!$F$9,Dashboard1!$H17,NA())","v":0.24117973751132674},0.20223649996383658,0,0.56550952946138644,{"$f":"IF(Dashboard1!$K17>=$AF37,Dashboard1!$K17,NA())","v":0.18658555889735645},{"$f":"IF(Dashboard1!$K17<$AF37,Dashboard1!$K17,NA())","v":{"$error":"#N/A"}},0.11338706616373541,0,0.29214109443963032,{"$f":"IF(Dashboard1!$N17>=Data1!$H$9,Dashboard1!$N17,NA())","v":{"$error":"#N/A"}},{"$f":"IF(Dashboard1!$N17<Data1!$H$9,Dashboard1!$N17,NA())","v":0.18039447526983055},0.1627916623167861,-7.2056467894657805E-2,0.89746429720271936,{"$f":"IF(Dashboard1!$Q17>=Data1!$I$9,Dashboard1!$Q17,NA())","v":0.40471788912301765},{"$f":"IF(Dashboard1!$Q17<Data1!$I$9,Dashboard1!$Q17,NA())","v":{"$error":"#N/A"}},0.18265421304141083,0,0.61464403131224143,{"$f":"IF(Dashboard1!$T17>=Data1!$J$9,Dashboard1!$T17,NA())","v":0.16146139094360298},{"$f":"IF(Dashboard1!$T17<Data1!$J$9,Dashboard1!$T17,NA())","v":{"$error":"#N/A"}},7.3407091688006881E-2,0,0.16146139094360298,{"$f":"IF(Dashboard1!$W17>=Data1!$K$9,Dashboard1!$W17,NA())","v":{"$error":"#N/A"}},{"$f":"IF(Dashboard1!$W17<Data1!$K$9,Dashboard1!$W17,NA())","v":0.15505145487786032},0.10845439470575016,0,0.29400485705116108,{"$f":"IF(Dashboard1!$Z17>=Data1!$L$9,Dashboard1!$Z17,NA())","v":{"$error":"#N/A"}},{"$f":"IF(Dashboard1!$Z17<Data1!$L$9,Dashboard1!$Z17,NA())","v":0.31353775299963643},0.54311569567268836,0,2.5062034739454098,null,11,null,null,{"$f":"OFFSET(Data1!$D22,0,$E$20)","v":9.5575556934960823E-2},{"$f":"OFFSET(Data1!$D22,0,$E$21)","v":0.23096795699820777}]
[null,null,12,{"$f":"Data1!D23","v":"Page Industries"},{"$f":"OFFSET(Data1!$D23,0,mySortCriteria)","v":44},44.000000012000001,38.000000010000001,10,null,{"$f":"OFFSET(Data1!D$11,$H38,0)","v":"Godrej Consumer"},{"$f":"OFFSET(Data1!E$11,$H38,0)","v":38},{"$f":"OFFSET(Data1!F$11,$H38,0)","v":0.22733674926633296},{"$f":"OFFSET(Data1!G$11,$H38,0)","v":0.11379338109377704},{"$f":"OFFSET(Data1!H$11,$H38,0)","v":0.15625263947643142},{"$f":"OFFSET(Data1!I$11,$H38,0)","v":0.19985072953639094},{"$f":"OFFSET(Data1!J$11,$H38,0)","v":0.1292277601777915},{"$f":"OFFSET(Data1!K$11,$H38,0)","v":0.19411817173906165},{"$f":"OFFSET(Data1!L$11,$H38,0)","v":2.4947320280613337},null,{"$f":"IF(Dashboard1!$E18>=Data1!$E$9,Dashboard1!$E18,NA())","v":{"$error":"#N/A"}},{"$f":"IF(Dashboard1!$E18<Data1!$E$9,Dashboard1!$E18,NA())","v":38},28.238095238095237,0,49,{"$f":"IF(Dashboard1!$H18>=Data1!$F$9,Dashboard1!$H18,NA())","v":{"$error":"#N/A"}},{"$f":"IF(Dashboard1!$H18<Data1!$F$9,Dashboard1!$H18,NA())","v":0.22733674926633296},0.20223649996383658,0,0.56550952946138644,{"$f":"IF(Dashboard1!$K18>=$AF38,Dashboard1!$K18,NA())","v":0.11379338109377704},{"$f":"IF(Dashboard1!$K18<$AF38,Dashboard1!$K18,NA())","v":{"$error":"#N/A"}},0.11338706616373541,0,0.29214109443963032,{"$f":"IF(Dashboard1!$N18>=Data1!$H$9,Dashboard1!$N18,NA())","v":{"$error":"#N/A"}},{"$f":"IF(Dashboard1!$N18<Data1!$H$9,Dashboard1!$N18,NA())","v":0.15625263947643142},0.1627916623167861,-7.2056467894657805E-2,0.89746429720271936,{"$f":"IF(Dashboard1!$Q18>=Data1!$I$9,Dashboard1!$Q18,NA())","v":{"$error":"#N/A"}},{"$f":"IF(Dashboard1!$Q18<Data1!$I$9,Dashboard1!$Q18,NA())","v":0.19985072953639094},0.18265421304141083,0,0.61464403131224143,{"$f":"IF(Dashboard1!$T18>=Data1!$J$9,Dashboard1!$T18,NA())","v":0.1292277601777915},{"$f":"IF(Dashboard1!$T18<Data1!$J$9,Dashboard1!$T18,NA())","v":{"$error":"#N/A"}},7.3407091688006881E-2,0,0.16146139094360298,{"$f":"IF(Dashboard1!$W18>=Data1!$K$9,Dashboard1!$W18,NA())","v":0.19411817173906165},{"$f":"IF(Dashboard1!$W18<Data1!$K$9,Dashboard1!$W18,NA())","v":{"$error":"#N/A"}},0.10845439470575016,0,0.29400485705116108,{"$f":"IF(Dashboard1!$Z18>=Data1!$L$9,Dashboard1!$Z18,NA())","v":2.4947320280613337},{"$f":"IF(Dashboard1!$Z18<Data1!$L$9,Dashboard1!$Z18,NA())","v":{"$error":"#N/A"}},0.54311569567268836,0,2.5062034739454098,null,12,null,null,{"$f":"OFFSET(Data1!$D23,0,$E$20)","v":0.24491815358703098},{"$f":"OFFSET(Data1!$D23,0,$E$21)","v":0.4605122520881994}]
[null,null,13,{"$f":"Data1!D24","v":"Nestle"},{"$f":"OFFSET(Data1!$D24,0,mySortCriteria)","v":33},{"$f":"E39+$C39/1000000000","v":33.000000012999998},33.000000012999998,{"$f":"MATCH(G39,$F$27:$F$126,0)","v":13},null,{"$f":"OFFSET(Data1!D$11,$H39,0)","v":"Nestle"},{"$f":"OFFSET(Data1!E$11,$H39,0)","v":33},{"$f":"OFFSET(Data1!F$11,$H39,0)","v":0.19989424523748731},{"$f":"OFFSET(Data1!G$11,$H39,0)","v":9.0901461956688578E-2},{"$f":"OFFSET(Data1!H$11,$H39,0)","v":-7.2056467894657805E-2},{"$f":"OFFSET(Data1!I$11,$H39,0)","v":6.6669315308989896E-2},{"$f":"OFFSET(Data1!J$11,$H39,0)","v":6.8898916371367108E-2},{"$f":"OFFSET(Data1!K$11,$H39,0)","v":5.5015872722089965E-2},{"$f":"OFFSET(Data1!L$11,$H39,0)","v":3.1476911605446696E-2},null,{"$f":"IF(Dashboard1!$E19>=Data1!$E$9,Dashboard1!$E19,NA())","v":{"$error":"#N/A"}},{"$f":"IF(Dashboard1!$E19<Data1!$E$9,Dashboard1!$E19,NA())","v":33},28.238095238095237,0,49,{"$f":"IF(Dashboard1!$H19>=Data1!$F$9,Dashboard1!$H19,NA())","v":{"$error":"#N/A"}},{"$f":"IF(Dashboard1!$H19<Data1!$F$9,Dashboard1!$H19,NA())","v":0.19989424523748731},0.20223649996383658,0,0.56550952946138644,{"$f":"IF(Dashboard1!$K19>=$AF39,Dashboard1!$K19,NA())","v":{"$error":"#N/A"}},{"$f":"IF(Dashboard1!$K19<$AF39,Dashboard1!$K19,NA())","v":9.0901461956688578E-2},0.11338706616373541,0,0.29214109443963032,{"$f":"IF(Dashboard1!$N19>=Data1!$H$9,Dashboard1!$N19,NA())","v":{"$error":"#N/A"}},{"$f":"IF(Dashboard1!$N19<Data1!$H$9,Dashboard1!$N19,NA())","v":-7.2056467894657805E-2},0.1627916623167861,-7.2056467894657805E-2,0.89746429720271936,{"$f":"IF(Dashboard1!$Q19>=Data1!$I$9,Dashboard1!$Q19,NA())","v":{"$error":"#N/A"}},{"$f":"IF(Dashboard1!$Q19<Data1!$I$9,Dashboard1!$Q19,NA())","v":6.6669315308989896E-2},0.18265421304141083,0,0.61464403131224143,{"$f":"IF(Dashboard1!$T19>=Data1!$J$9,Dashboard1!$T19,NA())","v":{"$error":"#N/A"}},{"$f":"IF(Dashboard1!$T19<Data1!$J$9,Dashboard1!$T19,NA())","v":6.8898916371367108E-2},7.3407091688006881E-2,0,0.16146139094360298,{"$f":"IF(Dashboard1!$W19>=Data1!$K$9,Dashboard1!$W19,NA())","v":{"$error":"#N/A"}},{"$f":"IF(Dashboard1!$W19<Data1!$K$9,Dashboard1!$W19,NA())","v":5.5015872722089965E-2},0.10845439470575016,0,0.29400485705116108,{"$f":"IF(Dashboard1!$Z19>=Data1!$L$9,Dashboard1!$Z19,NA())","v":{"$error":"#N/A"}},{"$f":"IF(Dashboard1!$Z19<Data1!$L$9,Dashboard1!$Z19,NA())","v":3.1476911605446696E-2},0.54311569567268836,0,2.5062034739454098,null,13,null,null,{"$f":"OFFSET(Data1!$D24,0,$E$20)","v":9.0901461956688578E-2},{"$f":"OFFSET(Data1!$D24,0,$E$21)","v":0.19989424523748731}]
[null,null,14,{"$f":"Data1!D25","v":"Tasty Bite"},{"$f":"OFFSET(Data1!$D25,0,mySortCriteria)","v":48},{"$f":"E40+$C40/1000000000","v":48.000000014000001},32.500000008999997,{"$f":"MATCH(G40,$F$27:$F$126,0)","v":9},null,{"$f":"OFFSET(Data1!D$11,$H40,0)","v":"Emami"},{"$f":"OFFSET(Data1!E$11,$H40,0)","v":32.5},{"$f":"OFFSET(Data1!F$11,$H40,0)","v":0.2555839046709521},{"$f":"OFFSET(Data1!G$11,$H40,0)","v":0.13457367366390721},{"$f":"OFFSET(Data1!H$11,$H40,0)","v":9.1467480194671325E-3},{"$f":"OFFSET(Data1!I$11,$H40,0)","v":0.12655499925700942},{"$f":"OFFSET(Data1!J$11,$H40,0)","v":0.13668014589582236},{"$f":"OFFSET(Data1!K$11,$H40,0)","v":0.16039980765678297},{"$f":"OFFSET(Data1!L$11,$H40,0)","v":1.8722882159388781},null,{"$f":"IF(Dashboard1!$E20>=Data1!$E$9,Dashboard1!$E20,NA())","v":{"$error":"#N/A"}},{"$f":"IF(Dashboard1!$E20<Data1!$E$9,Dashboard1!$E20,NA())","v":32.5},28.238095238095237,0,49,{"$f":"IF(Dashboard1!$H20>=Data1!$F$9,Dashboard1!$H20,NA())","v":{"$error":"#N/A"}},{"$f":"IF(Dashboard1!$H20<Data1!$F$9,Dashboard1!$H20,NA())","v":0.2555839046709521},0.20223649996383658,0,0.56550952946138644,{"$f":"IF(Dashboard1!$K20>=$AF40,Dashboard1!$K20,NA())","v":0.13457367366390721},{"$f":"IF(Dashboard1!$K20<$AF40,Dashboard1!$K20,NA())","v":{"$error":"#N/A"}},0.11338706616373541,0,0.29214109443963032,{"$f":"IF(Dashboard1!$N20>=Data1!$H$9,Dashboard1!$N20,NA())","v":{"$error":"#N/A"}},{"$f":"IF(Dashboard1!$N20<Data1!$H$9,Dashboard1!$N20,NA())","v":9.1467480194671325E-3},0.1627916623167861,-7.2056467894657805E-2,0.89746429720271936,{"$f":"IF(Dashboard1!$Q20>=Data1!$I$9,Dashboard1!$Q20,NA())","v":{"$error":"#N/A"}},{"$f":"IF(Dashboard1!$Q20<Data1!$I$9,Dashboard1!$Q20,NA())","v":0.12655499925700942},0.18265421304141083,0,0.61464403131224143,{"$f":"IF(Dashboard1!$T20>=Data1!$J$9,Dashboard1!$T20,NA())","v":0.13668014589582236},{"$f":"IF(Dashboard1!$T20<Data1!$J$9,Dashboard1!$T20,NA())","v":{"$error":"#N/A"}},7.3407091688006881E-2,0,0.16146139094360298,{"$f":"IF(Dashboard1!$W20>=Data1!$K$9,Dashboard1!$W20,NA())","v":{"$error":"#N/A"}},{"$f":"IF(Dashboard1!$W20<Data1!$K$9,Dashboard1!$W20,NA())","v":0.16039980765678297},0.10845439470575016,0,0.29400485705116108,{"$f":"IF(Dashboard1!$Z20>=Data1!$L$9,Dashboard1!$Z20,NA())","v":1.8722882159388781},{"$f":"IF(Dashboard1!$Z20<Data1!$L$9,Dashboard1!$Z20,NA())","v":{"$error":"#N/A"}},0.54311569567268836,0,2.5062034739454098,null,14,null,null,{"$f":"OFFSET(Data1!$D25,0,$E$20)","v":0.12201029367241899},{"$f":"OFFSET(Data1!$D25,0,$E$21)","v":0.26755186721991697}]
[null,null,15,{"$f":"Data1!D26","v":0},{"$f":"OFFSET(Data1!$D26,0,mySortCriteria)","v":0},{"$f":"E41+$C41/1000000000","v":1.4999999999999999E-8},2.0999999999999999E-8,{"$f":"MATCH(G41,$F$27:$F$126,0)","v":21},null,{"$f":"OFFSET(Data1!D$11,$H41,0)","v":0},{"$f":"OFFSET(Data1!E$11,$H41,0)","v":0},{"$f":"OFFSET(Data1!F$11,$H41,0)","v":0},{"$f":"OFFSET(Data1!G$11,$H41,0)","v":0},{"$f":"OFFSET(Data1!H$11,$H41,0)","v":0},{"$f":"OFFSET(Data1!I$11,$H41,0)","v":0},{"$f":"OFFSET(Data1!J$11,$H41,0)","v":0},{"$f":"OFFSET(Data1!K$11,$H41,0)","v":0},{"$f":"OFFSET(Data1!L$11,$H41,0)","v":0},null,{"$f":"IF(Dashboard1!$E21>=Data1!$E$9,Dashboard1!$E21,NA())","v":{"$error":"#N/A"}},{"$f":"IF(Dashboard1!$E21<Data1!$E$9,Dashboard1!$E21,NA())","v":0},{"$f":"V40","v":28.238095238095237},0,49,{"$f":"IF(Dashboard1!$H21>=Data1!$F$9,Dashboard1!$H21,NA())","v":{"$error":"#N/A"}},{"$f":"IF(Dashboard1!$H21<Data1!$F$9,Dashboard1!$H21,NA())","v":0},{"$f":"AA40","v":0.20223649996383658},0,0.56550952946138644,{"$f":"IF(Dashboard1!$K21>=$AF41,Dashboard1!$K21,NA())","v":{"$error":"#N/A"}},{"$f":"IF(Dashboard1!$K21<$AF41,Dashboard1!$K21,NA())","v":0},{"$f":"AF40","v":0.11338706616373541},0,0.29214109443963032,{"$f":"IF(Dashboard1!$N21>=Data1!$H$9,Dashboard1!$N21,NA())","v":{"$error":"#N/A"}},{"$f":"IF(Dashboard1!$N21<Data1!$H$9,Dashboard1!$N21,NA())","v":0},{"$f":"AK40","v":0.1627916623167861},-7.2056467894657805E-2,0.89746429720271936,{"$f":"IF(Dashboard1!$Q21>=Data1!$I$9,Dashboard1!$Q21,NA())","v":{"$error":"#N/A"}},{"$f":"IF(Dashboard1!$Q21<Data1!$I$9,Dashboard1!$Q21,NA())","v":0},{"$f":"AP40","v":0.18265421304141083},0,0.61464403131224143,{"$f":"IF(Dashboard1!$T21>=Data1!$J$9,Dashboard1!$T21,NA())","v":{"$error":"#N/A"}},{"$f":"IF(Dashboard1!$T21<Data1!$J$9,Dashboard1!$T21,NA())","v":0},7.3407091688006881E-2,0,0.16146139094360298,{"$f":"IF(Dashboard1!$W21>=Data1!$K$9,Dashboard1!$W21,NA())","v":{"$error":"#N/A"}},{"$f":"IF(Dashboard1!$W21<Data1!$K$9,Dashboard1!$W21,NA())","v":0},0.10845439470575016,0,0.29400485705116108,{"$f":"IF(Dashboard1!$Z21>=Data1!$L$9,Dashboard1!$Z21,NA())","v":{"$error":"#N/A"}},{"$f":"IF(Dashboard1!$Z21<Data1!$L$9,Dashboard1!$Z21,NA())","v":0},0.54311569567268836,0,2.5062034739454098,null,15,null,null,{"$f":"OFFSET(Data1!$D26,0,$E$20)","v":0},{"$f":"OFFSET(Data1!$D26,0,$E$21)","v":0}]
[null,null,16,{"$f":"Data1!D27","v":0},{"$f":"OFFSET(Data1!$D27,0,mySortCriteria)","v":0},1.6000000000000001E-8,2E-8,20,null,{"$f":"OFFSET(Data1!D$11,$H42,0)","v":0},{"$f":"OFFSET(Data1!E$11,$H42,0)","v":0},{"$f":"OFFSET(Data1!F$11,$H42,0)","v":0},{"$f":"OFFSET(Data1!G$11,$H42,0)","v":0},{"$f":"OFFSET(Data1!H$11,$H42,0)","v":0},{"$f":"OFFSET(Data1!I$11,$H42,0)","v":0},{"$f":"OFFSET(Data1!J$11,$H42,0)","v":0},{"$f":"OFFSET(Data1!K$11,$H42,0)","v":0},{"$f":"OFFSET(Data1!L$11,$H42,0)","v":0},null,{"$f":"IF(Dashboard1!$E22>=Data1!$E$9,Dashboard1!$E22,NA())","v":{"$error":"#N/A"}},{"$f":"IF(Dashboard1!$E22<Data1!$E$9,Dashboard1!$E22,NA())","v":0},{"$f":"V41","v":28.238095238095237},0,49,{"$f":"IF(Dashboard1!$H22>=Data1!$F$9,Dashboard1!$H22,NA())","v":{"$error":"#N/A"}},{"$f":"IF(Dashboard1!$H22<Data1!$F$9,Dashboard1!$H22,NA())","v":0},{"$f":"AA41","v":0.20223649996383658},0,0.56550952946138644,{"$f":"IF(Dashboard1!$K22>=$AF42,Dashboard1!$K22,NA())","v":{"$error":"#N/A"}},{"$f":"IF(Dashboard1!$K22<$AF42,Dashboard1!$K22,NA())","v":0},{"$f":"AF41","v":0.11338706616373541},0,0.29214109443963032,{"$f":"IF(Dashboard1!$N22>=Data1!$H$9,Dashboard1!$N22,NA())","v":{"$error":"#N/A"}},{"$f":"IF(Dashboard1!$N22<Data1!$H$9,Dashboard1!$N22,NA())","v":0},{"$f":"AK41","v":0.1627916623167861},-7.2056467894657805E-2,0.89746429720271936,{"$f":"IF(Dashboard1!$Q22>=Data1!$I$9,Dashboard1!$Q22,NA())","v":{"$error":"#N/A"}},{"$f":"IF(Dashboard1!$Q22<Data1!$I$9,Dashboard1!$Q22,NA())","v":0},{"$f":"AP41","v":0.18265421304141083},0,0.61464403131224143,{"$f":"IF(Dashboard1!$T22>=Data1!$J$9,Dashboard1!$T22,NA())","v":{"$error":"#N/A"}},{"$f":"IF(Dashboard1!$T22<Data1!$J$9,Dashboard1!$T22,NA())","v":0},7.3407091688006881E-2,0,0.16146139094360298,{"$f":"IF(Dashboard1!$W22>=Data1!$K$9,Dashboard1!$W22,NA())","v":{"$error":"#N/A"}},{"$f":"IF(Dashboard1!$W22<Data1!$K$9,Dashboard1!$W22,NA())","v":0},0.10845439470575016,0,0.29400485705116108,{"$f":"IF(Dashboard1!$Z22>=Data1!$L$9,Dashboard1!$Z22,NA())","v":{"$error":"#N/A"}},{"$f":"IF(Dashboard1!$Z22<Data1!$L$9,Dashboard1!$Z22,NA())","v":0},0.54311569567268836,0,2.5062034739454098,null,16,null,null,{"$f":"OFFSET(Data1!$D27,0,$E$20)","v":0},{"$f":"OFFSET(Data1!$D27,0,$E$21)","v":0}]
[null,null,17,{"$f":"Data1!D28","v":0},{"$f":"OFFSET(Data1!$D28,0,mySortCriteria)","v":0},1.7E-8,1.9000000000000001E-8,19,null,{"$f":"OFFSET(Data1!D$11,$H43,0)","v":0},{"$f":"OFFSET(Data1!E$11,$H43,0)","v":0},{"$f":"OFFSET(Data1!F$11,$H43,0)","v":0},{"$f":"OFFSET(Data1!G$11,$H43,0)","v":0},{"$f":"OFFSET(Data1!H$11,$H43,0)","v":0},{"$f":"OFFSET(Data1!I$11,$H43,0)","v":0},{"$f":"OFFSET(Data1!J$11,$H43,0)","v":0},{"$f":"OFFSET(Data1!K$11,$H43,0)","v":0},{"$f":"OFFSET(Data1!L$11,$H43,0)","v":0},null,{"$f":"IF(Dashboard1!$E23>=Data1!$E$9,Dashboard1!$E23,NA())","v":{"$error":"#N/A"}},{"$f":"IF(Dashboard1!$E23<Data1!$E$9,Dashboard1!$E23,NA())","v":0},{"$f":"V42","v":28.238095238095237},0,49,{"$f":"IF(Dashboard1!$H23>=Data1!$F$9,Dashboard1!$H23,NA())","v":{"$error":"#N/A"}},{"$f":"IF(Dashboard1!$H23<Data1!$F$9,Dashboard1!$H23,NA())","v":0},{"$f":"AA42","v":0.20223649996383658},0,0.56550952946138644,{"$f":"IF(Dashboard1!$K23>=$AF43,Dashboard1!$K23,NA())","v":{"$error":"#N/A"}},{"$f":"IF(Dashboard1!$K23<$AF43,Dashboard1!$K23,NA())","v":0},{"$f":"AF42","v":0.11338706616373541},0,0.29214109443963032,{"$f":"IF(Dashboard1!$N23>=Data1!$H$9,Dashboard1!$N23,NA())","v":{"$error":"#N/A"}},{"$f":"IF(Dashboard1!$N23<Data1!$H$9,Dashboard1!$N23,NA())","v":0},{"$f":"AK42","v":0.1627916623167861},-7.2056467894657805E-2,0.89746429720271936,{"$f":"IF(Dashboard1!$Q23>=Data1!$I$9,Dashboard1!$Q23,NA())","v":{"$error":"#N/A"}},{"$f":"IF(Dashboard1!$Q23<Data1!$I$9,Dashboard1!$Q23,NA())","v":0},{"$f":"AP42","v":0.18265421304141083},0,0.61464403131224143,{"$f":"IF(Dashboard1!$T23>=Data1!$J$9,Dashboard1!$T23,NA())","v":{"$error":"#N/A"}},{"$f":"IF(Dashboard1!$T23<Data1!$J$9,Dashboard1!$T23,NA())","v":0},7.3407091688006881E-2,0,0.16146139094360298,{"$f":"IF(Dashboard1!$W23>=Data1!$K$9,Dashboard1!$W23,NA())","v":{"$error":"#N/A"}},{"$f":"IF(Dashboard1!$W23<Data1!$K$9,Dashboard1!$W23,NA())","v":0},0.10845439470575016,0,0.29400485705116108,{"$f":"IF(Dashboard1!$Z23>=Data1!$L$9,Dashboard1!$Z23,NA())","v":{"$error":"#N/A"}},{"$f":"IF(Dashboard1!$Z23<Data1!$L$9,Dashboard1!$Z23,NA())","v":0},0.54311569567268836,0,2.5062034739454098,null,17,null,null,{"$f":"OFFSET(Data1!$D28,0,$E$20)","v":0},{"$f":"OFFSET(Data1!$D28,0,$E$21)","v":0}]
[null,null,18,{"$f":"Data1!D29","v":0},{"$f":"OFFSET(Data1!$D29,0,mySortCriteria)","v":0},1.7999999999999999E-8,1.7999999999999999E-8,18,null,{"$f":"OFFSET(Data1!D$11,$H44,0)","v":0},{"$f":"OFFSET(Data1!E$11,$H44,0)","v":0},{"$f":"OFFSET(Data1!F$11,$H44,0)","v":0},{"$f":"OFFSET(Data1!G$11,$H44,0)","v":0},{"$f":"OFFSET(Data1!H$11,$H44,0)","v":0},{"$f":"OFFSET(Data1!I$11,$H44,0)","v":0},{"$f":"OFFSET(Data1!J$11,$H44,0)","v":0},{"$f":"OFFSET(Data1!K$11,$H44,0)","v":0},{"$f":"OFFSET(Data1!L$11,$H44,0)","v":0},null,{"$f":"IF(Dashboard1!$E24>=Data1!$E$9,Dashboard1!$E24,NA())","v":{"$error":"#N/A"}},{"$f":"IF(Dashboard1!$E24<Data1!$E$9,Dashboard1!$E24,NA())","v":0},{"$f":"V43","v":28.238095238095237},0,49,{"$f":"IF(Dashboard1!$H24>=Data1!$F$9,Dashboard1!$H24,NA())","v":{"$error":"#N/A"}},{"$f":"IF(Dashboard1!$H24<Data1!$F$9,Dashboard1!$H24,NA())","v":0},{"$f":"AA43","v":0.20223649996383658},0,0.56550952946138644,{"$f":"IF(Dashboard1!$K24>=$AF44,Dashboard1!$K24,NA())","v":{"$error":"#N/A"}},{"$f":"IF(Dashboard1!$K24<$AF44,Dashboard1!$K24,NA())","v":0},{"$f":"AF43","v":0.11338706616373541},0,0.29214109443963032,{"$f":"IF(Dashboard1!$N24>=Data1!$H$9,Dashboard1!$N24,NA())","v":{"$error":"#N/A"}},{"$f":"IF(Dashboard1!$N24<Data1!$H$9,Dashboard1!$N24,NA())","v":0},{"$f":"AK43","v":0.1627916623167861},-7.2056467894657805E-2,0.89746429720271936,{"$f":"IF(Dashboard1!$Q24>=Data1!$I$9,Dashboard1!$Q24,NA())","v":{"$error":"#N/A"}},{"$f":"IF(Dashboard1!$Q24<Data1!$I$9,Dashboard1!$Q24,NA())","v":0},{"$f":"AP43","v":0.18265421304141083},0,0.61464403131224143,{"$f":"IF(Dashboard1!$T24>=Data1!$J$9,Dashboard1!$T24,NA())","v":{"$error":"#N/A"}},{"$f":"IF(Dashboard1!$T24<Data1!$J$9,Dashboard1!$T24,NA())","v":0},7.3407091688006881E-2,0,0.16146139094360298,{"$f":"IF(Dashboard1!$W24>=Data1!$K$9,Dashboard1!$W24,NA())","v":{"$error":"#N/A"}},{"$f":"IF(Dashboard1!$W24<Data1!$K$9,Dashboard1!$W24,NA())","v":0},0.10845439470575016,0,0.29400485705116108,{"$f":"IF(Dashboard1!$Z24>=Data1!$L$9,Dashboard1!$Z24,NA())","v":{"$error":"#N/A"}},{"$f":"IF(Dashboard1!$Z24<Data1!$L$9,Dashboard1!$Z24,NA())","v":0},0.54311569567268836,0,2.5062034739454098,null,18,null,null,{"$f":"OFFSET(Data1!$D29,0,$E$20)","v":0},{"$f":"OFFSET(Data1!$D29,0,$E$21)","v":0}]
[null,null,19,{"$f":"Data1!D30","v":0},{"$f":"OFFSET(Data1!$D30,0,mySortCriteria)","v":0},1.9000000000000001E-8,1.7E-8,17,null,{"$f":"OFFSET(Data1!D$11,$H45,0)","v":0},{"$f":"OFFSET(Data1!E$11,$H45,0)","v":0},{"$f":"OFFSET(Data1!F$11,$H45,0)","v":0},{"$f":"OFFSET(Data1!G$11,$H45,0)","v":0},{"$f":"OFFSET(Data1!H$11,$H45,0)","v":0},{"$f":"OFFSET(Data1!I$11,$H45,0)","v":0},{"$f":"OFFSET(Data1!J$11,$H45,0)","v":0},{"$f":"OFFSET(Data1!K$11,$H45,0)","v":0},{"$f":"OFFSET(Data1!L$11,$H45,0)","v":0},null,{"$f":"IF(Dashboard1!$E25>=Data1!$E$9,Dashboard1!$E25,NA())","v":{"$error":"#N/A"}},{"$f":"IF(Dashboard1!$E25<Data1!$E$9,Dashboard1!$E25,NA())","v":0},{"$f":"V44","v":28.238095238095237},0,49,{"$f":"IF(Dashboard1!$H25>=Data1!$F$9,Dashboard1!$H25,NA())","v":{"$error":"#N/A"}},{"$f":"IF(Dashboard1!$H25<Data1!$F$9,Dashboard1!$H25,NA())","v":0},{"$f":"AA44","v":0.20223649996383658},0,0.56550952946138644,{"$f":"IF(Dashboard1!$K25>=$AF45,Dashboard1!$K25,NA())","v":{"$error":"#N/A"}},{"$f":"IF(Dashboard1!$K25<$AF45,Dashboard1!$K25,NA())","v":0},{"$f":"AF44","v":0.11338706616373541},0,0.29214109443963032,{"$f":"IF(Dashboard1!$N25>=Data1!$H$9,Dashboard1!$N25,NA())","v":{"$error":"#N/A"}},{"$f":"IF(Dashboard1!$N25<Data1!$H$9,Dashboard1!$N25,NA())","v":0},{"$f":"AK44","v":0.1627916623167861},-7.2056467894657805E-2,0.89746429720271936,{"$f":"IF(Dashboard1!$Q25>=Data1!$I$9,Dashboard1!$Q25,NA())","v":{"$error":"#N/A"}},{"$f":"IF(Dashboard1!$Q25<Data1!$I$9,Dashboard1!$Q25,NA())","v":0},{"$f":"AP44","v":0.18265421304141083},0,0.61464403131224143,{"$f":"IF(Dashboard1!$T25>=Data1!$J$9,Dashboard1!$T25,NA())","v":{"$error":"#N/A"}},{"$f":"IF(Dashboard1!$T25<Data1!$J$9,Dashboard1!$T25,NA())","v":0},{"$f":"AU44","v":7.3407091688006881E-2},0,0.16146139094360298,{"$f":"IF(Dashboard1!$W25>=Data1!$K$9,Dashboard1!$W25,NA())","v":{"$error":"#N/A"}},{"$f":"IF(Dashboard1!$W25<Data1!$K$9,Dashboard1!$W25,NA())","v":0},{"$f":"AZ44","v":0.10845439470575016},0,0.29400485705116108,{"$f":"IF(Dashboard1!$Z25>=Data1!$L$9,Dashboard1!$Z25,NA())","v":{"$error":"#N/A"}},{"$f":"IF(Dashboard1!$Z25<Data1!$L$9,Dashboard1!$Z25,NA())","v":0},{"$f":"BE44","v":0.54311569567268836},0,2.5062034739454098,null,19,null,null,{"$f":"OFFSET(Data1!$D30,0,$E$20)","v":0},{"$f":"OFFSET(Data1!$D30,0,$E$21)","v":0}]
[null,null,20,{"$f":"Data1!D31","v":0},{"$f":"OFFSET(Data1!$D31,0,mySortCriteria)","v":0},2E-8,1.6000000000000001E-8,16,null,{"$f":"OFFSET(Data1!D$11,$H46,0)","v":0},{"$f":"OFFSET(Data1!E$11,$H46,0)","v":0},{"$f":"OFFSET(Data1!F$11,$H46,0)","v":0},{"$f":"OFFSET(Data1!G$11,$H46,0)","v":0},{"$f":"OFFSET(Data1!H$11,$H46,0)","v":0},{"$f":"OFFSET(Data1!I$11,$H46,0)","v":0},{"$f":"OFFSET(Data1!J$11,$H46,0)","v":0},{"$f":"OFFSET(Data1!K$11,$H46,0)","v":0},{"$f":"OFFSET(Data1!L$11,$H46,0)","v":0},null,{"$f":"IF(Dashboard1!$E26>=Data1!$E$9,Dashboard1!$E26,NA())","v":{"$error":"#N/A"}},{"$f":"IF(Dashboard1!$E26<Data1!$E$9,Dashboard1!$E26,NA())","v":0},{"$f":"V45","v":28.238095238095237},0,49,{"$f":"IF(Dashboard1!$H26>=Data1!$F$9,Dashboard1!$H26,NA())","v":{"$error":"#N/A"}},{"$f":"IF(Dashboard1!$H26<Data1!$F$9,Dashboard1!$H26,NA())","v":0},{"$f":"AA45","v":0.20223649996383658},0,0.56550952946138644,{"$f":"IF(Dashboard1!$K26>=$AF46,Dashboard1!$K26,NA())","v":{"$error":"#N/A"}},{"$f":"IF(Dashboard1!$K26<$AF46,Dashboard1!$K26,NA())","v":0},{"$f":"AF45","v":0.11338706616373541},0,0.29214109443963032,{"$f":"IF(Dashboard1!$N26>=Data1!$H$9,Dashboard1!$N26,NA())","v":{"$error":"#N/A"}},{"$f":"IF(Dashboard1!$N26<Data1!$H$9,Dashboard1!$N26,NA())","v":0},{"$f":"AK45","v":0.1627916623167861},-7.2056467894657805E-2,0.89746429720271936,{"$f":"IF(Dashboard1!$Q26>=Data1!$I$9,Dashboard1!$Q26,NA())","v":{"$error":"#N/A"}},{"$f":"IF(Dashboard1!$Q26<Data1!$I$9,Dashboard1!$Q26,NA())","v":0},{"$f":"AP45","v":0.18265421304141083},0,0.61464403131224143,{"$f":"IF(Dashboard1!$T26>=Data1!$J$9,Dashboard1!$T26,NA())","v":{"$error":"#N/A"}},{"$f":"IF(Dashboard1!$T26<Data1!$J$9,Dashboard1!$T26,NA())","v":0},7.3407091688006881E-2,0,0.16146139094360298,{"$f":"IF(Dashboard1!$W26>=Data1!$K$9,Dashboard1!$W26,NA())","v":{"$error":"#N/A"}},{"$f":"IF(Dashboard1!$W26<Data1!$K$9,Dashboard1!$W26,NA())","v":0},0.10845439470575016,0,0.29400485705116108,{"$f":"IF(Dashboard1!$Z26>=Data1!$L$9,Dashboard1!$Z26,NA())","v":{"$error":"#N/A"}},{"$f":"IF(Dashboard1!$Z26<Data1!$L$9,Dashboard1!$Z26,NA())","v":0},0.54311569567268836,0,2.5062034739454098,null,20,null,null,{"$f":"OFFSET(Data1!$D31,0,$E$20)","v":0},{"$f":"OFFSET(Data1!$D31,0,$E$21)","v":0}]
[null,null,21,{"$f":"Data1!D32","v":0},{"$f":"OFFSET(Data1!$D32,0,mySortCriteria)","v":0},{"$f":"E47+$C47/1000000000","v":2.0999999999999999E-8},1.4999999999999999E-8,{"$f":"MATCH(G47,$F$27:$F$126,0)","v":15},null,{"$f":"OFFSET(Data1!D$11,$H47,0)","v":0},{"$f":"OFFSET(Data1!E$11,$H47,0)","v":0},{"$f":"OFFSET(Data1!F$11,$H47,0)","v":0},{"$f":"OFFSET(Data1!G$11,$H47,0)","v":0},{"$f":"OFFSET(Data1!H$11,$H47,0)","v":0},{"$f":"OFFSET(Data1!I$11,$H47,0)","v":0},{"$f":"OFFSET(Data1!J$11,$H47,0)","v":0},{"$f":"OFFSET(Data1!K$11,$H47,0)","v":0},{"$f":"OFFSET(Data1!L$11,$H47,0)","v":0},null,{"$f":"IF(Dashboard1!$E27>=Data1!$E$9,Dashboard1!$E27,NA())","v":{"$error":"#N/A"}},{"$f":"IF(Dashboard1!$E27<Data1!$E$9,Dashboard1!$E27,NA())","v":0},{"$f":"V46","v":28.238095238095237},0,49,{"$f":"IF(Dashboard1!$H27>=Data1!$F$9,Dashboard1!$H27,NA())","v":{"$error":"#N/A"}},{"$f":"IF(Dashboard1!$H27<Data1!$F$9,Dashboard1!$H27,NA())","v":0},{"$f":"AA46","v":0.20223649996383658},0,0.56550952946138644,{"$f":"IF(Dashboard1!$K27>=$AF47,Dashboard1!$K27,NA())","v":{"$error":"#N/A"}},{"$f":"IF(Dashboard1!$K27<$AF47,Dashboard1!$K27,NA())","v":0},{"$f":"AF46","v":0.11338706616373541},0,0.29214109443963032,{"$f":"IF(Dashboard1!$N27>=Data1!$H$9,Dashboard1!$N27,NA())","v":{"$error":"#N/A"}},{"$f":"IF(Dashboard1!$N27<Data1!$H$9,Dashboard1!$N27,NA())","v":0},{"$f":"AK46","v":0.1627916623167861},-7.2056467894657805E-2,0.89746429720271936,{"$f":"IF(Dashboard1!$Q27>=Data1!$I$9,Dashboard1!$Q27,NA())","v":{"$error":"#N/A"}},{"$f":"IF(Dashboard1!$Q27<Data1!$I$9,Dashboard1!$Q27,NA())","v":0},{"$f":"AP46","v":0.18265421304141083},0,0.61464403131224143,{"$f":"IF(Dashboard1!$T27>=Data1!$J$9,Dashboard1!$T27,NA())","v":{"$error":"#N/A"}},{"$f":"IF(Dashboard1!$T27<Data1!$J$9,Dashboard1!$T27,NA())","v":0},7.3407091688006881E-2,0,0.16146139094360298,{"$f":"IF(Dashboard1!$W27>=Data1!$K$9,Dashboard1!$W27,NA())","v":{"$error":"#N/A"}},{"$f":"IF(Dashboard1!$W27<Data1!$K$9,Dashboard1!$W27,NA())","v":0},0.10845439470575016,0,0.29400485705116108,{"$f":"IF(Dashboard1!$Z27>=Data1!$L$9,Dashboard1!$Z27,NA())","v":{"$error":"#N/A"}},{"$f":"IF(Dashboard1!$Z27<Data1!$L$9,Dashboard1!$Z27,NA())","v":0},0.54311569567268836,0,2.5062034739454098,null,21,null,null,{"$f":"OFFSET(Data1!$D32,0,$E$20)","v":0},{"$f":"OFFSET(Data1!$D32,0,$E$21)","v":0}]
[null,null,null,null,null,null,null,null,null,null,null,null,null,null,null,null,null,null,null,null,null,null,null,null,null,null,null,null,null,null,null,null,null,null,null,null,null,null,null,null,null,null,null,null,null,null,null,null,null,null,null,null,null,null,null,null,null,null,null,null,null,null,null,{"$f":"OFFSET(Data1!$D33,0,$E$20)","v":0},{"$f":"OFFSET(Data1!$D33,0,$E$21)","v":0}]
[null,null,null,null,null,null,null,null,null,null,null,null,null,null,null,null,null,null,null,null,null,null,null,null,null,null,null,null,null,null,null,null,null,null,null,null,null,null,null,null,null,null,null,null,null,null,null,null,null,null,null,null,null,null,null,null,null,null,null,null,null,null,null,{"$f":"OFFSET(Data1!$D34,0,$E$20)","v":0},{"$f":"OFFSET(Data1!$D34,0,$E$21)","v":0}]
[null,null,null,null,null,null,null,null,null,null,null,null,null,null,null,null,null,null,null,null,null,null,null,null,null,null,null,null,null,null,null,null,null,null,null,null,null,null,null,null,null,null,null,null,null,null,null,null,null,null,null,null,null,null,null,null,null,null,null,null,null,null,null,{"$f":"OFFSET(Data1!$D35,0,$E$20)","v":0},{"$f":"OFFSET(Data1!$D35,0,$E$21)","v":0}]
[null,null,null,null,null,null,null,null,null,null,null,null,null,null,null,null,null,null,null,null,null,null,null,null,null,null,null,null,null,null,null,null,null,null,null,null,null,null,null,null,null,null,null,null,null,null,null,null,null,null,null,null,null,null,null,null,null,null,null,null,null,null,null,{"$f":"OFFSET(Data1!$D36,0,$E$20)","v":0},{"$f":"OFFSET(Data1!$D36,0,$E$21)","v":0}]
[null,null,null,null,null,null,null,null,null,null,null,null,null,null,null,null,null,null,null,null,null,null,null,null,null,null,null,null,null,null,null,null,null,null,null,null,null,null,null,null,null,null,null,null,null,null,null,null,null,null,null,null,null,null,null,null,null,null,null,null,null,null,null,{"$f":"OFFSET(Data1!$D37,0,$E$20)","v":0},{"$f":"OFFSET(Data1!$D37,0,$E$21)","v":0}]
[null,null,null,null,null,null,null,null,null,null,null,null,null,null,null,null,null,null,null,null,null,null,null,null,null,null,null,null,null,null,null,null,null,null,null,null,null,null,null,null,null,null,null,null,null,null,null,null,null,null,null,null,null,null,null,null,null,null,null,null,null,null,null,{"$f":"OFFSET(Data1!$D38,0,$E$20)","v":0},{"$f":"OFFSET(Data1!$D38,0,$E$21)","v":0}]
[null,null,null,null,null,null,null,null,null,null,null,null,null,null,null,null,null,null,null,null,null,null,null,null,null,null,null,null,null,null,null,null,null,null,null,null,null,null,null,null,null,null,null,null,null,null,null,null,null,null,null,null,null,null,null,null,null,null,null,null,null,null,null,{"$f":"OFFSET(Data1!$D39,0,$E$20)","v":0},{"$f":"OFFSET(Data1!$D39,0,$E$21)","v":0}]
[null,null,null,null,null,null,null,null,null,null,null,null,null,null,null,null,null,null,null,null,null,null,null,null,null,null,null,null,null,null,null,null,null,null,null,null,null,null,null,null,null,null,null,null,null,null,null,null,null,null,null,null,null,null,null,null,null,null,null,null,null,null,null,{"$f":"OFFSET(Data1!$D40,0,$E$20)","v":0},{"$f":"OFFSET(Data1!$D40,0,$E$21)","v":0}]
[null,null,null,null,null,null,null,null,null,null,null,null,null,null,null,null,null,null,null,null,null,null,null,null,null,null,null,null,null,null,null,null,null,null,null,null,null,null,null,null,null,null,null,null,null,null,null,null,null,null,null,null,null,null,null,null,null,null,null,null,null,null,null,{"$f":"OFFSET(Data1!$D41,0,$E$20)","v":0},{"$f":"OFFSET(Data1!$D41,0,$E$21)","v":0}]
[null,null,null,null,null,null,null,null,null,null,null,null,null,null,null,null,null,null,null,null,null,null,null,null,null,null,null,null,null,null,null,null,null,null,null,null,null,null,null,null,null,null,null,null,null,null,null,null,null,null,null,null,null,null,null,null,null,null,null,null,null,null,null,{"$f":"OFFSET(Data1!$D42,0,$E$20)","v":0},{"$f":"OFFSET(Data1!$D42,0,$E$21)","v":0}]
[null,null,null,null,null,null,null,null,null,null,null,null,null,null,null,null,null,null,null,null,null,null,null,null,null,null,null,null,null,null,null,null,null,null,null,null,null,null,null,null,null,null,null,null,null,null,null,null,null,null,null,null,null,null,null,null,null,null,null,null,null,null,null,{"$f":"OFFSET(Data1!$D43,0,$E$20)","v":0},{"$f":"OFFSET(Data1!$D43,0,$E$21)","v":0}]
[null,null,null,null,null,null,null,null,null,null,null,null,null,null,null,null,null,null,null,null,null,null,null,null,null,null,null,null,null,null,null,null,null,null,null,null,null,null,null,null,null,null,null,null,null,null,null,null,null,null,null,null,null,null,null,null,null,null,null,null,null,null,null,{"$f":"OFFSET(Data1!$D44,0,$E$20)","v":0},{"$f":"OFFSET(Data1!$D44,0,$E$21)","v":0}]
[null,null,null,null,null,null,null,null,null,null,null,null,null,null,null,null,null,null,null,null,null,null,null,null,null,null,null,null,null,null,null,null,null,null,null,null,null,null,null,null,null,null,null,null,null,null,null,null,null,null,null,null,null,null,null,null,null,null,null,null,null,null,null,{"$f":"OFFSET(Data1!$D45,0,$E$20)","v":0},{"$f":"OFFSET(Data1!$D45,0,$E$21)","v":0}]
[null,null,null,null,null,null,null,null,null,null,null,null,null,null,null,null,null,null,null,null,null,null,null,null,null,null,null,null,null,null,null,null,null,null,null,null,null,null,null,null,null,null,null,null,null,null,null,null,null,null,null,null,null,null,null,null,null,null,null,null,null,null,null,{"$f":"OFFSET(Data1!$D46,0,$E$20)","v":0},{"$f":"OFFSET(Data1!$D46,0,$E$21)","v":0}]
[null,null,null,null,null,null,null,null,null,null,null,null,null,null,null,null,null,null,null,null,null,null,null,null,null,null,null,null,null,null,null,null,null,null,null,null,null,null,null,null,null,null,null,null,null,null,null,null,null,null,null,null,null,null,null,null,null,null,null,null,null,null,null,{"$f":"OFFSET(Data1!$D47,0,$E$20)","v":0},{"$f":"OFFSET(Data1!$D47,0,$E$21)","v":0}]
[null,null,null,null,null,null,null,null,null,null,null,null,null,null,null,null,null,null,null,null,null,null,null,null,null,null,null,null,null,null,null,null,null,null,null,null,null,null,null,null,null,null,null,null,null,null,null,null,null,null,null,null,null,null,null,null,null,null,null,null,null,null,null,{"$f":"OFFSET(Data1!$D48,0,$E$20)","v":0},{"$f":"OFFSET(Data1!$D48,0,$E$21)","v":0}]
[null,null,null,null,null,null,null,null,null,null,null,null,null,null,null,null,null,null,null,null,null,null,null,null,null,null,null,null,null,null,null,null,null,null,null,null,null,null,null,null,null,null,null,null,null,null,null,null,null,null,null,null,null,null,null,null,null,null,null,null,null,null,null,{"$f":"OFFSET(Data1!$D49,0,$E$20)","v":0},{"$f":"OFFSET(Data1!$D49,0,$E$21)","v":0}]
[null,null,null,null,null,null,null,null,null,null,null,null,null,null,null,null,null,null,null,null,null,null,null,null,null,null,null,null,null,null,null,null,null,null,null,null,null,null,null,null,null,null,null,null,null,null,null,null,null,null,null,null,null,null,null,null,null,null,null,null,null,null,null,{"$f":"OFFSET(Data1!$D50,0,$E$20)","v":0},{"$f":"OFFSET(Data1!$D50,0,$E$21)","v":0}]
[null,null,null,null,null,null,null,null,null,null,null,null,null,null,null,null,null,null,null,null,null,null,null,null,null,null,null,null,null,null,null,null,null,null,null,null,null,null,null,null,null,null,null,null,null,null,null,null,null,null,null,null,null,null,null,null,null,null,null,null,null,null,null,{"$f":"OFFSET(Data1!$D51,0,$E$20)","v":0},{"$f":"OFFSET(Data1!$D51,0,$E$21)","v":0}]
[null,null,null,null,null,null,null,null,null,null,null,null,null,null,null,null,null,null,null,null,null,null,null,null,null,null,null,null,null,null,null,null,null,null,null,null,null,null,null,null,null,null,null,null,null,null,null,null,null,null,null,null,null,null,null,null,null,null,null,null,null,null,null,{"$f":"OFFSET(Data1!$D52,0,$E$20)","v":0},{"$f":"OFFSET(Data1!$D52,0,$E$21)","v":0}]
[null,null,null,null,null,null,null,null,null,null,null,null,null,null,null,null,null,null,null,null,null,null,null,null,null,null,null,null,null,null,null,null,null,null,null,null,null,null,null,null,null,null,null,null,null,null,null,null,null,null,null,null,null,null,null,null,null,null,null,null,null,null,null,{"$f":"OFFSET(Data1!$D53,0,$E$20)","v":0},{"$f":"OFFSET(Data1!$D53,0,$E$21)","v":0}]
[null,null,null,null,null,null,null,null,null,null,null,null,null,null,null,null,null,null,null,null,null,null,null,null,null,null,null,null,null,null,null,null,null,null,null,null,null,null,null,null,null,null,null,null,null,null,null,null,null,null,null,null,null,null,null,null,null,null,null,null,null,null,null,{"$f":"OFFSET(Data1!$D54,0,$E$20)","v":0},{"$f":"OFFSET(Data1!$D54,0,$E$21)","v":0}]
[null,null,null,null,null,null,null,null,null,null,null,null,null,null,null,null,null,null,null,null,null,null,null,null,null,null,null,null,null,null,null,null,null,null,null,null,null,null,null,null,null,null,null,null,null,null,null,null,null,null,null,null,null,null,null,null,null,null,null,null,null,null,null,{"$f":"OFFSET(Data1!$D55,0,$E$20)","v":0},{"$f":"OFFSET(Data1!$D55,0,$E$21)","v":0}]
[null,null,null,null,null,null,null,null,null,null,null,null,null,null,null,null,null,null,null,null,null,null,null,null,null,null,null,null,null,null,null,null,null,null,null,null,null,null,null,null,null,null,null,null,null,null,null,null,null,null,null,null,null,null,null,null,null,null,null,null,null,null,null,{"$f":"OFFSET(Data1!$D56,0,$E$20)","v":0},{"$f":"OFFSET(Data1!$D56,0,$E$21)","v":0}]
[null,null,null,null,null,null,null,null,null,null,null,null,null,null,null,null,null,null,null,null,null,null,null,null,null,null,null,null,null,null,null,null,null,null,null,null,null,null,null,null,null,null,null,null,null,null,null,null,null,null,null,null,null,null,null,null,null,null,null,null,null,null,null,{"$f":"OFFSET(Data1!$D57,0,$E$20)","v":0},{"$f":"OFFSET(Data1!$D57,0,$E$21)","v":0}]
[null,null,null,null,null,null,null,null,null,null,null,null,null,null,null,null,null,null,null,null,null,null,null,null,null,null,null,null,null,null,null,null,null,null,null,null,null,null,null,null,null,null,null,null,null,null,null,null,null,null,null,null,null,null,null,null,null,null,null,null,null,null,null,{"$f":"OFFSET(Data1!$D58,0,$E$20)","v":0},{"$f":"OFFSET(Data1!$D58,0,$E$21)","v":0}]
[null,null,null,null,null,null,null,null,null,null,null,null,null,null,null,null,null,null,null,null,null,null,null,null,null,null,null,null,null,null,null,null,null,null,null,null,null,null,null,null,null,null,null,null,null,null,null,null,null,null,null,null,null,null,null,null,null,null,null,null,null,null,null,{"$f":"OFFSET(Data1!$D59,0,$E$20)","v":0},{"$f":"OFFSET(Data1!$D59,0,$E$21)","v":0}]
[null,null,null,null,null,null,null,null,null,null,null,null,null,null,null,null,null,null,null,null,null,null,null,null,null,null,null,null,null,null,null,null,null,null,null,null,null,null,null,null,null,null,null,null,null,null,null,null,null,null,null,null,null,null,null,null,null,null,null,null,null,null,null,{"$f":"OFFSET(Data1!$D60,0,$E$20)","v":0},{"$f":"OFFSET(Data1!$D60,0,$E$21)","v":0}]
[null,null,null,null,null,null,null,null,null,null,null,null,null,null,null,null,null,null,null,null,null,null,null,null,null,null,null,null,null,null,null,null,null,null,null,null,null,null,null,null,null,null,null,null,null,null,null,null,null,null,null,null,null,null,null,null,null,null,null,null,null,null,null,{"$f":"OFFSET(Data1!$D61,0,$E$20)","v":0},{"$f":"OFFSET(Data1!$D61,0,$E$21)","v":0}]
[null,null,null,null,null,null,null,null,null,null,null,null,null,null,null,null,null,null,null,null,null,null,null,null,null,null,null,null,null,null,null,null,null,null,null,null,null,null,null,null,null,null,null,null,null,null,null,null,null,null,null,null,null,null,null,null,null,null,null,null,null,null,null,{"$f":"OFFSET(Data1!$D62,0,$E$20)","v":0},{"$f":"OFFSET(Data1!$D62,0,$E$21)","v":0}]
[null,null,null,null,null,null,null,null,null,null,null,null,null,null,null,null,null,null,null,null,null,null,null,null,null,null,null,null,null,null,null,null,null,null,null,null,null,null,null,null,null,null,null,null,null,null,null,null,null,null,null,null,null,null,null,null,null,null,null,null,null,null,null,{"$f":"OFFSET(Data1!$D63,0,$E$20)","v":0},{"$f":"OFFSET(Data1!$D63,0,$E$21)","v":0}]
[null,null,null,null,null,null,null,null,null,null,null,null,null,null,null,null,null,null,null,null,null,null,null,null,null,null,null,null,null,null,null,null,null,null,null,null,null,null,null,null,null,null,null,null,null,null,null,null,null,null,null,null,null,null,null,null,null,null,null,null,null,null,null,{"$f":"OFFSET(Data1!$D64,0,$E$20)","v":0},{"$f":"OFFSET(Data1!$D64,0,$E$21)","v":0}]
[null,null,null,null,null,null,null,null,null,null,null,null,null,null,null,null,null,null,null,null,null,null,null,null,null,null,null,null,null,null,null,null,null,null,null,null,null,null,null,null,null,null,null,null,null,null,null,null,null,null,null,null,null,null,null,null,null,null,null,null,null,null,null,{"$f":"OFFSET(Data1!$D65,0,$E$20)","v":0},{"$f":"OFFSET(Data1!$D65,0,$E$21)","v":0}]
[null,null,null,null,null,null,null,null,null,null,null,null,null,null,null,null,null,null,null,null,null,null,null,null,null,null,null,null,null,null,null,null,null,null,null,null,null,null,null,null,null,null,null,null,null,null,null,null,null,null,null,null,null,null,null,null,null,null,null,null,null,null,null,{"$f":"OFFSET(Data1!$D66,0,$E$20)","v":0},{"$f":"OFFSET(Data1!$D66,0,$E$21)","v":0}]
[null,null,null,null,null,null,null,null,null,null,null,null,null,null,null,null,null,null,null,null,null,null,null,null,null,null,null,null,null,null,null,null,null,null,null,null,null,null,null,null,null,null,null,null,null,null,null,null,null,null,null,null,null,null,null,null,null,null,null,null,null,null,null,{"$f":"OFFSET(Data1!$D67,0,$E$20)","v":0},{"$f":"OFFSET(Data1!$D67,0,$E$21)","v":0}]
[null,null,null,null,null,null,null,null,null,null,null,null,null,null,null,null,null,null,null,null,null,null,null,null,null,null,null,null,null,null,null,null,null,null,null,null,null,null,null,null,null,null,null,null,null,null,null,null,null,null,null,null,null,null,null,null,null,null,null,null,null,null,null,{"$f":"OFFSET(Data1!$D68,0,$E$20)","v":0},{"$f":"OFFSET(Data1!$D68,0,$E$21)","v":0}]
[null,null,null,null,null,null,null,null,null,null,null,null,null,null,null,null,null,null,null,null,null,null,null,null,null,null,null,null,null,null,null,null,null,null,null,null,null,null,null,null,null,null,null,null,null,null,null,null,null,null,null,null,null,null,null,null,null,null,null,null,null,null,null,{"$f":"OFFSET(Data1!$D69,0,$E$20)","v":0},{"$f":"OFFSET(Data1!$D69,0,$E$21)","v":0}]
[null,null,null,null,null,null,null,null,null,null,null,null,null,null,null,null,null,null,null,null,null,null,null,null,null,null,null,null,null,null,null,null,null,null,null,null,null,null,null,null,null,null,null,null,null,null,null,null,null,null,null,null,null,null,null,null,null,null,null,null,null,null,null,{"$f":"OFFSET(Data1!$D70,0,$E$20)","v":0},{"$f":"OFFSET(Data1!$D70,0,$E$21)","v":0}]
[null,null,null,null,null,null,null,null,null,null,null,null,null,null,null,null,null,null,null,null,null,null,null,null,null,null,null,null,null,null,null,null,null,null,null,null,null,null,null,null,null,null,null,null,null,null,null,null,null,null,null,null,null,null,null,null,null,null,null,null,null,null,null,{"$f":"OFFSET(Data1!$D71,0,$E$20)","v":0},{"$f":"OFFSET(Data1!$D71,0,$E$21)","v":0}]
[null,null,null,null,null,null,null,null,null,null,null,null,null,null,null,null,null,null,null,null,null,null,null,null,null,null,null,null,null,null,null,null,null,null,null,null,null,null,null,null,null,null,null,null,null,null,null,null,null,null,null,null,null,null,null,null,null,null,null,null,null,null,null,{"$f":"OFFSET(Data1!$D72,0,$E$20)","v":0},{"$f":"OFFSET(Data1!$D72,0,$E$21)","v":0}]
[null,null,null,null,null,null,null,null,null,null,null,null,null,null,null,null,null,null,null,null,null,null,null,null,null,null,null,null,null,null,null,null,null,null,null,null,null,null,null,null,null,null,null,null,null,null,null,null,null,null,null,null,null,null,null,null,null,null,null,null,null,null,null,{"$f":"OFFSET(Data1!$D73,0,$E$20)","v":0},{"$f":"OFFSET(Data1!$D73,0,$E$21)","v":0}]
[null,null,null,null,null,null,null,null,null,null,null,null,null,null,null,null,null,null,null,null,null,null,null,null,null,null,null,null,null,null,null,null,null,null,null,null,null,null,null,null,null,null,null,null,null,null,null,null,null,null,null,null,null,null,null,null,null,null,null,null,null,null,null,{"$f":"OFFSET(Data1!$D74,0,$E$20)","v":0},{"$f":"OFFSET(Data1!$D74,0,$E$21)","v":0}]
[null,null,null,null,null,null,null,null,null,null,null,null,null,null,null,null,null,null,null,null,null,null,null,null,null,null,null,null,null,null,null,null,null,null,null,null,null,null,null,null,null,null,null,null,null,null,null,null,null,null,null,null,null,null,null,null,null,null,null,null,null,null,null,{"$f":"OFFSET(Data1!$D75,0,$E$20)","v":0},{"$f":"OFFSET(Data1!$D75,0,$E$21)","v":0}]
[null,null,null,null,null,null,null,null,null,null,null,null,null,null,null,null,null,null,null,null,null,null,null,null,null,null,null,null,null,null,null,null,null,null,null,null,null,null,null,null,null,null,null,null,null,null,null,null,null,null,null,null,null,null,null,null,null,null,null,null,null,null,null,{"$f":"OFFSET(Data1!$D76,0,$E$20)","v":0},{"$f":"OFFSET(Data1!$D76,0,$E$21)","v":0}]
[null,null,null,null,null,null,null,null,null,null,null,null,null,null,null,null,null,null,null,null,null,null,null,null,null,null,null,null,null,null,null,null,null,null,null,null,null,null,null,null,null,null,null,null,null,null,null,null,null,null,null,null,null,null,null,null,null,null,null,null,null,null,null,{"$f":"OFFSET(Data1!$D77,0,$E$20)","v":0},{"$f":"OFFSET(Data1!$D77,0,$E$21)","v":0}]
[null,null,null,null,null,null,null,null,null,null,null,null,null,null,null,null,null,null,null,null,null,null,null,null,null,null,null,null,null,null,null,null,null,null,null,null,null,null,null,null,null,null,null,null,null,null,null,null,null,null,null,null,null,null,null,null,null,null,null,null,null,null,null,{"$f":"OFFSET(Data1!$D78,0,$E$20)","v":0},{"$f":"OFFSET(Data1!$D78,0,$E$21)","v":0}]
[null,null,null,null,null,null,null,null,null,null,null,null,null,null,null,null,null,null,null,null,null,null,null,null,null,null,null,null,null,null,null,null,null,null,null,null,null,null,null,null,null,null,null,null,null,null,null,null,null,null,null,null,null,null,null,null,null,null,null,null,null,null,null,{"$f":"OFFSET(Data1!$D79,0,$E$20)","v":0},{"$f":"OFFSET(Data1!$D79,0,$E$21)","v":0}]
[null,null,null,null,null,null,null,null,null,null,null,null,null,null,null,null,null,null,null,null,null,null,null,null,null,null,null,null,null,null,null,null,null,null,null,null,null,null,null,null,null,null,null,null,null,null,null,null,null,null,null,null,null,null,null,null,null,null,null,null,null,null,null,{"$f":"OFFSET(Data1!$D80,0,$E$20)","v":0},{"$f":"OFFSET(Data1!$D80,0,$E$21)","v":0}]
[null,null,null,null,null,null,null,null,null,null,null,null,null,null,null,null,null,null,null,null,null,null,null,null,null,null,null,null,null,null,null,null,null,null,null,null,null,null,null,null,null,null,null,null,null,null,null,null,null,null,null,null,null,null,null,null,null,null,null,null,null,null,null,{"$f":"OFFSET(Data1!$D81,0,$E$20)","v":0},{"$f":"OFFSET(Data1!$D81,0,$E$21)","v":0}]
[null,null,null,null,null,null,null,null,null,null,null,null,null,null,null,null,null,null,null,null,null,null,null,null,null,null,null,null,null,null,null,null,null,null,null,null,null,null,null,null,null,null,null,null,null,null,null,null,null,null,null,null,null,null,null,null,null,null,null,null,null,null,null,{"$f":"OFFSET(Data1!$D82,0,$E$20)","v":0},{"$f":"OFFSET(Data1!$D82,0,$E$21)","v":0}]
[null,null,null,null,null,null,null,null,null,null,null,null,null,null,null,null,null,null,null,null,null,null,null,null,null,null,null,null,null,null,null,null,null,null,null,null,null,null,null,null,null,null,null,null,null,null,null,null,null,null,null,null,null,null,null,null,null,null,null,null,null,null,null,{"$f":"OFFSET(Data1!$D83,0,$E$20)","v":0},{"$f":"OFFSET(Data1!$D83,0,$E$21)","v":0}]
[null,null,null,null,null,null,null,null,null,null,null,null,null,null,null,null,null,null,null,null,null,null,null,null,null,null,null,null,null,null,null,null,null,null,null,null,null,null,null,null,null,null,null,null,null,null,null,null,null,null,null,null,null,null,null,null,null,null,null,null,null,null,null,{"$f":"OFFSET(Data1!$D84,0,$E$20)","v":0},{"$f":"OFFSET(Data1!$D84,0,$E$21)","v":0}]
[null,null,null,null,null,null,null,null,null,null,null,null,null,null,null,null,null,null,null,null,null,null,null,null,null,null,null,null,null,null,null,null,null,null,null,null,null,null,null,null,null,null,null,null,null,null,null,null,null,null,null,null,null,null,null,null,null,null,null,null,null,null,null,{"$f":"OFFSET(Data1!$D85,0,$E$20)","v":0},{"$f":"OFFSET(Data1!$D85,0,$E$21)","v":0}]
[null,null,null,null,null,null,null,null,null,null,null,null,null,null,null,null,null,null,null,null,null,null,null,null,null,null,null,null,null,null,null,null,null,null,null,null,null,null,null,null,null,null,null,null,null,null,null,null,null,null,null,null,null,null,null,null,null,null,null,null,null,null,null,{"$f":"OFFSET(Data1!$D86,0,$E$20)","v":0},{"$f":"OFFSET(Data1!$D86,0,$E$21)","v":0}]
[null,null,null,null,null,null,null,null,null,null,null,null,null,null,null,null,null,null,null,null,null,null,null,null,null,null,null,null,null,null,null,null,null,null,null,null,null,null,null,null,null,null,null,null,null,null,null,null,null,null,null,null,null,null,null,null,null,null,null,null,null,null,null,{"$f":"OFFSET(Data1!$D87,0,$E$20)","v":0},{"$f":"OFFSET(Data1!$D87,0,$E$21)","v":0}]
[null,null,null,null,null,null,null,null,null,null,null,null,null,null,null,null,null,null,null,null,null,null,null,null,null,null,null,null,null,null,null,null,null,null,null,null,null,null,null,null,null,null,null,null,null,null,null,null,null,null,null,null,null,null,null,null,null,null,null,null,null,null,null,{"$f":"OFFSET(Data1!$D88,0,$E$20)","v":0},{"$f":"OFFSET(Data1!$D88,0,$E$21)","v":0}]
[null,null,null,null,null,null,null,null,null,null,null,null,null,null,null,null,null,null,null,null,null,null,null,null,null,null,null,null,null,null,null,null,null,null,null,null,null,null,null,null,null,null,null,null,null,null,null,null,null,null,null,null,null,null,null,null,null,null,null,null,null,null,null,{"$f":"OFFSET(Data1!$D89,0,$E$20)","v":0},{"$f":"OFFSET(Data1!$D89,0,$E$21)","v":0}]
[null,null,null,null,null,null,null,null,null,null,null,null,null,null,null,null,null,null,null,null,null,null,null,null,null,null,null,null,null,null,null,null,null,null,null,null,null,null,null,null,null,null,null,null,null,null,null,null,null,null,null,null,null,null,null,null,null,null,null,null,null,null,null,{"$f":"OFFSET(Data1!$D90,0,$E$20)","v":0},{"$f":"OFFSET(Data1!$D90,0,$E$21)","v":0}]
[null,null,null,null,null,null,null,null,null,null,null,null,null,null,null,null,null,null,null,null,null,null,null,null,null,null,null,null,null,null,null,null,null,null,null,null,null,null,null,null,null,null,null,null,null,null,null,null,null,null,null,null,null,null,null,null,null,null,null,null,null,null,null,{"$f":"OFFSET(Data1!$D91,0,$E$20)","v":0},{"$f":"OFFSET(Data1!$D91,0,$E$21)","v":0}]
[null,null,null,null,null,null,null,null,null,null,null,null,null,null,null,null,null,null,null,null,null,null,null,null,null,null,null,null,null,null,null,null,null,null,null,null,null,null,null,null,null,null,null,null,null,null,null,null,null,null,null,null,null,null,null,null,null,null,null,null,null,null,null,{"$f":"OFFSET(Data1!$D92,0,$E$20)","v":0},{"$f":"OFFSET(Data1!$D92,0,$E$21)","v":0}]
[null,null,null,null,null,null,null,null,null,null,null,null,null,null,null,null,null,null,null,null,null,null,null,null,null,null,null,null,null,null,null,null,null,null,null,null,null,null,null,null,null,null,null,null,null,null,null,null,null,null,null,null,null,null,null,null,null,null,null,null,null,null,null,{"$f":"OFFSET(Data1!$D93,0,$E$20)","v":0},{"$f":"OFFSET(Data1!$D93,0,$E$21)","v":0}]
[null,null,null,null,null,null,null,null,null,null,null,null,null,null,null,null,null,null,null,null,null,null,null,null,null,null,null,null,null,null,null,null,null,null,null,null,null,null,null,null,null,null,null,null,null,null,null,null,null,null,null,null,null,null,null,null,null,null,null,null,null,null,null,{"$f":"OFFSET(Data1!$D94,0,$E$20)","v":0},{"$f":"OFFSET(Data1!$D94,0,$E$21)","v":0}]
[null,null,null,null,null,null,null,null,null,null,null,null,null,null,null,null,null,null,null,null,null,null,null,null,null,null,null,null,null,null,null,null,null,null,null,null,null,null,null,null,null,null,null,null,null,null,null,null,null,null,null,null,null,null,null,null,null,null,null,null,null,null,null,{"$f":"OFFSET(Data1!$D95,0,$E$20)","v":0},{"$f":"OFFSET(Data1!$D95,0,$E$21)","v":0}]
[null,null,null,null,null,null,null,null,null,null,null,null,null,null,null,null,null,null,null,null,null,null,null,null,null,null,null,null,null,null,null,null,null,null,null,null,null,null,null,null,null,null,null,null,null,null,null,null,null,null,null,null,null,null,null,null,null,null,null,null,null,null,null,{"$f":"OFFSET(Data1!$D96,0,$E$20)","v":0},{"$f":"OFFSET(Data1!$D96,0,$E$21)","v":0}]
[null,null,null,null,null,null,null,null,null,null,null,null,null,null,null,null,null,null,null,null,null,null,null,null,null,null,null,null,null,null,null,null,null,null,null,null,null,null,null,null,null,null,null,null,null,null,null,null,null,null,null,null,null,null,null,null,null,null,null,null,null,null,null,{"$f":"OFFSET(Data1!$D97,0,$E$20)","v":0},{"$f":"OFFSET(Data1!$D97,0,$E$21)","v":0}]
[null,null,null,null,null,null,null,null,null,null,null,null,null,null,null,null,null,null,null,null,null,null,null,null,null,null,null,null,null,null,null,null,null,null,null,null,null,null,null,null,null,null,null,null,null,null,null,null,null,null,null,null,null,null,null,null,null,null,null,null,null,null,null,{"$f":"OFFSET(Data1!$D98,0,$E$20)","v":0},{"$f":"OFFSET(Data1!$D98,0,$E$21)","v":0}]
[null,null,null,null,null,null,null,null,null,null,null,null,null,null,null,null,null,null,null,null,null,null,null,null,null,null,null,null,null,null,null,null,null,null,null,null,null,null,null,null,null,null,null,null,null,null,null,null,null,null,null,null,null,null,null,null,null,null,null,null,null,null,null,{"$f":"OFFSET(Data1!$D99,0,$E$20)","v":0},{"$f":"OFFSET(Data1!$D99,0,$E$21)","v":0}]
[null,null,null,null,null,null,null,null,null,null,null,null,null,null,null,null,null,null,null,null,null,null,null,null,null,null,null,null,null,null,null,null,null,null,null,null,null,null,null,null,null,null,null,null,null,null,null,null,null,null,null,null,null,null,null,null,null,null,null,null,null,null,null,{"$f":"OFFSET(Data1!$D100,0,$E$20)","v":0},{"$f":"OFFSET(Data1!$D100,0,$E$21)","v":0}]
[null,null,null,null,null,null,null,null,null,null,null,null,null,null,null,null,null,null,null,null,null,null,null,null,null,null,null,null,null,null,null,null,null,null,null,null,null,null,null,null,null,null,null,null,null,null,null,null,null,null,null,null,null,null,null,null,null,null,null,null,null,null,null,{"$f":"OFFSET(Data1!$D101,0,$E$20)","v":0},{"$f":"OFFSET(Data1!$D101,0,$E$21)","v":0}]
[null,null,null,null,null,null,null,null,null,null,null,null,null,null,null,null,null,null,null,null,null,null,null,null,null,null,null,null,null,null,null,null,null,null,null,null,null,null,null,null,null,null,null,null,null,null,null,null,null,null,null,null,null,null,null,null,null,null,null,null,null,null,null,{"$f":"OFFSET(Data1!$D102,0,$E$20)","v":0},{"$f":"OFFSET(Data1!$D102,0,$E$21)","v":0}]
[null,null,null,null,null,null,null,null,null,null,null,null,null,null,null,null,null,null,null,null,null,null,null,null,null,null,null,null,null,null,null,null,null,null,null,null,null,null,null,null,null,null,null,null,null,null,null,null,null,null,null,null,null,null,null,null,null,null,null,null,null,null,null,{"$f":"OFFSET(Data1!$D103,0,$E$20)","v":0},{"$f":"OFFSET(Data1!$D103,0,$E$21)","v":0}]
[null,null,null,null,null,null,null,null,null,null,null,null,null,null,null,null,null,null,null,null,null,null,null,null,null,null,null,null,null,null,null,null,null,null,null,null,null,null,null,null,null,null,null,null,null,null,null,null,null,null,null,null,null,null,null,null,null,null,null,null,null,null,null,{"$f":"OFFSET(Data1!$D104,0,$E$20)","v":0},{"$f":"OFFSET(Data1!$D104,0,$E$21)","v":0}]
[null,null,null,null,null,null,null,null,null,null,null,null,null,null,null,null,null,null,null,null,null,null,null,null,null,null,null,null,null,null,null,null,null,null,null,null,null,null,null,null,null,null,null,null,null,null,null,null,null,null,null,null,null,null,null,null,null,null,null,null,null,null,null,{"$f":"OFFSET(Data1!$D105,0,$E$20)","v":0},{"$f":"OFFSET(Data1!$D105,0,$E$21)","v":0}]
[null,null,null,null,null,null,null,null,null,null,null,null,null,null,null,null,null,null,null,null,null,null,null,null,null,null,null,null,null,null,null,null,null,null,null,null,null,null,null,null,null,null,null,null,null,null,null,null,null,null,null,null,null,null,null,null,null,null,null,null,null,null,null,{"$f":"OFFSET(Data1!$D106,0,$E$20)","v":0},{"$f":"OFFSET(Data1!$D106,0,$E$21)","v":0}]
[null,null,null,null,null,null,null,null,null,null,null,null,null,null,null,null,null,null,null,null,null,null,null,null,null,null,null,null,null,null,null,null,null,null,null,null,null,null,null,null,null,null,null,null,null,null,null,null,null,null,null,null,null,null,null,null,null,null,null,null,null,null,null,{"$f":"OFFSET(Data1!$D107,0,$E$20)","v":0},{"$f":"OFFSET(Data1!$D107,0,$E$21)","v":0}]
[null,null,null,null,null,null,null,null,null,null,null,null,null,null,null,null,null,null,null,null,null,null,null,null,null,null,null,null,null,null,null,null,null,null,null,null,null,null,null,null,null,null,null,null,null,null,null,null,null,null,null,null,null,null,null,null,null,null,null,null,null,null,null,{"$f":"OFFSET(Data1!$D108,0,$E$20)","v":0},{"$f":"OFFSET(Data1!$D108,0,$E$21)","v":0}]
[null,null,null,null,null,null,null,null,null,null,null,null,null,null,null,null,null,null,null,null,null,null,null,null,null,null,null,null,null,null,null,null,null,null,null,null,null,null,null,null,null,null,null,null,null,null,null,null,null,null,null,null,null,null,null,null,null,null,null,null,null,null,null,{"$f":"OFFSET(Data1!$D109,0,$E$20)","v":0},{"$f":"OFFSET(Data1!$D109,0,$E$21)","v":0}]
[null,null,null,null,null,null,null,null,null,null,null,null,null,null,null,null,null,null,null,null,null,null,null,null,null,null,null,null,null,null,null,null,null,null,null,null,null,null,null,null,null,null,null,null,null,null,null,null,null,null,null,null,null,null,null,null,null,null,null,null,null,null,null,{"$f":"OFFSET(Data1!$D110,0,$E$20)","v":0},{"$f":"OFFSET(Data1!$D110,0,$E$21)","v":0}]
[null,null,null,null,null,null,null,null,null,null,null,null,null,null,null,null,null,null,null,null,null,null,null,null,null,null,null,null,null,null,null,null,null,null,null,null,null,null,null,null,null,null,null,null,null,null,null,null,null,null,null,null,null,null,null,null,null,null,null,null,null,null,null,{"$f":"OFFSET(Data1!$D111,0,$E$20)","v":0},{"$f":"OFFSET(Data1!$D111,0,$E$21)","v":0}]

{"sheet":"Data1","index":4,"n_rows":32,"n_cols":12,"rows_kept":32,"cut":false,"hidden":false,"merged":[[2,2,2,8]]}
[]
[]
[null,null,"Data"]
[]
[null,null,null,"Quantile for highlighting  green",0.9]
[null,null,null,"Quantile for highlighting red",0.1]
[]
[null,null,null,null,"Financial Score","ROE ","ROA","EPS growth 5 Yr.","EPS growth 10 Yr.","NP margin ","Sales growth 5 Yr.","Debt/Net Profit"]
[null,null,null,"Targets",{"$f":"AVERAGE(E12:E10000)","v":42.357142857142854},{"$f":"AVERAGE(F12:F10000)","v":0.30335474994575484},{"$f":"AVERAGE(G12:G10000)","v":0.17008059924560309},{"$f":"AVERAGE(H12:H10000)","v":0.24418749347517915},{"$f":"AVERAGE(I12:I10000)","v":0.27398131956211624},0.11011063753201035,0.16268159205862517,0.81467354350903265]
[]
[null,null,"No.","Sherwood Segment",{"$f":"E8","v":"Financial Score"},{"$f":"F8","v":"ROE "},"ROA","EPS growth 5 Yr.","EPS growth 10 Yr.","NP margin ","Sales growth 5 Yr.","Debt/Net Profit"]
[null,null,1,{"$f":"[1]Qualitative!$D$2","v":"Britannia"},{"$f":"[1]Scorecard!$C$5","v":46.5},{"$f":"[1]Analysis!$M$4","v":0.43985977851111535},{"$f":"[1]Analysis!$O$4","v":0.24194475666317833},{"$f":"[1]Analysis!$I$13","v":0.38700726807916963},{"$f":"[1]Analysis!$I$12","v":0.23994296296972806},{"$f":"[1]Analysis!$F$4","v":9.4250053473244472E-2},{"$f":"[1]Analysis!$E$13","v":0.13479017709633467},{"$f":"[1]Analysis!$L$4","v":9.0776809195156831E-4}]
[null,null,{"$f":"C12+1","v":2},{"$f":"[2]Qualitative!$D$2","v":"Marico"},{"$f":"[2]Scorecard!$C$5","v":46},{"$f":"[2]Analysis!$M$4","v":0.35130005150607591},{"$f":"[2]Analysis!$O$4","v":0.21263170048783309},{"$f":"[2]Analysis!$I$13","v":0.19823954638325181},{"$f":"[2]Analysis!$I$12","v":0.2256287837812001},{"$f":"[2]Analysis!$F$4","v":0.12012641796204855},{"$f":"[2]Analysis!$E$13","v":0.14359899192350989},{"$f":"[2]Analysis!$L$4","v":0.45080231326871373}]
[null,null,{"$f":"C13+1","v":3},{"$f":"[3]Qualitative!$D$2","v":"Dabur India"},{"$f":"[3]Scorecard!$C$5","v":43.5},{"$f":"[3]Analysis!$M$4","v":0.30178578725838773},{"$f":"[3]Analysis!$O$4","v":0.17551180750110457},{"$f":"[3]Analysis!$I$13","v":0.16868953582627055},{"$f":"[3]Analysis!$I$12","v":0.17777535715289483},{"$f":"[3]Analysis!$F$4","v":0.14850331558240942},{"$f":"[3]Analysis!$E$13","v":0.15697069263424912},{"$f":"[3]Analysis!$L$4","v":0.63020430921183601}]
[null,null,4,{"$f":"[4]Qualitative!$D$2","v":"Mayur Uniquoter"},{"$f":"[4]Scorecard!$C$5","v":41},{"$f":"[4]Analysis!$M$4","v":0.24117973751132674},{"$f":"[4]Analysis!$O$4","v":0.18658555889735645},{"$f":"[4]Analysis!$I$13","v":0.18039447526983055},{"$f":"[4]Analysis!$I$12","v":0.40471788912301765},{"$f":"[4]Analysis!$F$4","v":0.16146139094360298},{"$f":"[4]Analysis!$E$13","v":0.15505145487786032},{"$f":"[4]Analysis!$L$4","v":0.31353775299963643}]
[null,null,5,{"$f":"[5]Qualitative!$D$2","v":"Titan Company"},{"$f":"[5]Scorecard!$C$5","v":42},{"$f":"[5]Analysis!$M$4","v":0.20080521254196804},{"$f":"[5]Analysis!$O$4","v":0.110070838363138},{"$f":"[5]Analysis!$I$13","v":0.10399222086303128},{"$f":"[5]Analysis!$I$12","v":0.25090869466418542},{"$f":"[5]Analysis!$F$4","v":6.265241425962742E-2},{"$f":"[5]Analysis!$E$13","v":0.11552962209224438},{"$f":"[5]Analysis!$L$4","v":0.16018420120439228}]
[null,null,6,{"$f":"[6]Qualitative!$D$2","v":"Amara Raja Batt"},{"$f":"[6]Scorecard!$C$5","v":49},{"$f":"[6]Analysis!$M$4","v":0.23288479473173324},{"$f":"[6]Analysis!$O$4","v":0.16794773251345113},{"$f":"[6]Analysis!$I$13","v":0.27007876481499915},{"$f":"[6]Analysis!$I$12","v":0.2719228627734831},{"$f":"[6]Analysis!$F$4","v":0.10434330276911397},{"$f":"[6]Analysis!$E$13","v":0.21644545120282732},{"$f":"[6]Analysis!$L$4","v":0.15147924158221646}]
[null,null,7,{"$f":"[7]Qualitative!$D$2","v":"Pidilite Ind"},{"$f":"[7]Scorecard!$C$5","v":44},{"$f":"[7]Analysis!$M$4","v":0.27179463223747813},{"$f":"[7]Analysis!$O$4","v":0.19252237966396785},{"$f":"[7]Analysis!$I$13","v":0.19193073454726317},{"$f":"[7]Analysis!$I$12","v":0.14348747260527728},{"$f":"[7]Analysis!$F$4","v":0.14086731415694351},{"$f":"[7]Analysis!$E$13","v":0.15107008045976267},{"$f":"[7]Analysis!$L$4","v":0.11208651735899941}]
[null,null,8,{"$f":"[8]Qualitative!$D$2","v":"Colgate"},{"$f":"[8]Scorecard!$C$5","v":41},{"$f":"[8]Analysis!$M$4","v":0.56550952946138644},{"$f":"[8]Analysis!$O$4","v":0.29214109443963032},{"$f":"[8]Analysis!$I$13","v":7.4461676542965982E-2},{"$f":"[8]Analysis!$I$12","v":0.3933665269312463},{"$f":"[8]Analysis!$F$4","v":0.13851029120988678},{"$f":"[8]Analysis!$E$13","v":0.12731857373009481},{"$f":"[8]Analysis!$L$4","v":0}]
[null,null,9,{"$f":"[9]Qualitative!$D$2","v":"Emami"},{"$f":"[9]Scorecard!$C$5","v":32.5},{"$f":"[9]Analysis!$M$4","v":0.2555839046709521},{"$f":"[9]Analysis!$O$4","v":0.13457367366390721},{"$f":"[9]Analysis!$I$13","v":9.1467480194671325E-3},{"$f":"[9]Analysis!$I$12","v":0.12655499925700942},{"$f":"[9]Analysis!$F$4","v":0.13668014589582236},{"$f":"[9]Analysis!$E$13","v":0.16039980765678297},{"$f":"[9]Analysis!$L$4","v":1.8722882159388781}]
[null,null,10,{"$f":"[10]Qualitative!$D$2","v":"Godrej Consumer"},{"$f":"[10]Scorecard!$C$5","v":38},{"$f":"[10]Analysis!$M$4","v":0.22733674926633296},{"$f":"[10]Analysis!$O$4","v":0.11379338109377704},{"$f":"[10]Analysis!$I$13","v":0.15625263947643142},{"$f":"[10]Analysis!$I$12","v":0.19985072953639094},{"$f":"[10]Analysis!$F$4","v":0.1292277601777915},{"$f":"[10]Analysis!$E$13","v":0.19411817173906165},{"$f":"[10]Analysis!$L$4","v":2.4947320280613337}]
[null,null,11,{"$f":"[11]Qualitative!$D$2","v":"Heritage Foods"},{"$f":"[11]Scorecard!$C$5","v":44.5},{"$f":"[11]Analysis!$M$4","v":0.23096795699820777},{"$f":"[11]Analysis!$O$4","v":9.5575556934960823E-2},{"$f":"[11]Analysis!$I$13","v":0.89746429720271936},{"$f":"[11]Analysis!$I$12","v":0.61464403131224143},{"$f":"[11]Analysis!$F$4","v":2.3284241655394854E-2},{"$f":"[11]Analysis!$E$13","v":0.16779688646103597},{"$f":"[11]Analysis!$L$4","v":2.2736785134403803}]
[null,null,12,{"$f":"[12]Qualitative!$D$2","v":"Page Industries"},{"$f":"[12]Scorecard!$C$5","v":44},{"$f":"[12]Analysis!$M$4","v":0.4605122520881994},{"$f":"[12]Analysis!$O$4","v":0.24491815358703098},{"$f":"[12]Analysis!$I$13","v":0.3177680234061504},{"$f":"[12]Analysis!$I$12","v":0.33711097302565673},{"$f":"[12]Analysis!$F$4","v":0.13045647992912537},{"$f":"[12]Analysis!$E$13","v":0.29400485705116108},{"$f":"[12]Analysis!$L$4","v":0.40784836241726108}]
[null,null,13,{"$f":"[13]Qualitative!$D$2","v":"Nestle"},{"$f":"[13]Scorecard!$C$5","v":33},{"$f":"[13]Analysis!$M$4","v":0.19989424523748731},{"$f":"[13]Analysis!$O$4","v":9.0901461956688578E-2},{"$f":"[13]Analysis!$I$13","v":-7.2056467894657805E-2},{"$f":"[13]Analysis!$I$12","v":6.6669315308989896E-2},{"$f":"[13]Analysis!$F$4","v":6.8898916371367108E-2},{"$f":"[13]Analysis!$E$13","v":5.5015872722089965E-2},{"$f":"[13]Analysis!$L$4","v":3.1476911605446696E-2}]
[null,null,14,{"$f":"[14]Qualitative!$D$2","v":"Tasty Bite"},{"$f":"[14]Scorecard!$C$5","v":48},{"$f":"[14]Analysis!$M$4","v":0.26755186721991697},{"$f":"[14]Analysis!$O$4","v":0.12201029367241899},{"$f":"[14]Analysis!$I$13","v":0.53525544611561582},{"$f":"[14]Analysis!$I$12","v":0.38315787542830626},{"$f":"[14]Analysis!$F$4","v":8.2286881061766196E-2},{"$f":"[14]Analysis!$E$13","v":0.20543164917373802},{"$f":"[14]Analysis!$L$4","v":2.5062034739454098}]
[null,null,15]
[null,null,16]
[null,null,17]
[null,null,18]
[null,null,19]
[null,null,20]
[null,null,21]

{"sheet":"Data2","index":5,"n_rows":32,"n_cols":12,"rows_kept":32,"cut":false,"hidden":false,"merged":[[2,2,2,8]]}
[]
[]
[null,null,"Data"]
[]
[null,null,null,"Quantile for highlighting  green",0.9]
[null,null,null,"Quantile for highlighting red",0.1]
[]
[null,null,null,null,"Total Score","Promoter Pledge%","Promoter Holding 5 Yr.","CFO/PAT 5 Yr.","Current ratio","Current Cash flow","BVPS 5 Yr.",{"$f":"[1]Analysis!$H$2","v":"Receivables/\nSales"}]
[null,null,null,"Targets",{"$f":"AVERAGE(E12:E10000)","v":80.285714285714292},{"$f":"AVERAGE(F12:F10000)","v":1.5142857142857142E-2},{"$f":"AVERAGE(G12:G10000)","v":-7.7450810853494844E-3},{"$f":"AVERAGE(H12:H10000)","v":1.1393839131178642},{"$f":"AVERAGE(I12:I10000)","v":1.5769788472128059},1,0.22649145779635213,7.6390151543915694E-2]
[]
[null,null,"No.","Sherwood Segment",{"$f":"E8","v":"Total Score"},{"$f":"F8","v":"Promoter Pledge%"},"Promoter Holding 5 Yr.","CFO/PAT 5 Yr.","Current ratio","Current Cash flow","BVPS 5 Yr.","Receivables/\nSales"]
[null,null,1,{"$f":"[1]Qualitative!$D$2","v":"Britannia"},{"$f":"[1]Scorecard!$C$4","v":84.5},{"$f":"[1]Analysis!$F$16","v":0},{"$f":"[1]Analysis!$M$13","v":-1.0810295393128833E-3},{"$f":"[1]Analysis!$H$8","v":1.1518358511337043},{"$f":"[1]Analysis!$J$4","v":1.0681762686545726},{"$f":"IF([1]Analysis!$E$9>0, 1, 0)","v":1},{"$f":"[1]Analysis!$J$13","v":0.30307665589770849},{"$f":"[1]Analysis!$H$4","v":1.342492985568515E-2}]
[null,null,{"$f":"C12+1","v":2},{"$f":"[2]Qualitative!$D$2","v":"Marico"},{"$f":"[2]Scorecard!$C$4","v":84},{"$f":"[2]Analysis!$F$16","v":0},{"$f":"[2]Analysis!$M$13","v":-1.1062169169399838E-2},{"$f":"[2]Analysis!$H$8","v":1.1697808761039414},{"$f":"[2]Analysis!$J$4","v":1.9001439071267832},{"$f":"IF([2]Analysis!$E$9>0,1,0)","v":1},{"$f":"[2]Analysis!$J$13","v":0.17460657647505817},{"$f":"[2]Analysis!$H$4","v":4.1164115041650087E-2}]
[null,null,{"$f":"C13+1","v":3},{"$f":"[3]Qualitative!$D$2","v":"Dabur India"},{"$f":"[3]Scorecard!$C$4","v":81.5},{"$f":"[3]Analysis!$F$16","v":0},{"$f":"[3]Analysis!$M$13","v":-2.3021840587456044E-3},{"$f":"[3]Analysis!$H$8","v":1.0095241781659987},{"$f":"[3]Analysis!$J$4","v":1.1965328682635274},{"$f":"IF([3]Analysis!$E$9>0,1,0)","v":1},{"$f":"[3]Analysis!$J$13","v":0.24232054644192402},{"$f":"[3]Analysis!$H$4","v":9.5776920329026904E-2}]
[null,null,4,{"$f":"[4]Qualitative!$D$2","v":"Mayur Uniquoter"},{"$f":"[4]Scorecard!$C$4","v":79},{"$f":"[4]Analysis!$F$16","v":0},{"$f":"[4]Analysis!$M$13","v":-4.9748766722175208E-2},{"$f":"[4]Analysis!$H$8","v":0.79361423154612121},{"$f":"[4]Analysis!$J$4","v":2.7301630068705371},{"$f":"IF([4]Analysis!$E$9>0,1,0)","v":1},{"$f":"[4]Analysis!$J$13","v":0.3152243716010148},{"$f":"[4]Analysis!$H$4","v":0.2422997142968964}]
[null,null,5,{"$f":"[5]Qualitative!$D$2","v":"Titan Company"},{"$f":"[5]Scorecard!$C$4","v":80},{"$f":"[5]Analysis!$F$16","v":0},{"$f":"[5]Analysis!$M$13","v":0},{"$f":"[5]Analysis!$H$8","v":0.35296623856889858},{"$f":"[5]Analysis!$J$4","v":1.9622467341683036},{"$f":"IF([5]Analysis!$E$9>0,1,0)","v":1},{"$f":"[5]Analysis!$J$13","v":0.27937603834573999},{"$f":"[5]Analysis!$H$4","v":1.7322515897245601E-2}]
[null,null,6,{"$f":"[6]Qualitative!$D$2","v":"Amara Raja Batt"},{"$f":"[6]Scorecard!$C$4","v":87},{"$f":"[6]Analysis!$F$16","v":0},{"$f":"[6]Analysis!$M$13","v":0},{"$f":"[6]Analysis!$H$8","v":1.0719696097617133},{"$f":"[6]Analysis!$J$4","v":1.9796874576822034},{"$f":"IF([6]Analysis!$E$9>0,1,0)","v":1},{"$f":"[6]Analysis!$J$13","v":0.26611913973007151},{"$f":"[6]Analysis!$H$4","v":0.12623996145539976}]
[null,null,7,{"$f":"[7]Qualitative!$D$2","v":"Pidilite Ind"},{"$f":"[7]Scorecard!$C$4","v":82},{"$f":"[7]Analysis!$F$16","v":0},{"$f":"[7]Analysis!$M$13","v":-4.1243856794186406E-3},{"$f":"[7]Analysis!$H$8","v":1.0784531646291069},{"$f":"[7]Analysis!$J$4","v":1.6477429083027049},{"$f":"IF([7]Analysis!$E$9>0,1,0)","v":1},{"$f":"[7]Analysis!$J$13","v":0.20426656212009742},{"$f":"[7]Analysis!$H$4","v":0.13584259095438081}]
[null,null,8,{"$f":"[8]Qualitative!$D$2","v":"Colgate"},{"$f":"[8]Scorecard!$C$4","v":79},{"$f":"[8]Analysis!$F$16","v":0},{"$f":"[8]Analysis!$M$13","v":0},{"$f":"[8]Analysis!$H$8","v":1.0640036660811121},{"$f":"[8]Analysis!$J$4","v":0.89814038324458045},{"$f":"IF([8]Analysis!$E$9>0,1,0)","v":1},{"$f":"[8]Analysis!$J$13","v":0.21561859897910685},{"$f":"[8]Analysis!$H$4","v":2.4395224744071173E-2}]
[null,null,9,{"$f":"[9]Qualitative!$D$2","v":"Emami"},{"$f":"[9]Scorecard!$C$4","v":71.5},{"$f":"[9]Analysis!$F$16","v":0.21},{"$f":"[9]Analysis!$M$13","v":0},{"$f":"[9]Analysis!$H$8","v":1.1932780958451008},{"$f":"[9]Analysis!$J$4","v":1.0238022633326558},{"$f":"IF([9]Analysis!$E$9>0,1,0)","v":1},{"$f":"[9]Analysis!$J$13","v":6.279870253812847E-2},{"$f":"[9]Analysis!$H$4","v":4.9600006098049002E-2}]
[null,null,10,{"$f":"[10]Qualitative!$D$2","v":"Godrej Consumer"},{"$f":"[10]Scorecard!$C$4","v":76},{"$f":"[10]Analysis!$F$16","v":2E-3},{"$f":"[10]Analysis!$M$13","v":-2.7075529494952066E-3},{"$f":"[10]Analysis!$H$8","v":1.0766881477559107},{"$f":"[10]Analysis!$J$4","v":1.6593087238539466},{"$f":"IF([10]Analysis!$E$9>0,1,0)","v":1},{"$f":"[10]Analysis!$J$13","v":0.22935145580333871},{"$f":"[10]Analysis!$H$4","v":0.12466923362560091}]
[null,null,11,{"$f":"[11]Qualitative!$D$2","v":"Heritage Foods"},{"$f":"[11]Scorecard!$C$4","v":79.5},{"$f":"[11]Analysis!$F$16","v":0},{"$f":"[11]Analysis!$M$13","v":0},{"$f":"[11]Analysis!$H$8","v":2.1711113472163235},{"$f":"[11]Analysis!$J$4","v":1.2029540992801722},{"$f":"IF([11]Analysis!$E$9>0,1,0)","v":1},{"$f":"[11]Analysis!$J$13","v":6.626092182592247E-2},{"$f":"[11]Analysis!$H$4","v":1.2093691453343302E-2}]
[null,null,12,{"$f":"[12]Qualitative!$D$2","v":"Page Industries"},{"$f":"[12]Scorecard!$C$4","v":82},{"$f":"[12]Analysis!$F$16","v":0},{"$f":"[12]Analysis!$M$13","v":-3.9118503946291128E-2},{"$f":"[12]Analysis!$H$8","v":0.85087898089171976},{"$f":"[12]Analysis!$J$4","v":2.1049622684655844},{"$f":"IF([12]Analysis!$E$9>0,1,0)","v":1},{"$f":"[12]Analysis!$J$13","v":0.32486927565046275},{"$f":"[12]Analysis!$H$4","v":5.8000594360305698E-2}]
[null,null,13,{"$f":"[13]Qualitative!$D$2","v":"Nestle"},{"$f":"[13]Scorecard!$C$4","v":71},{"$f":"[13]Analysis!$F$16","v":0},{"$f":"[13]Analysis!$M$13","v":0},{"$f":"[13]Analysis!$H$8","v":1.5098507121156715},{"$f":"[13]Analysis!$J$4","v":0.51858717255989428},{"$f":"IF([13]Analysis!$E$9>0,1,0)","v":1},{"$f":"[13]Analysis!$J$13","v":0.26925062507260278},{"$f":"[13]Analysis!$H$4","v":9.5922968058703584E-3}]
[null,null,14,{"$f":"[14]Qualitative!$D$2","v":"Tasty Bite"},{"$f":"[14]Scorecard!$C$4","v":87},{"$f":"[14]Analysis!$F$16","v":0},{"$f":"[14]Analysis!$M$13","v":1.7134568699457287E-3},{"$f":"[14]Analysis!$H$8","v":1.4574196838347786},{"$f":"[14]Analysis!$J$4","v":2.1852557991738162},{"$f":"IF([14]Analysis!$E$9>0,1,0)","v":1},{"$f":"[14]Analysis!$J$13","v":0.2177409386677529},{"$f":"[14]Analysis!$H$4","v":0.11904032669729453}]
[null,null,15]
[null,null,16]
[null,null,17]
[null,null,18]
[null,null,19]
[null,null,20]
[null,null,21]

{"sheet":"Valuation","index":6,"n_rows":23,"n_cols":6,"rows_kept":23,"cut":false,"hidden":false,"merged":[]}
[]
[null,null,"No.","Sherwood Segment","Distance Covered","Distance Left"]
[null,null,1,{"$f":"[1]Qualitative!$D$2","v":"Britannia"},{"$f":"[1]Dashboard!$K$6","v":0.45749257334676435},{"$f":"[1]Dashboard!$K$7","v":0.12238842703295205}]
[null,null,{"$f":"C3+1","v":2},{"$f":"[2]Qualitative!$D$2","v":"Marico"},{"$f":"[2]Dashboard!$K$6","v":0.29263597998121438},{"$f":"[2]Dashboard!$K$7","v":0.14851834106401385}]
[null,null,{"$f":"C4+1","v":3},{"$f":"[3]Qualitative!$D$2","v":"Dabur India"},{"$f":"[3]Dashboard!$K$6","v":6.5541708768851181E-2},{"$f":"[3]Dashboard!$K$7","v":0.1637616573103049}]
[null,null,4,{"$f":"[4]Qualitative!$D$2","v":"Mayur Uniquoter"},{"$f":"[4]Dashboard!$K$6","v":0.37693490180771622},{"$f":"[4]Dashboard!$K$7","v":0.13672592629944003}]
[null,null,5,{"$f":"[5]Qualitative!$D$2","v":"Titan Company"},{"$f":"[5]Dashboard!$K$6","v":0.41883514030132551},{"$f":"[5]Dashboard!$K$7","v":3.6198132898048963E-2}]
[null,null,6,{"$f":"[6]Qualitative!$D$2","v":"Amara Raja Batt"},{"$f":"[6]Dashboard!$K$6","v":0.56256681160604149},{"$f":"[6]Dashboard!$K$7","v":0.10311771553210147}]
[null,null,7,{"$f":"[7]Qualitative!$D$2","v":"Pidilite Ind"},{"$f":"[7]Dashboard!$K$6","v":0.19527509641617802},{"$f":"[7]Dashboard!$K$7","v":0.15716796409914346}]
[null,null,8,{"$f":"[8]Qualitative!$D$2","v":"Colgate"},{"$f":"[8]Dashboard!$K$6","v":0.15705122731613153},{"$f":"[8]Dashboard!$K$7","v":5.9852616101919942E-2}]
[null,null,9,{"$f":"[9]Qualitative!$D$2","v":"Emami"},{"$f":"[9]Dashboard!$K$6","v":1.3482754402736239},{"$f":"[9]Dashboard!$K$7","v":2.1127862044882484E-2}]
[null,null,10,{"$f":"[10]Qualitative!$D$2","v":"Godrej Consumer"},{"$f":"[10]Dashboard!$K$6","v":0.33210529508500125},{"$f":"[10]Dashboard!$K$7","v":0.1382193858982752}]
[null,null,11,{"$f":"[11]Qualitative!$D$2","v":"Heritage Foods"},{"$f":"[11]Dashboard!$K$6","v":1.1979797428619465},{"$f":"[11]Dashboard!$K$7","v":3.3735786785838107E-2}]
[null,null,12,{"$f":"[12]Qualitative!$D$2","v":"Page Industries"},{"$f":"[12]Dashboard!$K$6","v":0.44082826196118319},{"$f":"[12]Dashboard!$K$7","v":0.12309090693645564}]
[null,null,13,{"$f":"[13]Qualitative!$D$2","v":"Nestle"},{"$f":"[13]Dashboard!$K$6","v":0.43526897372887846},{"$f":"[13]Dashboard!$K$7","v":0.12486041526526281}]
[null,null,14,{"$f":"[14]Qualitative!$D$2","v":"Tasty Bite"},{"$f":"[14]Dashboard!$K$6","v":2.1110937990558996},{"$f":"[14]Dashboard!$K$7","v":3.8449947346884006E-2}]
[null,null,15]
[null,null,16]
[null,null,17]
[null,null,18]
[null,null,19]
[null,null,20]
[null,null,21]